BEGIN:VCALENDAR
VERSION:2.0
PRODID:-//Stuttgarti Katolikusok - ECPv6.15.20//NONSGML v1.0//EN
CALSCALE:GREGORIAN
METHOD:PUBLISH
X-ORIGINAL-URL:https://stuttgarti-katolikusok.de
X-WR-CALDESC:Események Stuttgarti Katolikusok
REFRESH-INTERVAL;VALUE=DURATION:PT1H
X-Robots-Tag:noindex
X-PUBLISHED-TTL:PT1H
BEGIN:VTIMEZONE
TZID:Europe/Berlin
BEGIN:DAYLIGHT
TZOFFSETFROM:+0100
TZOFFSETTO:+0200
TZNAME:CEST
DTSTART:20220327T010000
END:DAYLIGHT
BEGIN:STANDARD
TZOFFSETFROM:+0200
TZOFFSETTO:+0100
TZNAME:CET
DTSTART:20221030T010000
END:STANDARD
BEGIN:DAYLIGHT
TZOFFSETFROM:+0100
TZOFFSETTO:+0200
TZNAME:CEST
DTSTART:20230326T010000
END:DAYLIGHT
BEGIN:STANDARD
TZOFFSETFROM:+0200
TZOFFSETTO:+0100
TZNAME:CET
DTSTART:20231029T010000
END:STANDARD
BEGIN:DAYLIGHT
TZOFFSETFROM:+0100
TZOFFSETTO:+0200
TZNAME:CEST
DTSTART:20240331T010000
END:DAYLIGHT
BEGIN:STANDARD
TZOFFSETFROM:+0200
TZOFFSETTO:+0100
TZNAME:CET
DTSTART:20241027T010000
END:STANDARD
END:VTIMEZONE
BEGIN:VEVENT
DTSTART;TZID=Europe/Berlin:20231022T093000
DTEND;TZID=Europe/Berlin:20231022T103000
DTSTAMP:20260423T053349
CREATED:20240104T090912Z
LAST-MODIFIED:20240104T090912Z
UID:27855-1697967000-1697970600@stuttgarti-katolikusok.de
SUMMARY:Böblingen
DESCRIPTION:
URL:https://stuttgarti-katolikusok.de/index.php/esemeny/boblingen-16/
LOCATION:Baden-Württemberg
CATEGORIES:Szentmisék helye és ideje
END:VEVENT
BEGIN:VEVENT
DTSTART;TZID=Europe/Berlin:20231022T093000
DTEND;TZID=Europe/Berlin:20231022T113000
DTSTAMP:20260423T053349
CREATED:20231016T235126Z
LAST-MODIFIED:20231016T235126Z
UID:27348-1697967000-1697974200@stuttgarti-katolikusok.de
SUMMARY:Szentmise Böblingenben
DESCRIPTION:Október 22-én\, Évközi 29. vasárnap\, Böblingenben 9.30 órakor szentmise\, utána agapé. \nMindenkit szeretettel vár a közösség és Tibor atya! \n* \n \n* \nBensőséges őszi napokat\, jó munkát\, tartalmas beszélgetéseket és örömteli találkozásokat kívánunk minden Kedves Hívünknek! \n* \n„Csak az képes a mások életéért önmagát mélyen és állandóan odaadni\, aki a saját életakaratáért való odaadásban az eseményektől való belső szabadságot megtapasztalta.” (Albert Schweitzer – 1875-1965)
URL:https://stuttgarti-katolikusok.de/index.php/esemeny/szentmise-boblingenben-5/
LOCATION:St. Bonifatius Kirche\, Sindelfinger Str. 14\, Böblingen\, Baden-Württemberg\, 71032\, Németország
CATEGORIES:Szentmise
ATTACH;FMTTYPE=image/jpeg:https://stuttgarti-katolikusok.de/wp-content/uploads/2021/11/boblingen.jpeg
END:VEVENT
BEGIN:VEVENT
DTSTART;TZID=Europe/Berlin:20231022T153000
DTEND;TZID=Europe/Berlin:20231022T163000
DTSTAMP:20260423T053349
CREATED:20240104T090918Z
LAST-MODIFIED:20240104T090918Z
UID:27890-1697988600-1697992200@stuttgarti-katolikusok.de
SUMMARY:Heilbronn
DESCRIPTION:
URL:https://stuttgarti-katolikusok.de/index.php/esemeny/heilbronn-18/
LOCATION:Baden-Württemberg
CATEGORIES:Szentmisék helye és ideje
END:VEVENT
BEGIN:VEVENT
DTSTART;TZID=Europe/Berlin:20231022T153000
DTEND;TZID=Europe/Berlin:20231022T173000
DTSTAMP:20260423T053349
CREATED:20231016T235441Z
LAST-MODIFIED:20231016T235441Z
UID:27350-1697988600-1697995800@stuttgarti-katolikusok.de
SUMMARY:Szentmise Heilbronnban
DESCRIPTION:Október 22-én\, Évközi 29. vasárnap\, Heilbronnban 15.30 órakor szentmise\, utána agapé. \nMindenkit szeretettel vár a közösség és Tibor atya! \n* \n \n* \nBensőséges őszi napokat\, jó munkát\, tartalmas beszélgetéseket és örömteli találkozásokat kívánunk minden Kedves Hívünknek! \n* \n„Csak az képes a mások életéért önmagát mélyen és állandóan odaadni\, aki a saját életakaratáért való odaadásban az eseményektől való belső szabadságot megtapasztalta.” (Albert Schweitzer – 1875-1965)
URL:https://stuttgarti-katolikusok.de/index.php/esemeny/szentmise-heilbronnban-5/
LOCATION:Heilig Geist Kirche\, Heilbronner-Weg 17\, Heilbronn-Horkheim\, Baden-Württemberg\, 74081\, Németország
CATEGORIES:Szentmise
ATTACH;FMTTYPE=image/jpeg:https://stuttgarti-katolikusok.de/wp-content/uploads/2021/05/heiliggeist-aussenansicht.jpg
END:VEVENT
BEGIN:VEVENT
DTSTART;TZID=Europe/Berlin:20231028T160000
DTEND;TZID=Europe/Berlin:20231028T170000
DTSTAMP:20260423T053349
CREATED:20240104T090912Z
LAST-MODIFIED:20240104T090912Z
UID:27856-1698508800-1698512400@stuttgarti-katolikusok.de
SUMMARY:Tuttlingen
DESCRIPTION:
URL:https://stuttgarti-katolikusok.de/index.php/esemeny/tuttlingen-18/
LOCATION:Baden-Württemberg
CATEGORIES:Szentmisék helye és ideje
END:VEVENT
BEGIN:VEVENT
DTSTART;TZID=Europe/Berlin:20231028T160000
DTEND;TZID=Europe/Berlin:20231028T180000
DTSTAMP:20260423T053349
CREATED:20231024T131023Z
LAST-MODIFIED:20231024T131043Z
UID:27369-1698508800-1698516000@stuttgarti-katolikusok.de
SUMMARY:Szentmise Tuttlingenben
DESCRIPTION:Október 28-án\, szombaton\, 16.00 órakor Tuttlingenben szentmise\, utána agapé.  \n* \n \n* \n \n* \nMindenkit szeretettel vár a közösség és Tibor atya! \n* \nBensőséges őszi napokat\, jó munkát\, tartalmas beszélgetéseket és örömteli találkozásokat kívánunk minden Kedves Hívünknek! \n  \n* \n„A szent semmi más nem akar lenni\, csak az isteni akarat puszta eszköze. Egyszerűen ablak\, amelyen keresztül Isten kegyelme a világra ragyog.” (Thomas Merton – 1915-1968 – trappista szerzetes\, lelkiségi író\, költő) \n(Kép forrása: pixabay.com)
URL:https://stuttgarti-katolikusok.de/index.php/esemeny/27369/
LOCATION:St. Gallus Kirche\, Guttenbergstrasse 9\, Tuttlingen\, Baden-Württemberg\, 78532\, Németország
CATEGORIES:Szentmise
ATTACH;FMTTYPE=image/jpeg:https://stuttgarti-katolikusok.de/wp-content/uploads/2021/05/sankt-gallus-tuttlingen-1.jpg
END:VEVENT
BEGIN:VEVENT
DTSTART;TZID=Europe/Berlin:20231029T090000
DTEND;TZID=Europe/Berlin:20231029T100000
DTSTAMP:20260423T053349
CREATED:20240104T090912Z
LAST-MODIFIED:20240104T090912Z
UID:27857-1698570000-1698573600@stuttgarti-katolikusok.de
SUMMARY:Ludwigsburg
DESCRIPTION:
URL:https://stuttgarti-katolikusok.de/index.php/esemeny/ludwigsburg-12/
LOCATION:Baden-Württemberg
CATEGORIES:Szentmisék helye és ideje
END:VEVENT
BEGIN:VEVENT
DTSTART;TZID=Europe/Berlin:20231029T090000
DTEND;TZID=Europe/Berlin:20231029T110000
DTSTAMP:20260423T053349
CREATED:20231024T131815Z
LAST-MODIFIED:20231024T131815Z
UID:27372-1698570000-1698577200@stuttgarti-katolikusok.de
SUMMARY:Szentmise Ludwigsburgban
DESCRIPTION:Október 29-én\, Évközi 30. vasárnap\, Ludwigsburgban 9.00 órakor szentmise\, utána agapé. \n * \n \n* \n \n* \nMindenkit szeretettel vár a közösség és Tibor atya! \n* \nBensőséges őszi napokat\, jó munkát\, tartalmas beszélgetéseket és örömteli találkozásokat kívánunk minden Kedves Hívünknek! \n* \n„A szent semmi más nem akar lenni\, csak az isteni akarat puszta eszköze. Egyszerűen ablak\, amelyen keresztül Isten kegyelme a világra ragyog.” (Thomas Merton – 1915-1968 – trappista szerzetes\, lelkiségi író\, költő) \n(Kép forrása: pixabay.com)
URL:https://stuttgarti-katolikusok.de/index.php/esemeny/szentmise-ludwigsburgban-3/
LOCATION:St. Josef Kirche\, Park Str. 30\, Ludwigsburg-Hoheneck\, Baden-Württemberg\, 71642
CATEGORIES:Szentmise
ATTACH;FMTTYPE=image/jpeg:https://stuttgarti-katolikusok.de/wp-content/uploads/2021/04/ludwigsburg.jpeg
END:VEVENT
BEGIN:VEVENT
DTSTART;TZID=Europe/Berlin:20231029T163000
DTEND;TZID=Europe/Berlin:20231029T173000
DTSTAMP:20260423T053349
CREATED:20240104T090913Z
LAST-MODIFIED:20240104T090913Z
UID:27858-1698597000-1698600600@stuttgarti-katolikusok.de
SUMMARY:Reutlingen
DESCRIPTION:
URL:https://stuttgarti-katolikusok.de/index.php/esemeny/reutlingen-7/
LOCATION:Baden-Württemberg
CATEGORIES:Szentmisék helye és ideje
END:VEVENT
BEGIN:VEVENT
DTSTART;TZID=Europe/Berlin:20231029T163000
DTEND;TZID=Europe/Berlin:20231029T183000
DTSTAMP:20260423T053349
CREATED:20231024T132427Z
LAST-MODIFIED:20231024T134745Z
UID:27374-1698597000-1698604200@stuttgarti-katolikusok.de
SUMMARY:Szentmise Reutlingenben
DESCRIPTION:Október 29-én\, Évközi 30. vasárnap\, Reutlingenben 16.30 órakor szentmise\, utána agapé.    \n* \n \n* \n \n* \nMindenkit szeretettel vár a közösség és Tibor atya! \n* \nBensőséges őszi napokat\, jó munkát\, tartalmas beszélgetéseket és örömteli találkozásokat kívánunk minden Kedves Hívünknek! \n* \n„A szent semmi más nem akar lenni\, csak az isteni akarat puszta eszköze. Egyszerűen ablak\, amelyen keresztül Isten kegyelme a világra ragyog.” (Thomas Merton – 1915-1968 – trappista szerzetes\, lelkiségi író\, költő) \n(Kép forrása: pixabay.com)
URL:https://stuttgarti-katolikusok.de/index.php/esemeny/szentmise-reutlingenben-3/
LOCATION:St. Andreas Kirche\, Nürnberger Str. 184\, Reutlingen-Orschel-Hagen\, Baden-Württemberg\, 72760\, Németország
CATEGORIES:Szentmise
ATTACH;FMTTYPE=image/jpeg:https://stuttgarti-katolikusok.de/wp-content/uploads/2015/12/Reutlingen.jpg
END:VEVENT
BEGIN:VEVENT
DTSTART;TZID=Europe/Berlin:20231101T110000
DTEND;TZID=Europe/Berlin:20231101T120000
DTSTAMP:20260423T053349
CREATED:20240104T090913Z
LAST-MODIFIED:20240104T090913Z
UID:27859-1698836400-1698840000@stuttgarti-katolikusok.de
SUMMARY:Weingarten - Mindenszentek ünnepe
DESCRIPTION:
URL:https://stuttgarti-katolikusok.de/index.php/esemeny/weingarten-mindenszentek-unnepe-2/
LOCATION:Baden-Württemberg
CATEGORIES:Szentmisék helye és ideje
END:VEVENT
BEGIN:VEVENT
DTSTART;TZID=Europe/Berlin:20231101T110000
DTEND;TZID=Europe/Berlin:20231101T130000
DTSTAMP:20260423T053349
CREATED:20231024T133752Z
LAST-MODIFIED:20231024T133752Z
UID:27377-1698836400-1698843600@stuttgarti-katolikusok.de
SUMMARY:Mindenszentek ünnepe Weingartenben
DESCRIPTION:November 1-jén\, szerdán\, Mindenszentek ünnepe\, Weingartenben 11.00 órakor a 14 Nothelfer Kapelle-ben szentmise\, utána a közeli temetőben (Marienfriedhof) imádkozunk halottjainkért. \n* \n \n* \n \n* \nMindenkit szeretettel vár a közösség és Tibor atya! \n* \nBensőséges őszi napokat\, jó munkát\, tartalmas beszélgetéseket és örömteli találkozásokat kívánunk minden Kedves Hívünknek! \n* \n„A szent semmi más nem akar lenni\, csak az isteni akarat puszta eszköze. Egyszerűen ablak\, amelyen keresztül Isten kegyelme a világra ragyog.” (Thomas Merton – 1915-1968 – trappista szerzetes\, lelkiségi író\, költő) \n(Kép forrása: pixabay.com)
URL:https://stuttgarti-katolikusok.de/index.php/esemeny/mindenszentek-unnepe-weingartenben/
LOCATION:14 Nothelfer  Kapelle\, Ravensburger Str. 39\, Weingarten\, Baden-Württemberg\, 88250\, Németország
CATEGORIES:Szentmise
ATTACH;FMTTYPE=image/jpeg:https://stuttgarti-katolikusok.de/wp-content/uploads/2015/12/Weingarten_Kapelle_14_Nothelfer.jpg
END:VEVENT
BEGIN:VEVENT
DTSTART;TZID=Europe/Berlin:20231101T170000
DTEND;TZID=Europe/Berlin:20231101T200000
DTSTAMP:20260423T053349
CREATED:20231024T134123Z
LAST-MODIFIED:20231024T134243Z
UID:27379-1698858000-1698868800@stuttgarti-katolikusok.de
SUMMARY:Mindenszentek ünnepe Stuttgartban
DESCRIPTION:November 1-jén\, szerdán\, Mindenszentek ünnepe\, Stuttgartban 18.00 órakor szentmise\, ezt megelőzően 17.00 órakor a közelben lévő temetőbe (Gablenberger Friedhof) látogatunk ki\, hogy halottjainkért imádkozzunk. Szentmise végeztével agapé a közösségi teremben. \n* \n \n* \n \n* \nMindenkit szeretettel vár a közösség és Tibor atya! \n* \nBensőséges őszi napokat\, jó munkát\, tartalmas beszélgetéseket és örömteli találkozásokat kívánunk minden Kedves Hívünknek! \n* \n„A szent semmi más nem akar lenni\, csak az isteni akarat puszta eszköze. Egyszerűen ablak\, amelyen keresztül Isten kegyelme a világra ragyog.” (Thomas Merton – 1915-1968 – trappista szerzetes\, lelkiségi író\, költő) \n(Kép forrása: pixabay.com)
URL:https://stuttgarti-katolikusok.de/index.php/esemeny/mindenszentek-unnepe-stuttgartban/
LOCATION:Bruder Klaus Kirche\, Albert-Schäffle-Straße 30\, Stuttgart\, Baden-Württemberg\, 70186\, Németország
ATTACH;FMTTYPE=image/jpeg:https://stuttgarti-katolikusok.de/wp-content/uploads/2015/12/013__2_klaus.jpg
END:VEVENT
BEGIN:VEVENT
DTSTART;TZID=Europe/Berlin:20231101T180000
DTEND;TZID=Europe/Berlin:20231101T190000
DTSTAMP:20260423T053349
CREATED:20240104T090913Z
LAST-MODIFIED:20240104T090913Z
UID:27860-1698861600-1698865200@stuttgarti-katolikusok.de
SUMMARY:Stuttgart - Mindenszentek ünnepe
DESCRIPTION:
URL:https://stuttgarti-katolikusok.de/index.php/esemeny/stuttgart-mindenszentek-unnepe-2/
LOCATION:Baden-Württemberg
CATEGORIES:Szentmisék helye és ideje
END:VEVENT
BEGIN:VEVENT
DTSTART;TZID=Europe/Berlin:20231103T173000
DTEND;TZID=Europe/Berlin:20231103T190000
DTSTAMP:20260423T053349
CREATED:20231030T103505Z
LAST-MODIFIED:20231030T103526Z
UID:27392-1699032600-1699038000@stuttgarti-katolikusok.de
SUMMARY:Stuttgarti délután
DESCRIPTION:November 3-án\, pénteken\, Stuttgarti délután. 17.30 órakor rózsafüzért imádkozunk halottjainkért\, utána 18.00 órakor szentmise és elsőpénteki ájtatosság. \nMindenkit szeretettel vár a közösség és Tibor atya! \n* \nBensőséges őszi napokat\, jó munkát\, tartalmas beszélgetéseket és örömteli találkozásokat kívánunk minden Kedves Hívünknek! \n* \n„A szent semmi más nem akar lenni\, csak az isteni akarat puszta eszköze. Egyszerűen ablak\, amelyen keresztül Isten kegyelme a világra ragyog.” (Thomas Merton – 1915-1968 – trappista szerzetes\, lelkiségi író\, költő)
URL:https://stuttgarti-katolikusok.de/index.php/esemeny/27392/
LOCATION:Bruder Klaus Kirche\, Albert-Schäffle-Straße 30\, Stuttgart\, Baden-Württemberg\, 70186\, Németország
CATEGORIES:Stuttgarti délután
ATTACH;FMTTYPE=image/jpeg:https://stuttgarti-katolikusok.de/wp-content/uploads/2015/12/013__2_klaus.jpg
END:VEVENT
BEGIN:VEVENT
DTSTART;TZID=Europe/Berlin:20231104T160000
DTEND;TZID=Europe/Berlin:20231104T170000
DTSTAMP:20260423T053349
CREATED:20240104T090913Z
LAST-MODIFIED:20240104T090913Z
UID:27861-1699113600-1699117200@stuttgarti-katolikusok.de
SUMMARY:Balingen
DESCRIPTION:
URL:https://stuttgarti-katolikusok.de/index.php/esemeny/balingen-35/
LOCATION:Baden-Württemberg
CATEGORIES:Szentmisék helye és ideje
END:VEVENT
BEGIN:VEVENT
DTSTART;TZID=Europe/Berlin:20231104T160000
DTEND;TZID=Europe/Berlin:20231104T180000
DTSTAMP:20260423T053349
CREATED:20231030T104234Z
LAST-MODIFIED:20231030T104259Z
UID:27395-1699113600-1699120800@stuttgarti-katolikusok.de
SUMMARY:Szentmise Balingenben
DESCRIPTION:*** \n \n* \n \n* \nNovember 4-én\, szombaton\, Balingenben 16.00 órakor szentmise\, utána agapé. \nMindenkit szeretettel vár a közösség és Tibor atya! \n* \nBensőséges őszi napokat\, jó munkát\, tartalmas beszélgetéseket és örömteli találkozásokat kívánunk minden Kedves Hívünknek! \n* \n„A szent semmi más nem akar lenni\, csak az isteni akarat puszta eszköze. Egyszerűen ablak\, amelyen keresztül Isten kegyelme a világra ragyog.” (Thomas Merton – 1915-1968 – trappista szerzetes\, lelkiségi író\, költő) \n(Kép forrása: pixabay.com)
URL:https://stuttgarti-katolikusok.de/index.php/esemeny/27395/
LOCATION:Sankt Paulus Kirche\, St. Paulus Str. 2\, Balingen-Frommern\, Baden-Württemberg\, 72336\, Németország
CATEGORIES:Szentmise
ATTACH;FMTTYPE=image/jpeg:https://stuttgarti-katolikusok.de/wp-content/uploads/2018/04/20180505_163840-e1764632638620.jpg
END:VEVENT
BEGIN:VEVENT
DTSTART;TZID=Europe/Berlin:20231105T093000
DTEND;TZID=Europe/Berlin:20231105T103000
DTSTAMP:20260423T053349
CREATED:20240104T090913Z
LAST-MODIFIED:20240104T090913Z
UID:27862-1699176600-1699180200@stuttgarti-katolikusok.de
SUMMARY:Schwäbisch-Gmünd
DESCRIPTION:
URL:https://stuttgarti-katolikusok.de/index.php/esemeny/schwabisch-gmund-37/
LOCATION:Baden-Württemberg
CATEGORIES:Szentmisék helye és ideje
END:VEVENT
BEGIN:VEVENT
DTSTART;TZID=Europe/Berlin:20231105T093000
DTEND;TZID=Europe/Berlin:20231105T113000
DTSTAMP:20260423T053349
CREATED:20231030T104707Z
LAST-MODIFIED:20231030T104707Z
UID:27398-1699176600-1699183800@stuttgarti-katolikusok.de
SUMMARY:Szentmise Schwäbisch-Gmündben
DESCRIPTION:*** \n \n* \n \n* \nNovember 5-én\, Évközi 31. vasárnap\, Schwäbisch-Gmündben 9.30 órakor szentmise\, utána agapé. \nMindenkit szeretettel vár a közösség és Tibor atya! \n* \nBensőséges őszi napokat\, jó munkát\, tartalmas beszélgetéseket és örömteli találkozásokat kívánunk minden Kedves Hívünknek! \n* \n„A szent semmi más nem akar lenni\, csak az isteni akarat puszta eszköze. Egyszerűen ablak\, amelyen keresztül Isten kegyelme a világra ragyog.” (Thomas Merton – 1915-1968 – trappista szerzetes\, lelkiségi író\, költő) \n(Kép forrása: pixabay.com)
URL:https://stuttgarti-katolikusok.de/index.php/esemeny/szentmise-schwabisch-gmundben-7/
LOCATION:Sankt Franziskus Kirche\, Franziskaner Str. 3\, Schwäbisch-Gmünd\, Baden-Württemberg\, 73525\, Németország
CATEGORIES:Szentmise
ATTACH;FMTTYPE=image/jpeg:https://stuttgarti-katolikusok.de/wp-content/uploads/2018/03/st-franziskus-schw-gmund.jpg
END:VEVENT
BEGIN:VEVENT
DTSTART;TZID=Europe/Berlin:20231105T150000
DTEND;TZID=Europe/Berlin:20231105T160000
DTSTAMP:20260423T053349
CREATED:20240104T090913Z
LAST-MODIFIED:20240104T090913Z
UID:27863-1699196400-1699200000@stuttgarti-katolikusok.de
SUMMARY:Stuttgart
DESCRIPTION:
URL:https://stuttgarti-katolikusok.de/index.php/esemeny/stuttgart-55/
LOCATION:Baden-Württemberg
CATEGORIES:Szentmisék helye és ideje
END:VEVENT
BEGIN:VEVENT
DTSTART;TZID=Europe/Berlin:20231105T153000
DTEND;TZID=Europe/Berlin:20231105T173000
DTSTAMP:20260423T053349
CREATED:20231030T105414Z
LAST-MODIFIED:20231030T105414Z
UID:27400-1699198200-1699205400@stuttgarti-katolikusok.de
SUMMARY:Szentmise Stuttgartban
DESCRIPTION:*** \n \n* \n \n* \nNovember 5-én\, Évközi 31. vasárnap\, Stuttgartban 15.00 órakor gyermek-szentmise\, utána agapé. \nMindenkit szeretettel vár a közösség és Tibor atya! \n* \nBensőséges őszi napokat\, jó munkát\, tartalmas beszélgetéseket és örömteli találkozásokat kívánunk minden Kedves Hívünknek! \n* \n„A szent semmi más nem akar lenni\, csak az isteni akarat puszta eszköze. Egyszerűen ablak\, amelyen keresztül Isten kegyelme a világra ragyog.” (Thomas Merton – 1915-1968 – trappista szerzetes\, lelkiségi író\, költő) \n(Kép forrása: pixabay.com)
URL:https://stuttgarti-katolikusok.de/index.php/esemeny/szentmise-stuttgartban-8/
LOCATION:Bruder Klaus Kirche\, Albert-Schäffle-Straße 30\, Stuttgart\, Baden-Württemberg\, 70186\, Németország
CATEGORIES:Szentmise
ATTACH;FMTTYPE=image/jpeg:https://stuttgarti-katolikusok.de/wp-content/uploads/2015/12/013__2_klaus.jpg
END:VEVENT
BEGIN:VEVENT
DTSTART;TZID=Europe/Berlin:20231110T173000
DTEND;TZID=Europe/Berlin:20231110T190000
DTSTAMP:20260423T053349
CREATED:20231107T000732Z
LAST-MODIFIED:20231107T000732Z
UID:27418-1699637400-1699642800@stuttgarti-katolikusok.de
SUMMARY:Stuttgarti délután
DESCRIPTION:November 10-én\, pénteken\, Stuttgarti délután\, 18.00 órakor szentmise\, keretében Beszélgetések a Katekizmusról.  \nMindenkit szeretettel vár a közösség és Tibor atya! \nBensőséges őszi napokat\, jó munkát\, tartalmas beszélgetéseket és örömteli találkozásokat kívánunk minden Kedves Hívünknek! \n* \n \n(Kép forrása: Lovas István) \n* \n„Ki-ki maga felelős azért\, hogy a saját életét élje és önmagát megtalálja. Ha ezt a felelősséget másra igyekszik áthárítani\, akkor nem fogja megtalálni saját létének értelmét.” (Thomas Merton – 1915-1968 – trappista szerzetes\, lelkiségi író\, költő)
URL:https://stuttgarti-katolikusok.de/index.php/esemeny/stuttgarti-delutan-26/
LOCATION:Bruder Klaus Kirche\, Albert-Schäffle-Straße 30\, Stuttgart\, Baden-Württemberg\, 70186\, Németország
CATEGORIES:Stuttgarti délután
ATTACH;FMTTYPE=image/jpeg:https://stuttgarti-katolikusok.de/wp-content/uploads/2015/12/013__2_klaus.jpg
END:VEVENT
BEGIN:VEVENT
DTSTART;TZID=Europe/Berlin:20231111T164500
DTEND;TZID=Europe/Berlin:20231111T174500
DTSTAMP:20260423T053349
CREATED:20240104T090920Z
LAST-MODIFIED:20240104T090920Z
UID:27905-1699721100-1699724700@stuttgarti-katolikusok.de
SUMMARY:Biberach - csere Weingarten búcsú!!!
DESCRIPTION:
URL:https://stuttgarti-katolikusok.de/index.php/esemeny/biberach-csere-weingarten-bucsu/
LOCATION:Baden-Württemberg
CATEGORIES:Szentmisék helye és ideje
END:VEVENT
BEGIN:VEVENT
DTSTART;TZID=Europe/Berlin:20231111T164500
DTEND;TZID=Europe/Berlin:20231111T190000
DTSTAMP:20260423T053349
CREATED:20231107T001058Z
LAST-MODIFIED:20231107T001058Z
UID:27420-1699721100-1699729200@stuttgarti-katolikusok.de
SUMMARY:Szentmise Biberachban
DESCRIPTION:November 11-én\, szombaton\, Biberachban 16.45 órakor szentmise\, utána agapé. \nMindenkit szeretettel vár a közösség és Tibor atya! \n* \nBensőséges őszi napokat\, jó munkát\, tartalmas beszélgetéseket és örömteli találkozásokat kívánunk minden Kedves Hívünknek! \n* \n \n(Kép forrása: Lovas István) \n* \n„Ki-ki maga felelős azért\, hogy a saját életét élje és önmagát megtalálja. Ha ezt a felelősséget másra igyekszik áthárítani\, akkor nem fogja megtalálni saját létének értelmét.” (Thomas Merton – 1915-1968 – trappista szerzetes\, lelkiségi író\, költő)
URL:https://stuttgarti-katolikusok.de/index.php/esemeny/szentmise-biberachban-6/
LOCATION:Dreifaltigkeitskirche Biberach\, Mittelbergstr. 29\, Biberach an der Riß\, Baden Württemberg\, 88400\, Németország
CATEGORIES:Szentmise
ATTACH;FMTTYPE=image/jpeg:https://stuttgarti-katolikusok.de/wp-content/uploads/2023/03/csm-dreifaltigkeitskirche-7285105d03.jpg
END:VEVENT
BEGIN:VEVENT
DTSTART;TZID=Europe/Berlin:20231112T100000
DTEND;TZID=Europe/Berlin:20231112T110000
DTSTAMP:20260423T053349
CREATED:20231107T001434Z
LAST-MODIFIED:20231107T001434Z
UID:27422-1699783200-1699786800@stuttgarti-katolikusok.de
SUMMARY:Szentmise Weingartenben
DESCRIPTION:November 12-én\, Évközi 32. vasárnap\, Weingartenben 10.00 órakor szentmise a 14 Nothelfer Kapelle-ben.  Az agapé ez alkalommal elmarad!!! \nMindenkit szeretettel vár a közösség és Tibor atya! \n* \nBensőséges őszi napokat\, jó munkát\, tartalmas beszélgetéseket és örömteli találkozásokat kívánunk minden Kedves Hívünknek! \n* \n \n(Kép forrása: Lovas István) \n* \n„Ki-ki maga felelős azért\, hogy a saját életét élje és önmagát megtalálja. Ha ezt a felelősséget másra igyekszik áthárítani\, akkor nem fogja megtalálni saját létének értelmét.” (Thomas Merton – 1915-1968 – trappista szerzetes\, lelkiségi író\, költő)
URL:https://stuttgarti-katolikusok.de/index.php/esemeny/szentmise-weingartenben-7/
LOCATION:14 Nothelfer  Kapelle\, Ravensburger Str. 39\, Weingarten\, Baden-Württemberg\, 88250\, Németország
CATEGORIES:Szentmise
ATTACH;FMTTYPE=image/jpeg:https://stuttgarti-katolikusok.de/wp-content/uploads/2015/12/Weingarten_Kapelle_14_Nothelfer.jpg
END:VEVENT
BEGIN:VEVENT
DTSTART;TZID=Europe/Berlin:20231112T100000
DTEND;TZID=Europe/Berlin:20231112T110000
DTSTAMP:20260423T053349
CREATED:20240104T090920Z
LAST-MODIFIED:20240104T090920Z
UID:27906-1699783200-1699786800@stuttgarti-katolikusok.de
SUMMARY:Weingarten - búcsú
DESCRIPTION:
URL:https://stuttgarti-katolikusok.de/index.php/esemeny/weingarten-bucsu-2/
LOCATION:Baden-Württemberg
CATEGORIES:Szentmisék helye és ideje
END:VEVENT
BEGIN:VEVENT
DTSTART;TZID=Europe/Berlin:20231112T150000
DTEND;TZID=Europe/Berlin:20231112T160000
DTSTAMP:20260423T053349
CREATED:20240104T090914Z
LAST-MODIFIED:20240104T090914Z
UID:27864-1699801200-1699804800@stuttgarti-katolikusok.de
SUMMARY:Ulm
DESCRIPTION:
URL:https://stuttgarti-katolikusok.de/index.php/esemeny/ulm-28/
LOCATION:Baden-Württemberg
CATEGORIES:Szentmisék helye és ideje
END:VEVENT
BEGIN:VEVENT
DTSTART;TZID=Europe/Berlin:20231112T150000
DTEND;TZID=Europe/Berlin:20231112T170000
DTSTAMP:20260423T053349
CREATED:20231107T001731Z
LAST-MODIFIED:20231107T001731Z
UID:27424-1699801200-1699808400@stuttgarti-katolikusok.de
SUMMARY:Szentmise Ulmban
DESCRIPTION:November 12-én\, Évközi 32. vasárnap\, Ulmban 15.00 órakor szentmise\, utána agapé. Erre a szentmisére várjuk nem csupán az Ulmban és környékén élő híveket\, hanem mindazokat\, akik el tudnak jönni a részegyházközségekből. Ugyanis Egyházmegyénk szervezésében Kapellengespräche podcast beszélgetésre kerül sor. Alkalom ez számunkra\, hogy hírt adjunk arról\, hogyan is élünk itt\, a Rottenburg-Stuttgart Egyházmegyében\, miért is fontos számunkra hitünk kincseinek anyanyelvünkön történő ápolása. \nMindenkit szeretettel vár a közösség és Tibor atya! \n* \nBensőséges őszi napokat\, jó munkát\, tartalmas beszélgetéseket és örömteli találkozásokat kívánunk minden Kedves Hívünknek! \n* \n \n(Kép forrása: Lovas István) \n* \n„Ki-ki maga felelős azért\, hogy a saját életét élje és önmagát megtalálja. Ha ezt a felelősséget másra igyekszik áthárítani\, akkor nem fogja megtalálni saját létének értelmét.” (Thomas Merton – 1915-1968 – trappista szerzetes\, lelkiségi író\, költő)
URL:https://stuttgarti-katolikusok.de/index.php/esemeny/szentmise-ulmban-5/
LOCATION:St. Michael zu den Wengen\, Wengengasse 6\, Ulm\, Baden-Württemberg\, 89073\, Németország
CATEGORIES:Szentmise
ATTACH;FMTTYPE=image/jpeg:https://stuttgarti-katolikusok.de/wp-content/uploads/2015/12/Wengenkirche1-e1483916551260.jpg
END:VEVENT
BEGIN:VEVENT
DTSTART;TZID=Europe/Berlin:20231117T180000
DTEND;TZID=Europe/Berlin:20231117T210000
DTSTAMP:20260423T053349
CREATED:20231113T200538Z
LAST-MODIFIED:20231113T200538Z
UID:27466-1700244000-1700254800@stuttgarti-katolikusok.de
SUMMARY:Stuttgarti délután
DESCRIPTION:November 17-én\, pénteken\, Stuttgarti délután\, \n18.00 órakor szentmise\, \n19.00 órakor Erasmus-Akadémia keretében előadás: \n \n* \n  \nMindenkit szeretettel vár a közösség és Tibor atya! \nBensőséges őszi napokat\, jó munkát\, tartalmas beszélgetéseket és örömteli találkozásokat kívánunk minden Kedves Hívünknek! \n* \n„ATYÁM\, \nRád hagyatkozom\, tedd velem azt\, ami neked tetszik. \nBármit teszel is velem\, megköszönöm. \nKész vagyok mindenre\, elfogadok mindent\, \ncsak akaratod teljesedjék\, bennem és minden teremtményedben. \nSemmi mást nem óhajtok\, Istenem! \nKezedbe ajánlom lelkemet\, neked adom\, Istenem\, \nszívem egész szeretetével\, \nmert szeretlek téged\, és a szeretet sürget\, \nhogy egészen neked adjam magam\, \nhogy fenntartás nélkül kezedbe helyezzem életemet \nhatártalan bizalommal\, \nmert te vagy az én Atyám!” \n(Boldog Charles de Foucauld – 1858-1916 – trappista szerzetes\, katolikus pap)
URL:https://stuttgarti-katolikusok.de/index.php/esemeny/stuttgarti-delutan-27/
LOCATION:Bruder Klaus Kirche\, Albert-Schäffle-Straße 30\, Stuttgart\, Baden-Württemberg\, 70186\, Németország
CATEGORIES:Erasmus Akadémia,Stuttgarti délután
ATTACH;FMTTYPE=image/jpeg:https://stuttgarti-katolikusok.de/wp-content/uploads/2015/12/013__2_klaus.jpg
END:VEVENT
BEGIN:VEVENT
DTSTART;TZID=Europe/Berlin:20231118T153000
DTEND;TZID=Europe/Berlin:20231118T163000
DTSTAMP:20260423T053349
CREATED:20240104T090914Z
LAST-MODIFIED:20240104T090914Z
UID:27865-1700321400-1700325000@stuttgarti-katolikusok.de
SUMMARY:Heidenheim
DESCRIPTION:
URL:https://stuttgarti-katolikusok.de/index.php/esemeny/heidenheim-17/
LOCATION:Baden-Württemberg
CATEGORIES:Szentmisék helye és ideje
END:VEVENT
END:VCALENDAR