BEGIN:VCALENDAR
VERSION:2.0
PRODID:-//Stuttgarti Katolikusok - ECPv6.15.20//NONSGML v1.0//EN
CALSCALE:GREGORIAN
METHOD:PUBLISH
X-ORIGINAL-URL:https://stuttgarti-katolikusok.de
X-WR-CALDESC:Események Stuttgarti Katolikusok
REFRESH-INTERVAL;VALUE=DURATION:PT1H
X-Robots-Tag:noindex
X-PUBLISHED-TTL:PT1H
BEGIN:VTIMEZONE
TZID:Europe/Berlin
BEGIN:DAYLIGHT
TZOFFSETFROM:+0100
TZOFFSETTO:+0200
TZNAME:CEST
DTSTART:20220327T010000
END:DAYLIGHT
BEGIN:STANDARD
TZOFFSETFROM:+0200
TZOFFSETTO:+0100
TZNAME:CET
DTSTART:20221030T010000
END:STANDARD
BEGIN:DAYLIGHT
TZOFFSETFROM:+0100
TZOFFSETTO:+0200
TZNAME:CEST
DTSTART:20230326T010000
END:DAYLIGHT
BEGIN:STANDARD
TZOFFSETFROM:+0200
TZOFFSETTO:+0100
TZNAME:CET
DTSTART:20231029T010000
END:STANDARD
BEGIN:DAYLIGHT
TZOFFSETFROM:+0100
TZOFFSETTO:+0200
TZNAME:CEST
DTSTART:20240331T010000
END:DAYLIGHT
BEGIN:STANDARD
TZOFFSETFROM:+0200
TZOFFSETTO:+0100
TZNAME:CET
DTSTART:20241027T010000
END:STANDARD
END:VTIMEZONE
BEGIN:VEVENT
DTSTART;TZID=Europe/Berlin:20230408T200000
DTEND;TZID=Europe/Berlin:20230408T213000
DTSTAMP:20260422T165612
CREATED:20230402T230127Z
LAST-MODIFIED:20230402T230154Z
UID:26574-1680984000-1680989400@stuttgarti-katolikusok.de
SUMMARY:Húsvéti vigília Stuttgartban
DESCRIPTION: * \n \nÁprilis 8-án\, Nagyszombat. Stuttgartban 20.00 órakor Húsvéti vigília\, feltámadási szertartás utána ételszentelés.  \n * \nMindenkit szeretettel vár a közösség és Tibor atya! \n* \n \n* \nKegyelemteljes Húsvétot kívánunk minden Kedves Hívünknek! \n* \n„A Húsvét a legnagyobb mélységeket és legnagyobb magasságokat megélő ünnepünk.” (Jókai Anna – költőnő – 1932-2017) \n(Képek forrása: Pixabay.com)
URL:https://stuttgarti-katolikusok.de/index.php/esemeny/husveti-vigilia-stuttgartban/
LOCATION:Bruder Klaus Kirche\, Albert-Schäffle-Straße 30\, Stuttgart\, Baden-Württemberg\, 70186\, Németország
CATEGORIES:Szent Három Nap
ATTACH;FMTTYPE=image/jpeg:https://stuttgarti-katolikusok.de/wp-content/uploads/2015/12/013__2_klaus.jpg
END:VEVENT
BEGIN:VEVENT
DTSTART;TZID=Europe/Berlin:20230408T200000
DTEND;TZID=Europe/Berlin:20230408T213000
DTSTAMP:20260422T165612
CREATED:20240104T090859Z
LAST-MODIFIED:20240104T090859Z
UID:27794-1680984000-1680989400@stuttgarti-katolikusok.de
SUMMARY:Stuttgart - Húsvét vigíliája
DESCRIPTION:
URL:https://stuttgarti-katolikusok.de/index.php/esemeny/stuttgart-husvet-vigiliaja-2/
LOCATION:Baden-Württemberg
CATEGORIES:Szentmisék helye és ideje
END:VEVENT
BEGIN:VEVENT
DTSTART;TZID=Europe/Berlin:20230409T113000
DTEND;TZID=Europe/Berlin:20230409T123000
DTSTAMP:20260422T165612
CREATED:20240104T090859Z
LAST-MODIFIED:20240104T090859Z
UID:27795-1681039800-1681043400@stuttgarti-katolikusok.de
SUMMARY:Stuttgart - Húsvét
DESCRIPTION:
URL:https://stuttgarti-katolikusok.de/index.php/esemeny/stuttgart-husvet-4/
LOCATION:Baden-Württemberg
CATEGORIES:Szentmisék helye és ideje
END:VEVENT
BEGIN:VEVENT
DTSTART;TZID=Europe/Berlin:20230409T113000
DTEND;TZID=Europe/Berlin:20230409T130000
DTSTAMP:20260422T165612
CREATED:20230402T230814Z
LAST-MODIFIED:20230402T232914Z
UID:26577-1681039800-1681045200@stuttgarti-katolikusok.de
SUMMARY:Húsvét ünnepe Stuttgartban
DESCRIPTION:*  \n \nÁprilis 9-én\, Húsvétvasárnap\, Urunk feltámadása\, Stuttgartban 11.30 órakor ünnepi szentmise\, utána ételszentelés. \n * \nMindenkit szeretettel vár a közösség és Tibor atya! \n* \n \n* \nKegyelemteljes Húsvétot kívánunk minden Kedves Hívünknek! \n* \n„A Húsvét a legnagyobb mélységeket és legnagyobb magasságokat megélő ünnepünk.” (Jókai Anna – költőnő – 1932-2017) \n(Képek forrása: Pixabay.com)
URL:https://stuttgarti-katolikusok.de/index.php/esemeny/husvet-unnepe-stuttgartban/
LOCATION:Bruder Klaus Kirche\, Albert-Schäffle-Straße 30\, Stuttgart\, Baden-Württemberg\, 70186\, Németország
CATEGORIES:Szentmise
ATTACH;FMTTYPE=image/jpeg:https://stuttgarti-katolikusok.de/wp-content/uploads/2015/12/013__2_klaus.jpg
END:VEVENT
BEGIN:VEVENT
DTSTART;TZID=Europe/Berlin:20230409T150000
DTEND;TZID=Europe/Berlin:20230409T160000
DTSTAMP:20260422T165612
CREATED:20240104T090859Z
LAST-MODIFIED:20240104T090859Z
UID:27796-1681052400-1681056000@stuttgarti-katolikusok.de
SUMMARY:Ulm - Húsvét
DESCRIPTION:
URL:https://stuttgarti-katolikusok.de/index.php/esemeny/ulm-husvet-2/
LOCATION:Baden-Württemberg
CATEGORIES:Szentmisék helye és ideje
END:VEVENT
BEGIN:VEVENT
DTSTART;TZID=Europe/Berlin:20230409T150000
DTEND;TZID=Europe/Berlin:20230409T163000
DTSTAMP:20260422T165612
CREATED:20230402T231341Z
LAST-MODIFIED:20230402T233012Z
UID:26579-1681052400-1681057800@stuttgarti-katolikusok.de
SUMMARY:Húsvét ünnepe Ulmban
DESCRIPTION:* \n \nÁprilis 9-én\, Húsvétvasárnap\, Urunk feltámadása\, Ulmban 15.00 órakor szentmise\, utána ételszentelés. \n * \nMindenkit szeretettel vár a közösség és Tibor atya! \n* \n \n* \nKegyelemteljes Húsvétot kívánunk minden Kedves Hívünknek! \n* \n„A Húsvét a legnagyobb mélységeket és legnagyobb magasságokat megélő ünnepünk.” (Jókai Anna – költőnő – 1932-2017) \n(Képek forrása: Pixabay.com)
URL:https://stuttgarti-katolikusok.de/index.php/esemeny/husvet-unnepe-ulmban/
LOCATION:St. Michael zu den Wengen\, Wengengasse 6\, Ulm\, Baden-Württemberg\, 89073\, Németország
CATEGORIES:Szentmise
ATTACH;FMTTYPE=image/jpeg:https://stuttgarti-katolikusok.de/wp-content/uploads/2015/12/Wengenkirche1-e1483916551260.jpg
END:VEVENT
BEGIN:VEVENT
DTSTART;TZID=Europe/Berlin:20230409T180000
DTEND;TZID=Europe/Berlin:20230409T190000
DTSTAMP:20260422T165612
CREATED:20240104T090900Z
LAST-MODIFIED:20240104T090900Z
UID:27797-1681063200-1681066800@stuttgarti-katolikusok.de
SUMMARY:Weingarten - Húsvét
DESCRIPTION:
URL:https://stuttgarti-katolikusok.de/index.php/esemeny/weingarten-husvet-2/
LOCATION:Baden-Württemberg
CATEGORIES:Szentmisék helye és ideje
END:VEVENT
BEGIN:VEVENT
DTSTART;TZID=Europe/Berlin:20230409T180000
DTEND;TZID=Europe/Berlin:20230409T193000
DTSTAMP:20260422T165612
CREATED:20230402T232117Z
LAST-MODIFIED:20230402T232117Z
UID:26581-1681063200-1681068600@stuttgarti-katolikusok.de
SUMMARY:Húsvét ünnepe Weingartenben
DESCRIPTION:*  \n \nÁprilis 9-én\, Húsvétvasárnap\, Urunk feltámadása\, Weingartenben 18.00 órakor a Heilig Geist Kirche-ben ünnepi szentmise\, utána ételszentelés. \n * \nMindenkit szeretettel vár a közösség és Tibor atya! \n* \n \n* \nKegyelemteljes Húsvétot kívánunk minden Kedves Hívünknek! \n* \n„A Húsvét a legnagyobb mélységeket és legnagyobb magasságokat megélő ünnepünk.” (Jókai Anna – költőnő – 1932-2017) \n(Képek forrása: Pixabay.com)
URL:https://stuttgarti-katolikusok.de/index.php/esemeny/husvet-unnepe-weingartenben/
LOCATION:Hl. Geist Weingarten\, Keplerstrasse 2\, Weingarten\, Baden-Württemberg\, 88250\, Németország
CATEGORIES:Szentmise
ATTACH;FMTTYPE=image/jpeg:https://stuttgarti-katolikusok.de/wp-content/uploads/2023/03/1200px-weingarten-gemeindezentrum-heilig-geist.jpg
END:VEVENT
BEGIN:VEVENT
DTSTART;TZID=Europe/Berlin:20230410T093000
DTEND;TZID=Europe/Berlin:20230410T103000
DTSTAMP:20260422T165612
CREATED:20230402T232517Z
LAST-MODIFIED:20230402T232517Z
UID:26583-1681119000-1681122600@stuttgarti-katolikusok.de
SUMMARY:Húsvéthétfő Stuttgartban
DESCRIPTION: * \n \nÁprilis 10-én\, Húsvéthétfő\, Stuttgartban 9.30 órakor szentmise. \n * \nMindenkit szeretettel vár a közösség és Tibor atya! \n* \n \n* \nKegyelemteljes Húsvétot kívánunk minden Kedves Hívünknek! \n* \n„A Húsvét a legnagyobb mélységeket és legnagyobb magasságokat megélő ünnepünk.” (Jókai Anna – költőnő – 1932-2017) \n(Képek forrása: Pixabay.com)
URL:https://stuttgarti-katolikusok.de/index.php/esemeny/husvethetfo-stuttgartban/
LOCATION:Bruder Klaus Kirche\, Albert-Schäffle-Straße 30\, Stuttgart\, Baden-Württemberg\, 70186\, Németország
CATEGORIES:Szentmise
ATTACH;FMTTYPE=image/jpeg:https://stuttgarti-katolikusok.de/wp-content/uploads/2015/12/013__2_klaus.jpg
END:VEVENT
BEGIN:VEVENT
DTSTART;TZID=Europe/Berlin:20230410T093000
DTEND;TZID=Europe/Berlin:20230410T103000
DTSTAMP:20260422T165612
CREATED:20240104T090900Z
LAST-MODIFIED:20240104T090900Z
UID:27798-1681119000-1681122600@stuttgarti-katolikusok.de
SUMMARY:Stuttgart - Húsvéthétfő
DESCRIPTION:
URL:https://stuttgarti-katolikusok.de/index.php/esemeny/stuttgart-husvethetfo-2/
LOCATION:Baden-Württemberg
CATEGORIES:Szentmisék helye és ideje
END:VEVENT
BEGIN:VEVENT
DTSTART;TZID=Europe/Berlin:20230415T153000
DTEND;TZID=Europe/Berlin:20230415T163000
DTSTAMP:20260422T165612
CREATED:20240104T090900Z
LAST-MODIFIED:20240104T090900Z
UID:27799-1681572600-1681576200@stuttgarti-katolikusok.de
SUMMARY:Heidenheim
DESCRIPTION:
URL:https://stuttgarti-katolikusok.de/index.php/esemeny/heidenheim-14/
LOCATION:Baden-Württemberg
CATEGORIES:Szentmisék helye és ideje
END:VEVENT
BEGIN:VEVENT
DTSTART;TZID=Europe/Berlin:20230415T153000
DTEND;TZID=Europe/Berlin:20230415T173000
DTSTAMP:20260422T165612
CREATED:20230411T104008Z
LAST-MODIFIED:20230411T104008Z
UID:26620-1681572600-1681579800@stuttgarti-katolikusok.de
SUMMARY:Szentmise Heidenheimban
DESCRIPTION: * \n \n * \nÁprilis 15-én\, szombaton\, Heidenheimban 15.30 órakor szentmise. Mivel a terem nem szabad\, ezért más módját választjuk az agapénak. \nMindenkit szeretettel vár a közösség és Tibor atya! \n* \nKegyelemteljes Húsvétot kívánunk minden Kedves Hívünknek! \n* \n„A Húsvét a legnagyobb mélységeket és legnagyobb magasságokat megélő ünnepünk.” (Jókai Anna – költőnő – 1932-2017) \n 
URL:https://stuttgarti-katolikusok.de/index.php/esemeny/szentmise-heidenheimban-3/
LOCATION:Dreifaltigkeitskirche\, Verdi Str. 13\, Heidenheim an der Brenz\, Baden-Würtenberg\, 89518\, Németország
CATEGORIES:Szentmise
ATTACH;FMTTYPE=image/jpeg:https://stuttgarti-katolikusok.de/wp-content/uploads/2015/12/Heidenheim.jpg
END:VEVENT
BEGIN:VEVENT
DTSTART;TZID=Europe/Berlin:20230416T113000
DTEND;TZID=Europe/Berlin:20230416T123000
DTSTAMP:20260422T165612
CREATED:20230411T104231Z
LAST-MODIFIED:20230411T104231Z
UID:26622-1681644600-1681648200@stuttgarti-katolikusok.de
SUMMARY:Szentmise Stuttgartban
DESCRIPTION: * \n \n * \nÁprilis 16-án\, Fehérvasárnap\, Isteni irgalmasság vasárnapja\, Stuttgartban\, 11.30 órakor szentmise. \nMindenkit szeretettel vár a közösség és Tibor atya! \n* \nKegyelemteljes Húsvétot kívánunk minden Kedves Hívünknek! \n* \n„A Húsvét a legnagyobb mélységeket és legnagyobb magasságokat megélő ünnepünk.” (Jókai Anna – költőnő – 1932-2017) \n 
URL:https://stuttgarti-katolikusok.de/index.php/esemeny/szentmise-stuttgartban-4/
LOCATION:Bruder Klaus Kirche\, Albert-Schäffle-Straße 30\, Stuttgart\, Baden-Württemberg\, 70186\, Németország
CATEGORIES:Szentmise
ATTACH;FMTTYPE=image/jpeg:https://stuttgarti-katolikusok.de/wp-content/uploads/2015/12/013__2_klaus.jpg
END:VEVENT
BEGIN:VEVENT
DTSTART;TZID=Europe/Berlin:20230416T113000
DTEND;TZID=Europe/Berlin:20230416T123000
DTSTAMP:20260422T165612
CREATED:20240104T090901Z
LAST-MODIFIED:20240104T090901Z
UID:27800-1681644600-1681648200@stuttgarti-katolikusok.de
SUMMARY:Stuttgart
DESCRIPTION:
URL:https://stuttgarti-katolikusok.de/index.php/esemeny/stuttgart-49/
LOCATION:Baden-Württemberg
CATEGORIES:Szentmisék helye és ideje
END:VEVENT
BEGIN:VEVENT
DTSTART;TZID=Europe/Berlin:20230416T153000
DTEND;TZID=Europe/Berlin:20230416T163000
DTSTAMP:20260422T165612
CREATED:20240104T090901Z
LAST-MODIFIED:20240104T090901Z
UID:27801-1681659000-1681662600@stuttgarti-katolikusok.de
SUMMARY:Eislingen
DESCRIPTION:
URL:https://stuttgarti-katolikusok.de/index.php/esemeny/eislingen-11/
LOCATION:Baden-Württemberg
CATEGORIES:Szentmisék helye és ideje
END:VEVENT
BEGIN:VEVENT
DTSTART;TZID=Europe/Berlin:20230416T153000
DTEND;TZID=Europe/Berlin:20230416T173000
DTSTAMP:20260422T165612
CREATED:20230411T104440Z
LAST-MODIFIED:20230411T104440Z
UID:26624-1681659000-1681666200@stuttgarti-katolikusok.de
SUMMARY:Szentmise Eislingenben
DESCRIPTION: * \n \n * \nÁprilis 15-én\, szombaton\, Heidenheimban 15.30 órakor szentmise. Mivel a terem nem szabad\, ezért más módját választjuk az agapénak. \n* \nÁprilis 16-án\, Fehérvasárnap\, Isteni irgalmasság vasárnapja\, \nStuttgartban\, 11.30 órakor szentmise\, \nEislingenben 15.30 órakor szentmise\, utána agapé. \n* \nMindenkit szeretettel vár a közösség és Tibor atya! \n* \nKegyelemteljes Húsvétot kívánunk minden Kedves Hívünknek! \n* \n„A Húsvét a legnagyobb mélységeket és legnagyobb magasságokat megélő ünnepünk.” (Jókai Anna – költőnő – 1932-2017) \n 
URL:https://stuttgarti-katolikusok.de/index.php/esemeny/szentmise-eislingenben-3/
LOCATION:Liebfrauen-Kirche\, Eberhardt Str. 30\, Eislingen/Fils\, Baden-Württemberg\, 73054\, Németország
CATEGORIES:Szentmise
ATTACH;FMTTYPE=image/jpeg:https://stuttgarti-katolikusok.de/wp-content/uploads/2015/12/Eislingen.jpg
END:VEVENT
BEGIN:VEVENT
DTSTART;TZID=Europe/Berlin:20230420T173000
DTEND;TZID=Europe/Berlin:20230420T190000
DTSTAMP:20260422T165612
CREATED:20230417T220926Z
LAST-MODIFIED:20230417T220926Z
UID:26658-1682011800-1682017200@stuttgarti-katolikusok.de
SUMMARY:Weingarteni délután
DESCRIPTION: * \nÁprilis 20-án\, csütörtökön\, Weingarteni délután\, a 14 Nothelfer Kapelle-ben 17.30 órakor rózsafüzért imádkozunk\, ezt követően szentmise\, keretében Beszélgetések a Katekizmusról. \nMindenkit szeretettel vár a közösség és Tibor atya! \n* \n \n(Eislingen – XV. állomás – Krisztus feltámadása) \n* \nKegyelemteljes húsvéti napokat\, tartalmas beszélgetéseket és örömteli találkozásokat kívánunk minden Kedves Hívünknek! \n* \n„Isten Országában megszűnnek az egyén határvonalai. Mindazt\, amit eddig csak tükör által homályosan találgattunk\, immár látni és tudni fogjuk. Isten a világ lényegének az állandósága nem zaj\, hanem Csend.” (Csermely Péter – kutató\, biokémikus – 1958 -)
URL:https://stuttgarti-katolikusok.de/index.php/esemeny/weingarteni-delutan-3/
LOCATION:14 Nothelfer  Kapelle\, Ravensburger Str. 39\, Weingarten\, Baden-Württemberg\, 88250\, Németország
CATEGORIES:Weingarteni délután
ATTACH;FMTTYPE=image/jpeg:https://stuttgarti-katolikusok.de/wp-content/uploads/2015/12/Weingarten_Kapelle_14_Nothelfer.jpg
END:VEVENT
BEGIN:VEVENT
DTSTART;TZID=Europe/Berlin:20230421T160000
DTEND;TZID=Europe/Berlin:20230421T180000
DTSTAMP:20260422T165612
CREATED:20240104T090920Z
LAST-MODIFIED:20240104T090920Z
UID:27904-1682092800-1682100000@stuttgarti-katolikusok.de
SUMMARY:Baratsagklub
DESCRIPTION:
URL:https://stuttgarti-katolikusok.de/index.php/esemeny/baratsagklub-3/
LOCATION:Baden-Württemberg
CATEGORIES:Szentmisék helye és ideje
END:VEVENT
BEGIN:VEVENT
DTSTART;TZID=Europe/Berlin:20230421T173000
DTEND;TZID=Europe/Berlin:20230421T203000
DTSTAMP:20260422T165612
CREATED:20230417T221330Z
LAST-MODIFIED:20230417T223303Z
UID:26660-1682098200-1682109000@stuttgarti-katolikusok.de
SUMMARY:Stuttgarti délután
DESCRIPTION: * \nÁprilis 21-én\, pénteken\, Stuttgarti délután\, 17.30 órakor szentmise\, előtte rózsafüzért imádkozunk\, szentmise után Barátságklub. \n \n * \nMindenkit szeretettel vár a közösség és Tibor atya! \n* \n \n(Eislingen – XV. állomás – Krisztus feltámadása) \n* \nKegyelemteljes húsvéti napokat\, tartalmas beszélgetéseket és örömteli találkozásokat kívánunk minden Kedves Hívünknek! \n* \n„Isten Országában megszűnnek az egyén határvonalai. Mindazt\, amit eddig csak tükör által homályosan találgattunk\, immár látni és tudni fogjuk. Isten a világ lényegének az állandósága nem zaj\, hanem Csend.” (Csermely Péter – kutató\, biokémikus – 1958 -)
URL:https://stuttgarti-katolikusok.de/index.php/esemeny/stuttgarti-delutan-9/
LOCATION:Bruder Klaus Kirche\, Albert-Schäffle-Straße 30\, Stuttgart\, Baden-Württemberg\, 70186\, Németország
CATEGORIES:Stuttgarti délután
ATTACH;FMTTYPE=image/jpeg:https://stuttgarti-katolikusok.de/wp-content/uploads/2015/12/013__2_klaus.jpg
END:VEVENT
BEGIN:VEVENT
DTSTART;TZID=Europe/Berlin:20230422T160000
DTEND;TZID=Europe/Berlin:20230422T170000
DTSTAMP:20260422T165612
CREATED:20240104T090901Z
LAST-MODIFIED:20240104T090901Z
UID:27802-1682179200-1682182800@stuttgarti-katolikusok.de
SUMMARY:Tuttlingen
DESCRIPTION:
URL:https://stuttgarti-katolikusok.de/index.php/esemeny/tuttlingen-14/
LOCATION:Baden-Württemberg
CATEGORIES:Szentmisék helye és ideje
END:VEVENT
BEGIN:VEVENT
DTSTART;TZID=Europe/Berlin:20230422T160000
DTEND;TZID=Europe/Berlin:20230422T180000
DTSTAMP:20260422T165612
CREATED:20230417T221646Z
LAST-MODIFIED:20230417T223420Z
UID:26662-1682179200-1682186400@stuttgarti-katolikusok.de
SUMMARY:Szentmise Tuttlingenben
DESCRIPTION: * \nÁprilis 22-én\, szombaton\, Tuttlingenben 16.00 órakor szentmise\, utána agapé (egy a közelben lévő helyen). \nMindenkit szeretettel vár a közösség és Tibor atya! \n* \n \n(Eislingen – XV. állomás – Krisztus feltámadása) \n* \nKegyelemteljes húsvéti napokat\, tartalmas beszélgetéseket és örömteli találkozásokat kívánunk minden Kedves Hívünknek! \n* \n„Isten Országában megszűnnek az egyén határvonalai. Mindazt\, amit eddig csak tükör által homályosan találgattunk\, immár látni és tudni fogjuk. Isten a világ lényegének az állandósága nem zaj\, hanem Csend.” (Csermely Péter – kutató\, biokémikus – 1958 -)
URL:https://stuttgarti-katolikusok.de/index.php/esemeny/szentmise-tuttlingenben-4/
LOCATION:St. Gallus Kirche\, Guttenbergstrasse 9\, Tuttlingen\, Baden-Württemberg\, 78532\, Németország
CATEGORIES:Szentmise
ATTACH;FMTTYPE=image/jpeg:https://stuttgarti-katolikusok.de/wp-content/uploads/2021/05/sankt-gallus-tuttlingen-1.jpg
END:VEVENT
BEGIN:VEVENT
DTSTART;TZID=Europe/Berlin:20230423T093000
DTEND;TZID=Europe/Berlin:20230423T103000
DTSTAMP:20260422T165612
CREATED:20240104T090902Z
LAST-MODIFIED:20240104T090902Z
UID:27803-1682242200-1682245800@stuttgarti-katolikusok.de
SUMMARY:Böblingen
DESCRIPTION:
URL:https://stuttgarti-katolikusok.de/index.php/esemeny/boblingen-14/
LOCATION:Baden-Württemberg
CATEGORIES:Szentmisék helye és ideje
END:VEVENT
BEGIN:VEVENT
DTSTART;TZID=Europe/Berlin:20230423T093000
DTEND;TZID=Europe/Berlin:20230423T113000
DTSTAMP:20260422T165612
CREATED:20230417T222014Z
LAST-MODIFIED:20230417T222014Z
UID:26664-1682242200-1682249400@stuttgarti-katolikusok.de
SUMMARY:Szentmise Böblingenben
DESCRIPTION: * \nÁprilis 23-án\, Húsvét 3. vasárnapja\, Böblingenbenben 9.30 órakor szentmise\, utána agapé. \nMindenkit szeretettel vár a közösség és Tibor atya! \n* \n \n(Eislingen – XV. állomás – Krisztus feltámadása) \n* \nKegyelemteljes húsvéti napokat\, tartalmas beszélgetéseket és örömteli találkozásokat kívánunk minden Kedves Hívünknek! \n* \n„Isten Országában megszűnnek az egyén határvonalai. Mindazt\, amit eddig csak tükör által homályosan találgattunk\, immár látni és tudni fogjuk. Isten a világ lényegének az állandósága nem zaj\, hanem Csend.” (Csermely Péter – kutató\, biokémikus – 1958 -)
URL:https://stuttgarti-katolikusok.de/index.php/esemeny/szentmise-boblingenben-3/
LOCATION:St. Bonifatius Kirche\, Sindelfinger Str. 14\, Böblingen\, Baden-Württemberg\, 71032\, Németország
CATEGORIES:Szentmise
ATTACH;FMTTYPE=image/jpeg:https://stuttgarti-katolikusok.de/wp-content/uploads/2021/11/boblingen.jpeg
END:VEVENT
BEGIN:VEVENT
DTSTART;TZID=Europe/Berlin:20230423T153000
DTEND;TZID=Europe/Berlin:20230423T163000
DTSTAMP:20260422T165612
CREATED:20240104T090902Z
LAST-MODIFIED:20240104T090902Z
UID:27804-1682263800-1682267400@stuttgarti-katolikusok.de
SUMMARY:Heilbronn - búcsú
DESCRIPTION:
URL:https://stuttgarti-katolikusok.de/index.php/esemeny/heilbronn-bucsu-2/
LOCATION:Baden-Württemberg
CATEGORIES:Szentmisék helye és ideje
END:VEVENT
BEGIN:VEVENT
DTSTART;TZID=Europe/Berlin:20230423T153000
DTEND;TZID=Europe/Berlin:20230423T180000
DTSTAMP:20260422T165612
CREATED:20230417T222352Z
LAST-MODIFIED:20230417T222352Z
UID:26666-1682263800-1682272800@stuttgarti-katolikusok.de
SUMMARY:Búcsús-szentmise Heilbronnban
DESCRIPTION: * \nÁprilis 23-án\, Húsvét 3. vasárnapja\, Heilbronnban 15.30 órakor búcsús-szentmise\, Szent Adalbert püspököt köszöntjük\, utána agapé. \n \n * \nMinden helyen mindenkit szeretettel vár a közösség és Tibor atya! \n* \n \n(Eislingen – XV. állomás – Krisztus feltámadása) \n* \nKegyelemteljes húsvéti napokat\, tartalmas beszélgetéseket és örömteli találkozásokat kívánunk minden Kedves Hívünknek! \n* \n„Isten Országában megszűnnek az egyén határvonalai. Mindazt\, amit eddig csak tükör által homályosan találgattunk\, immár látni és tudni fogjuk. Isten a világ lényegének az állandósága nem zaj\, hanem Csend.” (Csermely Péter – kutató\, biokémikus – 1958 -)
URL:https://stuttgarti-katolikusok.de/index.php/esemeny/bucsus-szentmise-heilbronnban-2/
LOCATION:Heilig Geist Kirche\, Heilbronner-Weg 17\, Heilbronn-Horkheim\, Baden-Württemberg\, 74081\, Németország
CATEGORIES:Szentmise
ATTACH;FMTTYPE=image/jpeg:https://stuttgarti-katolikusok.de/wp-content/uploads/2021/05/heiliggeist-aussenansicht.jpg
END:VEVENT
BEGIN:VEVENT
DTSTART;TZID=Europe/Berlin:20230428T120000
DTEND;TZID=Europe/Berlin:20230428T123000
DTSTAMP:20260422T165612
CREATED:20240104T090918Z
LAST-MODIFIED:20240104T090918Z
UID:27891-1682683200-1682685000@stuttgarti-katolikusok.de
SUMMARY:Esperesi látogatás
DESCRIPTION:
URL:https://stuttgarti-katolikusok.de/index.php/esemeny/esperesi-latogatas-2/
LOCATION:Baden-Württemberg
CATEGORIES:Szentmisék helye és ideje
END:VEVENT
BEGIN:VEVENT
DTSTART;TZID=Europe/Berlin:20230428T173000
DTEND;TZID=Europe/Berlin:20230428T190000
DTSTAMP:20260422T165612
CREATED:20230424T210839Z
LAST-MODIFIED:20230424T210839Z
UID:26695-1682703000-1682708400@stuttgarti-katolikusok.de
SUMMARY:Stuttgarti délután
DESCRIPTION:Április 28-án\, pénteken\, Stuttgarti délután\, 17.30 órakor rózsafüzért imádkozunk\, ezt követően szentmise. \nMindenkit szeretettel vár a közösség és Tibor atya! \n* \n \n* \nKegyelemteljes húsvéti napokat\, tartalmas beszélgetéseket és örömteli találkozásokat kívánunk minden Kedves Hívünknek! \n* \n„Hűség és bátorság csak olyan emberek körében tanyázik\, akik tiszta lelkiismerettel vannak egymás iránt: akiknek mosolyába nincs kés göngyölve\, szavaik pedig nem arra valók\, hogy a szándékaikat eltitkolják velük.” (Sütő András\, író 1927 – 2006) \n(Kép forrása: Pixabay)
URL:https://stuttgarti-katolikusok.de/index.php/esemeny/stuttgarti-delutan-10/
LOCATION:Bruder Klaus Kirche\, Albert-Schäffle-Straße 30\, Stuttgart\, Baden-Württemberg\, 70186\, Németország
CATEGORIES:Stuttgarti délután
ATTACH;FMTTYPE=image/jpeg:https://stuttgarti-katolikusok.de/wp-content/uploads/2015/12/013__2_klaus.jpg
END:VEVENT
BEGIN:VEVENT
DTSTART;TZID=Europe/Berlin:20230430T090000
DTEND;TZID=Europe/Berlin:20230430T100000
DTSTAMP:20260422T165612
CREATED:20240104T090902Z
LAST-MODIFIED:20240104T090902Z
UID:27805-1682845200-1682848800@stuttgarti-katolikusok.de
SUMMARY:Ludwigsburg
DESCRIPTION:
URL:https://stuttgarti-katolikusok.de/index.php/esemeny/ludwigsburg-11/
LOCATION:Baden-Württemberg
CATEGORIES:Szentmisék helye és ideje
END:VEVENT
BEGIN:VEVENT
DTSTART;TZID=Europe/Berlin:20230430T090000
DTEND;TZID=Europe/Berlin:20230430T110000
DTSTAMP:20260422T165612
CREATED:20230424T211536Z
LAST-MODIFIED:20230424T211536Z
UID:26697-1682845200-1682852400@stuttgarti-katolikusok.de
SUMMARY:Szentmise Ludwigsburgban
DESCRIPTION:Április 30-án\, Húsvét 4. vasárnapja\,  Ludwigsburgban 9.00 órakor szentmise\, utána agapé. \nMindenkit szeretettel vár a közösség és Tibor atya! \n* \n \n* \nKegyelemteljes húsvéti napokat\, tartalmas beszélgetéseket és örömteli találkozásokat kívánunk minden Kedves Hívünknek! \n* \n„Hűség és bátorság csak olyan emberek körében tanyázik\, akik tiszta lelkiismerettel vannak egymás iránt: akiknek mosolyába nincs kés göngyölve\, szavaik pedig nem arra valók\, hogy a szándékaikat eltitkolják velük.” (Sütő András\, író 1927 – 2006) \n(Kép forrása: Pixabay)
URL:https://stuttgarti-katolikusok.de/index.php/esemeny/szentmise-ludwigsburgban-2/
LOCATION:St. Josef Kirche\, Park Str. 30\, Ludwigsburg-Hoheneck\, Baden-Württemberg\, 71642
CATEGORIES:Szentmise
ATTACH;FMTTYPE=image/jpeg:https://stuttgarti-katolikusok.de/wp-content/uploads/2021/04/ludwigsburg.jpeg
END:VEVENT
BEGIN:VEVENT
DTSTART;TZID=Europe/Berlin:20230430T163000
DTEND;TZID=Europe/Berlin:20230430T173000
DTSTAMP:20260422T165612
CREATED:20240104T090903Z
LAST-MODIFIED:20240104T090903Z
UID:27806-1682872200-1682875800@stuttgarti-katolikusok.de
SUMMARY:Reutlingen
DESCRIPTION:
URL:https://stuttgarti-katolikusok.de/index.php/esemeny/reutlingen-6/
LOCATION:Baden-Württemberg
CATEGORIES:Szentmisék helye és ideje
END:VEVENT
END:VCALENDAR