BEGIN:VCALENDAR
VERSION:2.0
PRODID:-//Stuttgarti Katolikusok - ECPv6.15.20//NONSGML v1.0//EN
CALSCALE:GREGORIAN
METHOD:PUBLISH
X-ORIGINAL-URL:https://stuttgarti-katolikusok.de
X-WR-CALDESC:Események Stuttgarti Katolikusok
REFRESH-INTERVAL;VALUE=DURATION:PT1H
X-Robots-Tag:noindex
X-PUBLISHED-TTL:PT1H
BEGIN:VTIMEZONE
TZID:Europe/Berlin
BEGIN:DAYLIGHT
TZOFFSETFROM:+0100
TZOFFSETTO:+0200
TZNAME:CEST
DTSTART:20220327T010000
END:DAYLIGHT
BEGIN:STANDARD
TZOFFSETFROM:+0200
TZOFFSETTO:+0100
TZNAME:CET
DTSTART:20221030T010000
END:STANDARD
BEGIN:DAYLIGHT
TZOFFSETFROM:+0100
TZOFFSETTO:+0200
TZNAME:CEST
DTSTART:20230326T010000
END:DAYLIGHT
BEGIN:STANDARD
TZOFFSETFROM:+0200
TZOFFSETTO:+0100
TZNAME:CET
DTSTART:20231029T010000
END:STANDARD
BEGIN:DAYLIGHT
TZOFFSETFROM:+0100
TZOFFSETTO:+0200
TZNAME:CEST
DTSTART:20240331T010000
END:DAYLIGHT
BEGIN:STANDARD
TZOFFSETFROM:+0200
TZOFFSETTO:+0100
TZNAME:CET
DTSTART:20241027T010000
END:STANDARD
END:VTIMEZONE
BEGIN:VEVENT
DTSTART;TZID=Europe/Berlin:20230303T173000
DTEND;TZID=Europe/Berlin:20230303T190000
DTSTAMP:20260422T114153
CREATED:20230227T071130Z
LAST-MODIFIED:20230227T071130Z
UID:26364-1677864600-1677870000@stuttgarti-katolikusok.de
SUMMARY:Stuttgarti délután
DESCRIPTION:Március 3-án\, pénteken\, Stuttgarti délután\, 17.30 órakor keresztúti ájtatosság\, 18.00 órakor szentmise\, utána imaóra. \nMindenkit szeretettel vár a közösség és Tibor atya! \n * \n \n* \nBensőséges nagyböjti napokat\, jó munkát\, tartalmas beszélgetéseket és örömteli találkozásokat kívánunk minden Kedves Hívünknek! \n* \n„Nézd ezt a fát. Látod a sok falevelet rajta? Mindegyiknek\, még a legkisebbiknek is van mélyen lent a földben egy kis hajszálerecskéje\, mely élettel látja el. Ősszel lehull a levél\, igaz. Minden ősszel lehull. De annak a kis hajszálgyökerecskének a jóvoltából visszatér újra minden tavasszal. Ha azonban a gyökérszál pusztul el ott föld a alatt\, a levelecske nem tér vissza többé\, s idő múltával elpusztul a fa is.” (Wass Albert\, író – 1908 – 1998) \n(Kép forrása: Pixabay)
URL:https://stuttgarti-katolikusok.de/index.php/esemeny/stuttgarti-delutan-5/
LOCATION:Bruder Klaus Kirche\, Albert-Schäffle-Straße 30\, Stuttgart\, Baden-Württemberg\, 70186\, Németország
CATEGORIES:Stuttgarti délután
ATTACH;FMTTYPE=image/jpeg:https://stuttgarti-katolikusok.de/wp-content/uploads/2015/12/013__2_klaus.jpg
END:VEVENT
BEGIN:VEVENT
DTSTART;TZID=Europe/Berlin:20230304T160000
DTEND;TZID=Europe/Berlin:20230304T170000
DTSTAMP:20260422T114153
CREATED:20230208T072026Z
LAST-MODIFIED:20230210T112417Z
UID:25772-1677945600-1677949200@stuttgarti-katolikusok.de
SUMMARY:Balingen
DESCRIPTION:
URL:https://stuttgarti-katolikusok.de/index.php/esemeny/balingen-29/
LOCATION:Baden-Württemberg
CATEGORIES:Szentmisék helye és ideje
END:VEVENT
BEGIN:VEVENT
DTSTART;TZID=Europe/Berlin:20230304T160000
DTEND;TZID=Europe/Berlin:20230304T180000
DTSTAMP:20260422T114153
CREATED:20230227T071530Z
LAST-MODIFIED:20230227T071530Z
UID:26366-1677945600-1677952800@stuttgarti-katolikusok.de
SUMMARY:Szentmise Balingenben
DESCRIPTION:Március 4-én\, szombaton\, Balingenben 16.00 órakor szentmise\, utána hamvazás\, aztán agapé. \nMindenkit szeretettel vár a közösség és Tibor atya! \n * \n \n* \nBensőséges nagyböjti napokat\, jó munkát\, tartalmas beszélgetéseket és örömteli találkozásokat kívánunk minden Kedves Hívünknek! \n* \n„Nézd ezt a fát. Látod a sok falevelet rajta? Mindegyiknek\, még a legkisebbiknek is van mélyen lent a földben egy kis hajszálerecskéje\, mely élettel látja el. Ősszel lehull a levél\, igaz. Minden ősszel lehull. De annak a kis hajszálgyökerecskének a jóvoltából visszatér újra minden tavasszal. Ha azonban a gyökérszál pusztul el ott föld a alatt\, a levelecske nem tér vissza többé\, s idő múltával elpusztul a fa is.” (Wass Albert\, író – 1908 – 1998) \n(Kép forrása: Pixabay)
URL:https://stuttgarti-katolikusok.de/index.php/esemeny/szentmise-balingenben/
LOCATION:Sankt Paulus Kirche\, St. Paulus Str. 2\, Balingen-Frommern\, Baden-Württemberg\, 72336\, Németország
CATEGORIES:Szentmise
ATTACH;FMTTYPE=image/jpeg:https://stuttgarti-katolikusok.de/wp-content/uploads/2018/04/20180505_163840-e1764632638620.jpg
END:VEVENT
BEGIN:VEVENT
DTSTART;TZID=Europe/Berlin:20230305T093000
DTEND;TZID=Europe/Berlin:20230305T103000
DTSTAMP:20260422T114153
CREATED:20230208T072027Z
LAST-MODIFIED:20230210T112418Z
UID:25773-1678008600-1678012200@stuttgarti-katolikusok.de
SUMMARY:Schwäbisch-Gmünd
DESCRIPTION:
URL:https://stuttgarti-katolikusok.de/index.php/esemeny/schwabisch-gmund-33/
LOCATION:Baden-Württemberg
CATEGORIES:Szentmisék helye és ideje
END:VEVENT
BEGIN:VEVENT
DTSTART;TZID=Europe/Berlin:20230305T093000
DTEND;TZID=Europe/Berlin:20230305T113000
DTSTAMP:20260422T114153
CREATED:20230227T071828Z
LAST-MODIFIED:20230227T071828Z
UID:26368-1678008600-1678015800@stuttgarti-katolikusok.de
SUMMARY:Szentmise Schwäbisch-Gmündben
DESCRIPTION:Március 5-én\, Nagyböjt 2. vasárnapja\,  Schwäbisch-Gmündben 9.30 órakor szentmise\, utána hamvazás\, aztán agapé. \nMindenkit szeretettel vár a közösség és Tibor atya! \n * \n \n* \nBensőséges nagyböjti napokat\, jó munkát\, tartalmas beszélgetéseket és örömteli találkozásokat kívánunk minden Kedves Hívünknek! \n* \n„Nézd ezt a fát. Látod a sok falevelet rajta? Mindegyiknek\, még a legkisebbiknek is van mélyen lent a földben egy kis hajszálerecskéje\, mely élettel látja el. Ősszel lehull a levél\, igaz. Minden ősszel lehull. De annak a kis hajszálgyökerecskének a jóvoltából visszatér újra minden tavasszal. Ha azonban a gyökérszál pusztul el ott föld a alatt\, a levelecske nem tér vissza többé\, s idő múltával elpusztul a fa is.” (Wass Albert\, író – 1908 – 1998) \n(Kép forrása: Pixabay)
URL:https://stuttgarti-katolikusok.de/index.php/esemeny/szentmise-schwabisch-gmundben-2/
LOCATION:Sankt Franziskus Kirche\, Franziskaner Str. 3\, Schwäbisch-Gmünd\, Baden-Württemberg\, 73525\, Németország
CATEGORIES:Szentmise
ATTACH;FMTTYPE=image/jpeg:https://stuttgarti-katolikusok.de/wp-content/uploads/2018/03/st-franziskus-schw-gmund.jpg
END:VEVENT
BEGIN:VEVENT
DTSTART;TZID=Europe/Berlin:20230305T150000
DTEND;TZID=Europe/Berlin:20230305T160000
DTSTAMP:20260422T114153
CREATED:20230208T072027Z
LAST-MODIFIED:20230210T112418Z
UID:25774-1678028400-1678032000@stuttgarti-katolikusok.de
SUMMARY:Stuttgart
DESCRIPTION:
URL:https://stuttgarti-katolikusok.de/index.php/esemeny/stuttgart-47/
LOCATION:Baden-Württemberg
CATEGORIES:Szentmisék helye és ideje
END:VEVENT
BEGIN:VEVENT
DTSTART;TZID=Europe/Berlin:20230305T150000
DTEND;TZID=Europe/Berlin:20230305T170000
DTSTAMP:20260422T114153
CREATED:20230227T072142Z
LAST-MODIFIED:20230227T072142Z
UID:26370-1678028400-1678035600@stuttgarti-katolikusok.de
SUMMARY:Gyermek-mise Stuttgartban
DESCRIPTION:Március 5-én\, Nagyböjt 2. vasárnapja\,  Stuttgartban 15.00 órakor gyermek-mise\, utána hamvazás\, aztán agapé. \nMindenkit szeretettel vár a közösség és Tibor atya! \n * \n \n* \nBensőséges nagyböjti napokat\, jó munkát\, tartalmas beszélgetéseket és örömteli találkozásokat kívánunk minden Kedves Hívünknek! \n* \n„Nézd ezt a fát. Látod a sok falevelet rajta? Mindegyiknek\, még a legkisebbiknek is van mélyen lent a földben egy kis hajszálerecskéje\, mely élettel látja el. Ősszel lehull a levél\, igaz. Minden ősszel lehull. De annak a kis hajszálgyökerecskének a jóvoltából visszatér újra minden tavasszal. Ha azonban a gyökérszál pusztul el ott föld a alatt\, a levelecske nem tér vissza többé\, s idő múltával elpusztul a fa is.” (Wass Albert\, író – 1908 – 1998) \n(Kép forrása: Pixabay)
URL:https://stuttgarti-katolikusok.de/index.php/esemeny/gyermek-mise-stuttgartban/
LOCATION:Bruder Klaus Kirche\, Albert-Schäffle-Straße 30\, Stuttgart\, Baden-Württemberg\, 70186\, Németország
CATEGORIES:Szentmise
ATTACH;FMTTYPE=image/jpeg:https://stuttgarti-katolikusok.de/wp-content/uploads/2015/12/013__2_klaus.jpg
END:VEVENT
BEGIN:VEVENT
DTSTART;TZID=Europe/Berlin:20230307T080000
DTEND;TZID=Europe/Berlin:20230307T170000
DTSTAMP:20260422T114153
CREATED:20230307T103214Z
LAST-MODIFIED:20230307T103214Z
UID:26424-1678176000-1678208400@stuttgarti-katolikusok.de
SUMMARY:Ökumenikus istentisztelet és Nemzeti Ünnep Stuttgartban
DESCRIPTION:Március 12-én\, Nagyböjt 3. vasárnapja\, Nemzeti Ünnep\, Stuttgartban 15.00 órakor ökumenikus istentisztelet a Luther Kirche-ben\, utána rövid ünnepi műsor: \n \n * \nMindenkit szeretettel vár a helyi közösség és Tibor atya! \n * \n \n* \nBensőséges nagyböjti napokat\, jó munkát\, tartalmas beszélgetéseket és örömteli találkozásokat kívánunk minden Kedves Hívünknek! \n* \n„A kereszttel Isten túllép a szavakon: a kereszt az a szeretet\, amely nem magyarázható. Ezt akkor érthetjük meg\, ha engedjük\, hogy Isten őrülten szeressen. A kereszt beteljesíti és meghaladja a szavakat.” (Gaetano Piccolo SJ\, 1973 – ) \n(Kép forrása: Pixabay)
URL:https://stuttgarti-katolikusok.de/index.php/esemeny/okumenikus-istentisztelet-es-nemzeti-unnep-stuttgartban-2/
LOCATION:Baden-Württemberg
CATEGORIES:Ökumenikus istentisztelet
ATTACH;FMTTYPE=image/jpeg:https://stuttgarti-katolikusok.de/wp-content/uploads/2023/03/stuttgart-martin-luther-kirche-bad-cannstatt.jpg
END:VEVENT
BEGIN:VEVENT
DTSTART;TZID=Europe/Berlin:20230309T173000
DTEND;TZID=Europe/Berlin:20230309T190000
DTSTAMP:20260422T114153
CREATED:20230307T085512Z
LAST-MODIFIED:20230307T085711Z
UID:26406-1678383000-1678388400@stuttgarti-katolikusok.de
SUMMARY:Weingarteni délután
DESCRIPTION:Március 9-én\, csütörtökön\, Weingarteni délután\, a 14 Nothelfer Kapelle-ben 17.30 órakor keresztúti ájtatosság\, 18.00 órakor szentmise. \nMindenkit szeretettel vár a közösség és Tibor atya! \n * \n \n* \nBensőséges nagyböjti napokat\, jó munkát\, tartalmas beszélgetéseket és örömteli találkozásokat kívánunk minden Kedves Hívünknek! \n* \n„A kereszttel Isten túllép a szavakon: a kereszt az a szeretet\, amely nem magyarázható. Ezt akkor érthetjük meg\, ha engedjük\, hogy Isten őrülten szeressen. A kereszt beteljesíti és meghaladja a szavakat.” (Gaetano Piccolo SJ\, 1973 – ) \n(Kép forrása: Pixabay)
URL:https://stuttgarti-katolikusok.de/index.php/esemeny/weingarteni-delutan/
LOCATION:14 Nothelfer  Kapelle\, Ravensburger Str. 39\, Weingarten\, Baden-Württemberg\, 88250\, Németország
CATEGORIES:Weingarteni délután
ATTACH;FMTTYPE=image/jpeg:https://stuttgarti-katolikusok.de/wp-content/uploads/2015/12/Weingarten_Kapelle_14_Nothelfer.jpg
END:VEVENT
BEGIN:VEVENT
DTSTART;TZID=Europe/Berlin:20230310T160000
DTEND;TZID=Europe/Berlin:20230310T173000
DTSTAMP:20260422T114153
CREATED:20240104T090919Z
LAST-MODIFIED:20240104T090919Z
UID:27902-1678464000-1678469400@stuttgarti-katolikusok.de
SUMMARY:Barátságklub
DESCRIPTION:
URL:https://stuttgarti-katolikusok.de/index.php/esemeny/baratsagklub/
LOCATION:Baden-Württemberg
CATEGORIES:Szentmisék helye és ideje
END:VEVENT
BEGIN:VEVENT
DTSTART;TZID=Europe/Berlin:20230310T160000
DTEND;TZID=Europe/Berlin:20230310T190000
DTSTAMP:20260422T114153
CREATED:20230307T090052Z
LAST-MODIFIED:20230307T090052Z
UID:26410-1678464000-1678474800@stuttgarti-katolikusok.de
SUMMARY:Stuttgarti délután
DESCRIPTION:Március 10-én\, pénteken\, Stuttgarti délután\, \n16.00 órakor Barátságklub: \n \n17.30 órakor keresztúti ájtatosság\, 18.00 órakor szentmise. \nMindenkit szeretettel vár a közösség és Tibor atya! \n * \n \n* \nBensőséges nagyböjti napokat\, jó munkát\, tartalmas beszélgetéseket és örömteli találkozásokat kívánunk minden Kedves Hívünknek! \n* \n„A kereszttel Isten túllép a szavakon: a kereszt az a szeretet\, amely nem magyarázható. Ezt akkor érthetjük meg\, ha engedjük\, hogy Isten őrülten szeressen. A kereszt beteljesíti és meghaladja a szavakat.” (Gaetano Piccolo SJ\, 1973 – ) \n(Kép forrása: Pixabay)
URL:https://stuttgarti-katolikusok.de/index.php/esemeny/stuttgarti-delutan-6/
LOCATION:Bruder Klaus Kirche\, Albert-Schäffle-Straße 30\, Stuttgart\, Baden-Württemberg\, 70186\, Németország
CATEGORIES:Stuttgarti délután
ATTACH;FMTTYPE=image/jpeg:https://stuttgarti-katolikusok.de/wp-content/uploads/2015/12/013__2_klaus.jpg
END:VEVENT
BEGIN:VEVENT
DTSTART;TZID=Europe/Berlin:20230311T164500
DTEND;TZID=Europe/Berlin:20230311T174500
DTSTAMP:20260422T114153
CREATED:20230208T072028Z
LAST-MODIFIED:20230210T112419Z
UID:25775-1678553100-1678556700@stuttgarti-katolikusok.de
SUMMARY:Biberach
DESCRIPTION:
URL:https://stuttgarti-katolikusok.de/index.php/esemeny/biberach-24/
LOCATION:Baden-Württemberg
CATEGORIES:Szentmisék helye és ideje
END:VEVENT
BEGIN:VEVENT
DTSTART;TZID=Europe/Berlin:20230311T164500
DTEND;TZID=Europe/Berlin:20230311T190000
DTSTAMP:20260422T114153
CREATED:20230307T092948Z
LAST-MODIFIED:20230307T092948Z
UID:26413-1678553100-1678561200@stuttgarti-katolikusok.de
SUMMARY:Szentmise Biberachban
DESCRIPTION:Március 11-én\, szombaton\, Biberachban 16.45 órakor szentmise\, keretében szentkenet szentségének kiszolgáltatása és keresztelés\, utána agapé. \nMindenkit szeretettel vár a közösség és Tibor atya! \n * \n \n* \nBensőséges nagyböjti napokat\, jó munkát\, tartalmas beszélgetéseket és örömteli találkozásokat kívánunk minden Kedves Hívünknek! \n* \n„A kereszttel Isten túllép a szavakon: a kereszt az a szeretet\, amely nem magyarázható. Ezt akkor érthetjük meg\, ha engedjük\, hogy Isten őrülten szeressen. A kereszt beteljesíti és meghaladja a szavakat.” (Gaetano Piccolo SJ\, 1973 – ) \n(Kép forrása: Pixabay)
URL:https://stuttgarti-katolikusok.de/index.php/esemeny/szentmise-biberachban-2/
LOCATION:Dreifaltigkeitskirche Biberach\, Mittelbergstr. 29\, Biberach an der Riß\, Baden Württemberg\, 88400\, Németország
CATEGORIES:Szentmise
ATTACH;FMTTYPE=image/jpeg:https://stuttgarti-katolikusok.de/wp-content/uploads/2023/03/csm-dreifaltigkeitskirche-7285105d03.jpg
END:VEVENT
BEGIN:VEVENT
DTSTART;TZID=Europe/Berlin:20230312T090000
DTEND;TZID=Europe/Berlin:20230312T100000
DTSTAMP:20260422T114153
CREATED:20230208T072251Z
LAST-MODIFIED:20230210T112546Z
UID:25900-1678611600-1678615200@stuttgarti-katolikusok.de
SUMMARY:Weingarten
DESCRIPTION:
URL:https://stuttgarti-katolikusok.de/index.php/esemeny/weingarten-15/
LOCATION:Baden-Württemberg
CATEGORIES:Szentmisék helye és ideje
END:VEVENT
BEGIN:VEVENT
DTSTART;TZID=Europe/Berlin:20230312T090000
DTEND;TZID=Europe/Berlin:20230312T110000
DTSTAMP:20260422T114153
CREATED:20230307T094149Z
LAST-MODIFIED:20230307T222536Z
UID:26417-1678611600-1678618800@stuttgarti-katolikusok.de
SUMMARY:Szentmise Weingartenben
DESCRIPTION:Március 12-én\, Nagyböjt 3. vasárnapja\, Weingartenben 9.00 órakor szentmise a Heilig Geist Kirche-ben\, ezt követően 10.00 órakor „Stabat Mater dolorosa” címmel nagyböjti zenés áhítat: \n \n * \nMindenkit szeretettel vár a közösség és Tibor atya! \n * \n \n* \nBensőséges nagyböjti napokat\, jó munkát\, tartalmas beszélgetéseket és örömteli találkozásokat kívánunk minden Kedves Hívünknek! \n* \n„A kereszttel Isten túllép a szavakon: a kereszt az a szeretet\, amely nem magyarázható. Ezt akkor érthetjük meg\, ha engedjük\, hogy Isten őrülten szeressen. A kereszt beteljesíti és meghaladja a szavakat.” (Gaetano Piccolo SJ\, 1973 – ) \n(Kép forrása: Pixabay)
URL:https://stuttgarti-katolikusok.de/index.php/esemeny/szentmise-weingartenben-2/
LOCATION:Hl. Geist Weingarten\, Keplerstrasse 2\, Weingarten\, Baden-Württemberg\, 88250\, Németország
CATEGORIES:Szentmise
ATTACH;FMTTYPE=image/jpeg:https://stuttgarti-katolikusok.de/wp-content/uploads/2023/03/1200px-weingarten-gemeindezentrum-heilig-geist.jpg
END:VEVENT
BEGIN:VEVENT
DTSTART;TZID=Europe/Berlin:20230312T150000
DTEND;TZID=Europe/Berlin:20230312T160000
DTSTAMP:20260422T114153
CREATED:20230208T072029Z
LAST-MODIFIED:20230210T112420Z
UID:25776-1678633200-1678636800@stuttgarti-katolikusok.de
SUMMARY:Ulm - igeistentisztelet
DESCRIPTION:
URL:https://stuttgarti-katolikusok.de/index.php/esemeny/ulm-igeistentisztelet-2/
LOCATION:Baden-Württemberg
CATEGORIES:Szentmisék helye és ideje
END:VEVENT
BEGIN:VEVENT
DTSTART;TZID=Europe/Berlin:20230312T150000
DTEND;TZID=Europe/Berlin:20230312T160000
DTSTAMP:20260422T114153
CREATED:20230208T072029Z
LAST-MODIFIED:20230210T112420Z
UID:25777-1678633200-1678636800@stuttgarti-katolikusok.de
SUMMARY:Ökumenikus istentisztelet - Lutherkirche
DESCRIPTION:
URL:https://stuttgarti-katolikusok.de/index.php/esemeny/okumenikus-istentisztelet-lutherkirche-2/
LOCATION:Baden-Württemberg
CATEGORIES:Szentmisék helye és ideje
END:VEVENT
BEGIN:VEVENT
DTSTART;TZID=Europe/Berlin:20230312T150000
DTEND;TZID=Europe/Berlin:20230312T160000
DTSTAMP:20260422T114153
CREATED:20230307T094619Z
LAST-MODIFIED:20230307T101918Z
UID:26420-1678633200-1678636800@stuttgarti-katolikusok.de
SUMMARY:Igeistentisztelet Ulmban
DESCRIPTION:Március 12-én\, Nagyböjt 3. vasárnapja\, Ulmban 15.00 órakor igeistentisztelet. \nTekintettel arra\, hogy ezen a napon ökumenikus istentisztelet lesz Stuttgartban\, amelyen a hagyomány szerint a katolikus lelkipásztor az igehirdető\, Ft. Czumbel Lajos állandó diakónus tartja az igeistentiszteletet Ulmban. \n \nAmennyiben lehetőségetek van\, szeretettel várunk benneteket Weingartenbe ugyancsak vasárnap. \n9.00 órakor szentmise lesz a Heilig Geist templomban\, majd ezt követően 10.00 órától zenés áhítat: \n \nMindenkit szeretettel vár a közösség és Tibor atya! \n * \n \n* \nBensőséges nagyböjti napokat\, jó munkát\, tartalmas beszélgetéseket és örömteli találkozásokat kívánunk minden Kedves Hívünknek! \n* \n„A kereszttel Isten túllép a szavakon: a kereszt az a szeretet\, amely nem magyarázható. Ezt akkor érthetjük meg\, ha engedjük\, hogy Isten őrülten szeressen. A kereszt beteljesíti és meghaladja a szavakat.” (Gaetano Piccolo SJ\, 1973 – ) \n(Kép forrása: Pixabay)
URL:https://stuttgarti-katolikusok.de/index.php/esemeny/igeistentisztelet-ulmban-2/
LOCATION:St. Michael zu den Wengen\, Wengengasse 6\, Ulm\, Baden-Württemberg\, 89073\, Németország
CATEGORIES:Igeistentisztelet
ATTACH;FMTTYPE=image/jpeg:https://stuttgarti-katolikusok.de/wp-content/uploads/2015/12/Wengenkirche1-e1483916551260.jpg
END:VEVENT
BEGIN:VEVENT
DTSTART;TZID=Europe/Berlin:20230317T173000
DTEND;TZID=Europe/Berlin:20230319T133000
DTSTAMP:20260422T114153
CREATED:20230313T202905Z
LAST-MODIFIED:20230313T203028Z
UID:26470-1679074200-1679232600@stuttgarti-katolikusok.de
SUMMARY:Stuttgarti Csendes Napok - 2023. március 17 - 19.
DESCRIPTION: Stuttgarti Csendes Napok – 2023. március 17 – 19. \n \nA fenti programon túl pénteken\, 2023. március 17-én: \n\n17.30 órakor keresztúti ájtatosság\,\n19.00 órakor az Erasmus Akadémia találkozójára kerül sor.\n\nTémánk: Szinodális Út az Egyházban \nElőadók: Merlás Tibor atya \nHelyszín: Bruder Klaus templom közösségi terme \nTermészetesen Szmutku Róbert atya is beszámol tapasztalatairól a szatmári egyházmegyét illetően. \n* \nMárcius 19-én\, Nagyböjt 4. vasárnapja\, Stuttgartban  \n11.30 órakor ünnepi záró szentmise\,  \n12.30 órakor „Stabat Mater dolorosa” nagyböjti zenés meditáció \n \n* \nMindenkit szeretettel vár a közösség és Tibor atya! \n * \n \n* \nBensőséges nagyböjti napokat\, jó munkát\, tartalmas beszélgetéseket és örömteli találkozásokat kívánunk minden Kedves Hívünknek! \n* \n„Nem büntethetné Isten érzékenyebben az embert\, mint ha megengedné\, hogy minden kívánsága szerint történjen. \nJózsefnek testvérei sohasem használhattak volna annyit szeretetükkel\, mint amennyit használtak gonoszságukkal és gyűlöletükkel.” (Morus Szent Tamás – angol humanista – 1478 – 1535) \n(Kép forrása: Pixabay)
URL:https://stuttgarti-katolikusok.de/index.php/esemeny/stuttgarti-csendes-napok-2023-marcius-17-19/
LOCATION:Bruder Klaus Kirche\, Albert-Schäffle-Straße 30\, Stuttgart\, Baden-Württemberg\, 70186\, Németország
CATEGORIES:Stuttgarti Csendes Napok
ATTACH;FMTTYPE=image/jpeg:https://stuttgarti-katolikusok.de/wp-content/uploads/2015/12/013__2_klaus.jpg
END:VEVENT
BEGIN:VEVENT
DTSTART;TZID=Europe/Berlin:20230317T180000
DTEND;TZID=Europe/Berlin:20230319T130000
DTSTAMP:20260422T114153
CREATED:20230208T072032Z
LAST-MODIFIED:20230210T112423Z
UID:25781-1679076000-1679230800@stuttgarti-katolikusok.de
SUMMARY:Stuttgarti csendes napok
DESCRIPTION:
URL:https://stuttgarti-katolikusok.de/index.php/esemeny/stuttgarti-csendes-napok-3/
LOCATION:Baden-Württemberg
CATEGORIES:Szentmisék helye és ideje
END:VEVENT
BEGIN:VEVENT
DTSTART;TZID=Europe/Berlin:20230318T153000
DTEND;TZID=Europe/Berlin:20230318T163000
DTSTAMP:20260422T114153
CREATED:20230208T072030Z
LAST-MODIFIED:20230210T112421Z
UID:25778-1679153400-1679157000@stuttgarti-katolikusok.de
SUMMARY:Heidenheim
DESCRIPTION:
URL:https://stuttgarti-katolikusok.de/index.php/esemeny/heidenheim-13/
LOCATION:Baden-Württemberg
CATEGORIES:Szentmisék helye és ideje
END:VEVENT
BEGIN:VEVENT
DTSTART;TZID=Europe/Berlin:20230318T153000
DTEND;TZID=Europe/Berlin:20230318T173000
DTSTAMP:20260422T114153
CREATED:20230313T203605Z
LAST-MODIFIED:20230313T203605Z
UID:26473-1679153400-1679160600@stuttgarti-katolikusok.de
SUMMARY:Szentmise Heidenheimban
DESCRIPTION:Március 18-án\, szombaton\, Heidenheimban 15.30 órakor szentmise\, utána agapé. A szentmise keretében kiszolgáltatom a szentkenet szentségét. \nMindenkit szeretettel vár a közösség és Tibor atya! \n * \n \n* \nBensőséges nagyböjti napokat\, jó munkát\, tartalmas beszélgetéseket és örömteli találkozásokat kívánunk minden Kedves Hívünknek! \n* \n„Nem büntethetné Isten érzékenyebben az embert\, mint ha megengedné\, hogy minden kívánsága szerint történjen. \nJózsefnek testvérei sohasem használhattak volna annyit szeretetükkel\, mint amennyit használtak gonoszságukkal és gyűlöletükkel.” (Morus Szent Tamás – angol humanista – 1478 – 1535) \n(Kép forrása: Pixabay)
URL:https://stuttgarti-katolikusok.de/index.php/esemeny/szentmise-heidenheimban-2/
LOCATION:Dreifaltigkeitskirche\, Verdi Str. 13\, Heidenheim an der Brenz\, Baden-Würtenberg\, 89518\, Németország
CATEGORIES:Szentmise
ATTACH;FMTTYPE=image/jpeg:https://stuttgarti-katolikusok.de/wp-content/uploads/2020/11/heidenheim1.jpg
END:VEVENT
BEGIN:VEVENT
DTSTART;TZID=Europe/Berlin:20230319T113000
DTEND;TZID=Europe/Berlin:20230319T123000
DTSTAMP:20260422T114153
CREATED:20230208T072031Z
LAST-MODIFIED:20230210T112422Z
UID:25779-1679225400-1679229000@stuttgarti-katolikusok.de
SUMMARY:Stuttgart
DESCRIPTION:
URL:https://stuttgarti-katolikusok.de/index.php/esemeny/stuttgart-48/
LOCATION:Baden-Württemberg
CATEGORIES:Szentmisék helye és ideje
END:VEVENT
BEGIN:VEVENT
DTSTART;TZID=Europe/Berlin:20230319T153000
DTEND;TZID=Europe/Berlin:20230319T163000
DTSTAMP:20260422T114153
CREATED:20230208T072031Z
LAST-MODIFIED:20230210T112422Z
UID:25780-1679239800-1679243400@stuttgarti-katolikusok.de
SUMMARY:Eislingen
DESCRIPTION:
URL:https://stuttgarti-katolikusok.de/index.php/esemeny/eislingen-10/
LOCATION:Baden-Württemberg
CATEGORIES:Szentmisék helye és ideje
END:VEVENT
BEGIN:VEVENT
DTSTART;TZID=Europe/Berlin:20230319T153000
DTEND;TZID=Europe/Berlin:20230319T173000
DTSTAMP:20260422T114153
CREATED:20230313T204000Z
LAST-MODIFIED:20230313T204000Z
UID:26475-1679239800-1679247000@stuttgarti-katolikusok.de
SUMMARY:Szentmise Eislingenben
DESCRIPTION: Március 19-én\, Nagyböjt 4. vasárnapja\,  Eislingenben 15.30 órakor szentmise\, keretében a szentkenet szentségének kiszolgáltatása\, utána agapé. \n* \nMindenkit szeretettel vár a közösség és Tibor atya! \n * \n \n* \nBensőséges nagyböjti napokat\, jó munkát\, tartalmas beszélgetéseket és örömteli találkozásokat kívánunk minden Kedves Hívünknek! \n* \n„Nem büntethetné Isten érzékenyebben az embert\, mint ha megengedné\, hogy minden kívánsága szerint történjen. \nJózsefnek testvérei sohasem használhattak volna annyit szeretetükkel\, mint amennyit használtak gonoszságukkal és gyűlöletükkel.” (Morus Szent Tamás – angol humanista – 1478 – 1535) \n(Kép forrása: Pixabay)
URL:https://stuttgarti-katolikusok.de/index.php/esemeny/szentmise-eislingenben-2/
LOCATION:Liebfrauen-Kirche\, Eberhardt Str. 30\, Eislingen/Fils\, Baden-Württemberg\, 73054\, Németország
CATEGORIES:Szentmise
ATTACH;FMTTYPE=image/jpeg:https://stuttgarti-katolikusok.de/wp-content/uploads/2015/12/Eislingen.jpg
END:VEVENT
BEGIN:VEVENT
DTSTART;TZID=Europe/Berlin:20230324T160000
DTEND;TZID=Europe/Berlin:20230324T173000
DTSTAMP:20260422T114153
CREATED:20240104T090920Z
LAST-MODIFIED:20240104T090920Z
UID:27903-1679673600-1679679000@stuttgarti-katolikusok.de
SUMMARY:Barátságklub
DESCRIPTION:
URL:https://stuttgarti-katolikusok.de/index.php/esemeny/baratsagklub-2/
LOCATION:Baden-Württemberg
CATEGORIES:Szentmisék helye és ideje
END:VEVENT
BEGIN:VEVENT
DTSTART;TZID=Europe/Berlin:20230324T160000
DTEND;TZID=Europe/Berlin:20230324T190000
DTSTAMP:20260422T114153
CREATED:20230320T233613Z
LAST-MODIFIED:20230320T233613Z
UID:26493-1679673600-1679684400@stuttgarti-katolikusok.de
SUMMARY:Stuttgarti délután
DESCRIPTION:Március 24-én\, pénteken\, Stuttgarti délután\, \n16.00 órakor keresztúti ájtatosság\, \n16.30 órakor szentmise\, \n17.00 órakor Barátságklub. \n \n* \nMindenkit szeretettel vár a közösség és Tibor atya! \n * \n \n* \nBensőséges nagyböjti napokat\, jó munkát\, tartalmas beszélgetéseket és örömteli találkozásokat kívánunk minden Kedves Hívünknek! \n* \n„Szent Pál arra figyelmeztet\, hogy amikor Jézus testét magunkhoz vesszük – az Úr halálát hirdetjük. A mi keresztény életünk tápláléka tehát Jézus Krisztus halálából fakad. De nekünk is meg kell halnunk Krisztussal\, hogy isteni életünk legyen” (Mindszenty József – bíboros-hercegprímás – 1892 – 1975) \n(Kép forrása: Pixabay)
URL:https://stuttgarti-katolikusok.de/index.php/esemeny/stuttgarti-delutan-7/
LOCATION:Bruder Klaus Kirche\, Albert-Schäffle-Straße 30\, Stuttgart\, Baden-Württemberg\, 70186\, Németország
CATEGORIES:Stuttgarti délután
ATTACH;FMTTYPE=image/jpeg:https://stuttgarti-katolikusok.de/wp-content/uploads/2015/12/013__2_klaus.jpg
END:VEVENT
BEGIN:VEVENT
DTSTART;TZID=Europe/Berlin:20230325T160000
DTEND;TZID=Europe/Berlin:20230325T170000
DTSTAMP:20260422T114153
CREATED:20230208T072033Z
LAST-MODIFIED:20230210T112424Z
UID:25782-1679760000-1679763600@stuttgarti-katolikusok.de
SUMMARY:Tuttlingen
DESCRIPTION:
URL:https://stuttgarti-katolikusok.de/index.php/esemeny/tuttlingen-13/
LOCATION:Baden-Württemberg
CATEGORIES:Szentmisék helye és ideje
END:VEVENT
BEGIN:VEVENT
DTSTART;TZID=Europe/Berlin:20230325T160000
DTEND;TZID=Europe/Berlin:20230325T180000
DTSTAMP:20260422T114153
CREATED:20230320T234025Z
LAST-MODIFIED:20230320T234025Z
UID:26495-1679760000-1679767200@stuttgarti-katolikusok.de
SUMMARY:Szentmise Tuttlingenben
DESCRIPTION:Március 25-én\, szombaton\, Tuttlingenben 16.00 órakor szentmise\, utána agapé a megszokott helyünkön. A szentmise keretében kiszolgáltatom a szentkenet szentségét. \nMindenkit szeretettel vár a közösség és Tibor atya! \n * \n \n* \nBensőséges nagyböjti napokat\, jó munkát\, tartalmas beszélgetéseket és örömteli találkozásokat kívánunk minden Kedves Hívünknek! \n* \n„Szent Pál arra figyelmeztet\, hogy amikor Jézus testét magunkhoz vesszük – az Úr halálát hirdetjük. A mi keresztény életünk tápláléka tehát Jézus Krisztus halálából fakad. De nekünk is meg kell halnunk Krisztussal\, hogy isteni életünk legyen” (Mindszenty József – bíboros-hercegprímás – 1892 – 1975) \n(Kép forrása: Pixabay)
URL:https://stuttgarti-katolikusok.de/index.php/esemeny/szentmise-tuttlingenben-3/
LOCATION:St. Gallus Kirche\, Guttenbergstrasse 9\, Tuttlingen\, Baden-Württemberg\, 78532\, Németország
CATEGORIES:Szentmise
ATTACH;FMTTYPE=image/jpeg:https://stuttgarti-katolikusok.de/wp-content/uploads/2021/05/sankt-gallus-tuttlingen-1.jpg
END:VEVENT
BEGIN:VEVENT
DTSTART;TZID=Europe/Berlin:20230326T093000
DTEND;TZID=Europe/Berlin:20230326T103000
DTSTAMP:20260422T114153
CREATED:20230208T072033Z
LAST-MODIFIED:20230210T112424Z
UID:25783-1679823000-1679826600@stuttgarti-katolikusok.de
SUMMARY:Böblingen
DESCRIPTION:
URL:https://stuttgarti-katolikusok.de/index.php/esemeny/boblingen-13/
LOCATION:Baden-Württemberg
CATEGORIES:Szentmisék helye és ideje
END:VEVENT
END:VCALENDAR