BEGIN:VCALENDAR
VERSION:2.0
PRODID:-//Stuttgarti Katolikusok - ECPv6.15.20//NONSGML v1.0//EN
CALSCALE:GREGORIAN
METHOD:PUBLISH
X-ORIGINAL-URL:https://stuttgarti-katolikusok.de
X-WR-CALDESC:Események Stuttgarti Katolikusok
REFRESH-INTERVAL;VALUE=DURATION:PT1H
X-Robots-Tag:noindex
X-PUBLISHED-TTL:PT1H
BEGIN:VTIMEZONE
TZID:Europe/Berlin
BEGIN:DAYLIGHT
TZOFFSETFROM:+0100
TZOFFSETTO:+0200
TZNAME:CEST
DTSTART:20210328T010000
END:DAYLIGHT
BEGIN:STANDARD
TZOFFSETFROM:+0200
TZOFFSETTO:+0100
TZNAME:CET
DTSTART:20211031T010000
END:STANDARD
BEGIN:DAYLIGHT
TZOFFSETFROM:+0100
TZOFFSETTO:+0200
TZNAME:CEST
DTSTART:20220327T010000
END:DAYLIGHT
BEGIN:STANDARD
TZOFFSETFROM:+0200
TZOFFSETTO:+0100
TZNAME:CET
DTSTART:20221030T010000
END:STANDARD
BEGIN:DAYLIGHT
TZOFFSETFROM:+0100
TZOFFSETTO:+0200
TZNAME:CEST
DTSTART:20230326T010000
END:DAYLIGHT
BEGIN:STANDARD
TZOFFSETFROM:+0200
TZOFFSETTO:+0100
TZNAME:CET
DTSTART:20231029T010000
END:STANDARD
END:VTIMEZONE
BEGIN:VEVENT
DTSTART;TZID=Europe/Berlin:20221002T083000
DTEND;TZID=Europe/Berlin:20221002T093000
DTSTAMP:20260421T231824
CREATED:20230208T071852Z
LAST-MODIFIED:20230208T072550Z
UID:25637-1664699400-1664703000@stuttgarti-katolikusok.de
SUMMARY:Schwäbisch Gmünd
DESCRIPTION:
URL:https://stuttgarti-katolikusok.de/index.php/esemeny/schwabisch-gmund-26/
LOCATION:Baden-Württemberg
CATEGORIES:Szentmisék helye és ideje
END:VEVENT
BEGIN:VEVENT
DTSTART;TZID=Europe/Berlin:20221002T093000
DTEND;TZID=Europe/Berlin:20221002T113000
DTSTAMP:20260421T231824
CREATED:20220926T014335Z
LAST-MODIFIED:20220926T014335Z
UID:23697-1664703000-1664710200@stuttgarti-katolikusok.de
SUMMARY:Szentmise Schwäbisch-Gmündben
DESCRIPTION:Október 2-án\, évközi 27. vasárnap\, Schwäbisch-Gmündben 9.30 órakor szentmise\,  utána ágápé. \nMindenkit szeretettel vár a közösség és Tibor atya! \n* \n„Az igazi szeretet ott kezdődik\, ahol már nem vársz érte viszonzást” \n(Antonie de Saint-Exupéry)
URL:https://stuttgarti-katolikusok.de/index.php/esemeny/szentmise-schwabisch-gmundben-58/
LOCATION:Sankt Franziskus Kirche\, Franziskaner Str. 3\, Schwäbisch-Gmünd\, Baden-Württemberg\, 73525\, Németország
CATEGORIES:Szentmise
ATTACH;FMTTYPE=image/jpeg:https://stuttgarti-katolikusok.de/wp-content/uploads/2018/03/st-franziskus-schw-gmund.jpg
END:VEVENT
BEGIN:VEVENT
DTSTART;TZID=Europe/Berlin:20221002T140000
DTEND;TZID=Europe/Berlin:20221002T150000
DTSTAMP:20260421T231824
CREATED:20230208T071853Z
LAST-MODIFIED:20230208T072550Z
UID:25638-1664719200-1664722800@stuttgarti-katolikusok.de
SUMMARY:Stuttgart
DESCRIPTION:
URL:https://stuttgarti-katolikusok.de/index.php/esemeny/stuttgart-30/
LOCATION:Baden-Württemberg
CATEGORIES:Szentmisék helye és ideje
END:VEVENT
BEGIN:VEVENT
DTSTART;TZID=Europe/Berlin:20221002T150000
DTEND;TZID=Europe/Berlin:20221002T170000
DTSTAMP:20260421T231824
CREATED:20220926T014607Z
LAST-MODIFIED:20220926T014607Z
UID:23699-1664722800-1664730000@stuttgarti-katolikusok.de
SUMMARY:Szentmise Stuttgartban
DESCRIPTION:Október 2-án\, évközi 27. vasárnap\, Stuttgartban 15.00 órakor szentmise. Elsővasárnap lévén\, gyermekmise\, várjuk szeretettel a gyermekeket a szülőkkel együtt\, utána ágápé. \nMindenkit szeretettel vár a közösség és Tibor atya! \n* \n„Az igazi szeretet ott kezdődik\, ahol már nem vársz érte viszonzást” \n(Antonie de Saint-Exupéry)
URL:https://stuttgarti-katolikusok.de/index.php/esemeny/szentmise-stuttgartban-105/
LOCATION:Bruder Klaus Kirche\, Albert-Schäffle-Straße 30\, Stuttgart\, Baden-Württemberg\, 70186\, Németország
CATEGORIES:Szentmise
ATTACH;FMTTYPE=image/jpeg:https://stuttgarti-katolikusok.de/wp-content/uploads/2015/12/013__2_klaus.jpg
END:VEVENT
BEGIN:VEVENT
DTSTART;TZID=Europe/Berlin:20221006T173000
DTEND;TZID=Europe/Berlin:20221006T190000
DTSTAMP:20260421T231824
CREATED:20221003T093406Z
LAST-MODIFIED:20221003T093406Z
UID:23723-1665077400-1665082800@stuttgarti-katolikusok.de
SUMMARY:Ulmi délután
DESCRIPTION:Október 6-án\, csütörtökön\, Ulmi délután\, 17.30 órakor októberi ájtatosság\, majd szentmise. \n Mindenkit szeretettel vár a közösség és Tibor atya! \n* \n„Az ember földi életét szabadon rendezheti be\, de boldogulása teremtmény mivoltából következőleg a Teremtő akaratának teljesítéséhez van kötve.” (Márton Áron püspök – 1896 – 1980)
URL:https://stuttgarti-katolikusok.de/index.php/esemeny/ulmi-delutan-181/
LOCATION:St. Michael zu den Wengen\, Wengengasse 6\, Ulm\, Baden-Württemberg\, 89073\, Németország
CATEGORIES:Ulmi délután
ATTACH;FMTTYPE=image/jpeg:https://stuttgarti-katolikusok.de/wp-content/uploads/2015/12/Wengenkirche1-e1483916551260.jpg
END:VEVENT
BEGIN:VEVENT
DTSTART;TZID=Europe/Berlin:20221007T080000
DTEND;TZID=Europe/Berlin:20221007T170000
DTSTAMP:20260421T231824
CREATED:20221003T093643Z
LAST-MODIFIED:20221003T093643Z
UID:23725-1665129600-1665162000@stuttgarti-katolikusok.de
SUMMARY:Stuttgarti délután
DESCRIPTION: Október 7-én\, pénteken\, Stuttgarti délután\,  \n16.30 órakor Barátságklub\, \n18.00 órakor októberi ájtatosság\, majd szentmise. \nMindenkit szeretettel vár a közösség és Tibor atya! \n* \n„Az ember földi életét szabadon rendezheti be\, de boldogulása teremtmény mivoltából következőleg a Teremtő akaratának teljesítéséhez van kötve.” (Márton Áron püspök – 1896 – 1980)
URL:https://stuttgarti-katolikusok.de/index.php/esemeny/stuttgarti-delutan-219/
LOCATION:Bruder Klaus Kirche\, Albert-Schäffle-Straße 30\, Stuttgart\, Baden-Württemberg\, 70186\, Németország
CATEGORIES:Stuttgarti délután
ATTACH;FMTTYPE=image/jpeg:https://stuttgarti-katolikusok.de/wp-content/uploads/2015/12/013__2_klaus.jpg
END:VEVENT
BEGIN:VEVENT
DTSTART;TZID=Europe/Berlin:20221008T153000
DTEND;TZID=Europe/Berlin:20221008T163000
DTSTAMP:20260421T231824
CREATED:20230208T071859Z
LAST-MODIFIED:20230208T072551Z
UID:25639-1665243000-1665246600@stuttgarti-katolikusok.de
SUMMARY:Biberach
DESCRIPTION:
URL:https://stuttgarti-katolikusok.de/index.php/esemeny/biberach-18/
LOCATION:Baden-Württemberg
CATEGORIES:Szentmisék helye és ideje
END:VEVENT
BEGIN:VEVENT
DTSTART;TZID=Europe/Berlin:20221008T164500
DTEND;TZID=Europe/Berlin:20221008T183000
DTSTAMP:20260421T231824
CREATED:20221003T093951Z
LAST-MODIFIED:20221003T093951Z
UID:23727-1665247500-1665253800@stuttgarti-katolikusok.de
SUMMARY:Szentmise Biberachban
DESCRIPTION:Október 8-án\, szombaton\, Biberachban 16.45 órakor szentmise\, majd ezt követően ágápé. \nMindenkit szeretettel vár a közösség és Tibor atya! \n* \n„Az ember földi életét szabadon rendezheti be\, de boldogulása teremtmény mivoltából következőleg a Teremtő akaratának teljesítéséhez van kötve.” (Márton Áron püspök – 1896 – 1980)
URL:https://stuttgarti-katolikusok.de/index.php/esemeny/szentmise-biberachban-52/
LOCATION:Dreifaltigkeitskirche Biberach\, Mittelbergstr. 29\, Biberach an der Riß\, Baden Württemberg\, 88400\, Németország
CATEGORIES:Szentmise
ATTACH;FMTTYPE=image/jpeg:https://stuttgarti-katolikusok.de/wp-content/uploads/2020/05/dreifeltigskeit-bc.jpg
END:VEVENT
BEGIN:VEVENT
DTSTART;TZID=Europe/Berlin:20221009T090000
DTEND;TZID=Europe/Berlin:20221009T100000
DTSTAMP:20260421T231824
CREATED:20230208T072007Z
LAST-MODIFIED:20230208T072825Z
UID:25742-1665306000-1665309600@stuttgarti-katolikusok.de
SUMMARY:Weingarten - Heilig Geist - agape: St. Martinus
DESCRIPTION:
URL:https://stuttgarti-katolikusok.de/index.php/esemeny/weingarten-heilig-geist-agape-st-martinus-2/
LOCATION:Baden-Württemberg
CATEGORIES:Szentmisék helye és ideje
END:VEVENT
BEGIN:VEVENT
DTSTART;TZID=Europe/Berlin:20221009T100000
DTEND;TZID=Europe/Berlin:20221009T120000
DTSTAMP:20260421T231824
CREATED:20221003T095438Z
LAST-MODIFIED:20221003T095438Z
UID:23729-1665309600-1665316800@stuttgarti-katolikusok.de
SUMMARY:Szentmise Weingartenben
DESCRIPTION:Október 9-én\, évközi 28. vasárnap\, Weingartenben 10.00 órakor szentmise!!! a Heilig Geist Kirche-ben\, utána ágápé  a St. Martin közösségi házban. \nMindenkit szeretettel vár a közösség és Tibor atya! \n* \n„Az ember földi életét szabadon rendezheti be\, de boldogulása teremtmény mivoltából következőleg a Teremtő akaratának teljesítéséhez van kötve.” (Márton Áron püspök – 1896 – 1980)
URL:https://stuttgarti-katolikusok.de/index.php/esemeny/szentmise-weingartenben-65/
LOCATION:Hl. Geist Weingarten\, Keplerstrasse 2\, Weingarten\, Baden-Württemberg\, 88250\, Németország
CATEGORIES:Szentmise
END:VEVENT
BEGIN:VEVENT
DTSTART;TZID=Europe/Berlin:20221009T140000
DTEND;TZID=Europe/Berlin:20221009T150000
DTSTAMP:20260421T231824
CREATED:20230208T071900Z
LAST-MODIFIED:20230208T072552Z
UID:25640-1665324000-1665327600@stuttgarti-katolikusok.de
SUMMARY:Ulm búcsú
DESCRIPTION:
URL:https://stuttgarti-katolikusok.de/index.php/esemeny/ulm-bucsu-3/
LOCATION:Baden-Württemberg
CATEGORIES:Szentmisék helye és ideje
END:VEVENT
BEGIN:VEVENT
DTSTART;TZID=Europe/Berlin:20221009T150000
DTEND;TZID=Europe/Berlin:20221009T170000
DTSTAMP:20260421T231824
CREATED:20221003T100122Z
LAST-MODIFIED:20221007T072745Z
UID:23731-1665327600-1665334800@stuttgarti-katolikusok.de
SUMMARY:Magyarok Nagyasszonya búcsúünnep Ulmban
DESCRIPTION:Október 9-én\, évközi 28. vasárnap\, Ulmban 15.00 órakor egyházközségi búcsús szentmise\, melyben Magyarok Nagyasszonyát köszöntjük\, utána ágápé. \n  \n(Az ulmi részegyházközség miseruhája) \n * \nMinden helyen mindenkit szeretettel vár a közösség és Tibor atya! \n* \nNagyasszonyunk\, hazánk reménye!\nBús nemzeted zokogva esd!\nNyújtsd irgalomjobbod feléje\,\nBotlásiért\, ó\, meg ne vesd!\nMi lesz belőlünk\, ha Te elhagysz?\nÓ\, árvaságunk sírba hervaszt!\nMinden reményünk csak Te vagy:\nSzent Szűzanyánk\, szent Szűzanyánk\,\nÓ\, el ne hagyj! \nHozzád sír a jobbak keserve\nJámbor családok tűzhelyén!\nA szebb idők után esengve\,\nMikor nap ült hazánk egén.\nÓ\, kérjed Istent újra értünk;\nNe hagyd elveszni árva népünk!\nMinden reményünk csak Te vagy… \nOltáridat körülzokogjuk\nNaponta mert\, ó\, vétkezénk!\nÉs sírva szent Neved kiáltjuk:\nSzűz Mária\, tekints felénk!\nMutasd meg még egyszer e népnek\,\nHogy pártfogásod mit segíthet!\nMinden reményünk csak Te vagy… \n* \n„Az ember földi életét szabadon rendezheti be\, de boldogulása teremtmény mivoltából következőleg a Teremtő akaratának teljesítéséhez van kötve.” (Márton Áron püspök – 1896 – 1980)
URL:https://stuttgarti-katolikusok.de/index.php/esemeny/23731/
LOCATION:St. Michael zu den Wengen\, Wengengasse 6\, Ulm\, Baden-Württemberg\, 89073\, Németország
CATEGORIES:Szentmise
ATTACH;FMTTYPE=image/jpeg:https://stuttgarti-katolikusok.de/wp-content/uploads/2015/12/Wengenkirche1-e1483916551260.jpg
END:VEVENT
BEGIN:VEVENT
DTSTART;TZID=Europe/Berlin:20221012T173000
DTEND;TZID=Europe/Berlin:20221012T190000
DTSTAMP:20260421T231824
CREATED:20221010T091133Z
LAST-MODIFIED:20221025T081449Z
UID:23755-1665595800-1665601200@stuttgarti-katolikusok.de
SUMMARY:Weingarteni délután
DESCRIPTION:Október 12-én\, szerdán\, Weingarteni délután\, a 14 Nothelfer Kapelle-ben 17.30 órakor rózsafüzért imádkozunk\, ezt követően 18.00 órakor szentmise.  \nMindenkit szeretettel vár a közösség és Tibor atya! \n* \n„Szeretet nélkül magunk számára is csak teher vagyunk. A szeretetben viszont egymást is tudjuk hordozni.” (Szent Ágoston – egyházatya – 354 – 430) \nSzép őszi napokat\, jó munkát\, tartalmas beszélgetéseket és örömteli találkozásokat kívánunk minden kedves Hívünknek!
URL:https://stuttgarti-katolikusok.de/index.php/esemeny/weingarteni-delutan-174/
LOCATION:Marienkirche\, St. Konrad Str. 28\, Weingarten\, Baden Württemberg\, 88250\, Németország
CATEGORIES:Weingarteni délután
ATTACH;FMTTYPE=image/jpeg:https://stuttgarti-katolikusok.de/wp-content/uploads/2016/01/weingarten-marien-kirche.jpg
END:VEVENT
BEGIN:VEVENT
DTSTART;TZID=Europe/Berlin:20221014T163000
DTEND;TZID=Europe/Berlin:20221014T190000
DTSTAMP:20260421T231824
CREATED:20221010T091403Z
LAST-MODIFIED:20221010T091403Z
UID:23757-1665765000-1665774000@stuttgarti-katolikusok.de
SUMMARY:Stuttgarti délután
DESCRIPTION:Október 14-én\, pénteken\, Stuttgarti délután\,  \n16.30 órakor Barátságklub\, \n18.00 órakor októberi ájtatosság\, majd szentmise. \nMindenkit szeretettel vár a közösség és Tibor atya! \n* \n„Szeretet nélkül magunk számára is csak teher vagyunk. A szeretetben viszont egymást is tudjuk hordozni.” (Szent Ágoston – egyházatya – 354 – 430) \nSzép őszi napokat\, jó munkát\, tartalmas beszélgetéseket és örömteli találkozásokat kívánunk minden kedves Hívünknek!
URL:https://stuttgarti-katolikusok.de/index.php/esemeny/stuttgarti-delutan-220/
LOCATION:Bruder Klaus Kirche\, Albert-Schäffle-Straße 30\, Stuttgart\, Baden-Württemberg\, 70186\, Németország
CATEGORIES:Stuttgarti délután
ATTACH;FMTTYPE=image/jpeg:https://stuttgarti-katolikusok.de/wp-content/uploads/2015/12/013__2_klaus.jpg
END:VEVENT
BEGIN:VEVENT
DTSTART;TZID=Europe/Berlin:20221015T143000
DTEND;TZID=Europe/Berlin:20221015T153000
DTSTAMP:20260421T231824
CREATED:20230208T071901Z
LAST-MODIFIED:20230208T072552Z
UID:25641-1665844200-1665847800@stuttgarti-katolikusok.de
SUMMARY:Heidenheim
DESCRIPTION:
URL:https://stuttgarti-katolikusok.de/index.php/esemeny/heidenheim-8/
LOCATION:Baden-Württemberg
CATEGORIES:Szentmisék helye és ideje
END:VEVENT
BEGIN:VEVENT
DTSTART;TZID=Europe/Berlin:20221015T153000
DTEND;TZID=Europe/Berlin:20221015T173000
DTSTAMP:20260421T231824
CREATED:20221010T091722Z
LAST-MODIFIED:20221010T091746Z
UID:23759-1665847800-1665855000@stuttgarti-katolikusok.de
SUMMARY:Ökumenikus istentisztelet Heidenheimban
DESCRIPTION:Október 15-én\, szombaton\, Heidenheimban 15.30 órakor ökumenikus istentisztelet\, amelyet ágápé követ. Igét hirdet Nt. Varga Pál protestáns lelkész. \nMindenkit szeretettel vár a közösség és Tibor atya! \n* \n„Szeretet nélkül magunk számára is csak teher vagyunk. A szeretetben viszont egymást is tudjuk hordozni.” (Szent Ágoston – egyházatya – 354 – 430) \nSzép őszi napokat\, jó munkát\, tartalmas beszélgetéseket és örömteli találkozásokat kívánunk minden kedves Hívünknek!
URL:https://stuttgarti-katolikusok.de/index.php/esemeny/okumenikus-istentisztelet-heidenheimban-3/
LOCATION:Dreifaltigkeitskirche\, Verdi Str. 13\, Heidenheim an der Brenz\, Baden-Würtenberg\, 89518\, Németország
CATEGORIES:Ökumenikus istentisztelet
ATTACH;FMTTYPE=image/jpeg:https://stuttgarti-katolikusok.de/wp-content/uploads/2020/11/heidenheim1.jpg
END:VEVENT
BEGIN:VEVENT
DTSTART;TZID=Europe/Berlin:20221016T080000
DTEND;TZID=Europe/Berlin:20221016T090000
DTSTAMP:20260421T231824
CREATED:20230208T071940Z
LAST-MODIFIED:20230208T072801Z
UID:25697-1665907200-1665910800@stuttgarti-katolikusok.de
SUMMARY:Ludwigsburg
DESCRIPTION:
URL:https://stuttgarti-katolikusok.de/index.php/esemeny/ludwigsburg-9/
LOCATION:Baden-Württemberg
CATEGORIES:Szentmisék helye és ideje
END:VEVENT
BEGIN:VEVENT
DTSTART;TZID=Europe/Berlin:20221016T090000
DTEND;TZID=Europe/Berlin:20221016T110000
DTSTAMP:20260421T231824
CREATED:20221010T092144Z
LAST-MODIFIED:20221010T092144Z
UID:23761-1665910800-1665918000@stuttgarti-katolikusok.de
SUMMARY:Szentmise Ludwigsburgban
DESCRIPTION:Október 16-án\, évközi 29. vasárnap\, Ludwigsburgban 9.00 órakor szentmise\, utána ágápé. \nMindenkit szeretettel vár a közösség és Tibor atya! \n* \n„Szeretet nélkül magunk számára is csak teher vagyunk. A szeretetben viszont egymást is tudjuk hordozni.” (Szent Ágoston – egyházatya – 354 – 430) \nSzép őszi napokat\, jó munkát\, tartalmas beszélgetéseket és örömteli találkozásokat kívánunk minden kedves Hívünknek!
URL:https://stuttgarti-katolikusok.de/index.php/esemeny/szentmise-ludwigsburgban-51/
LOCATION:St. Josef Kirche\, Park Str. 30\, Ludwigsburg-Hoheneck\, Baden-Württemberg\, 71642
CATEGORIES:Szentmise
ATTACH;FMTTYPE=image/jpeg:https://stuttgarti-katolikusok.de/wp-content/uploads/2021/04/ludwigsburg.jpeg
END:VEVENT
BEGIN:VEVENT
DTSTART;TZID=Europe/Berlin:20221016T103000
DTEND;TZID=Europe/Berlin:20221016T113000
DTSTAMP:20260421T231825
CREATED:20230208T071940Z
LAST-MODIFIED:20230208T072801Z
UID:25696-1665916200-1665919800@stuttgarti-katolikusok.de
SUMMARY:Stuttgart
DESCRIPTION:
URL:https://stuttgarti-katolikusok.de/index.php/esemeny/stuttgart-39/
LOCATION:Baden-Württemberg
CATEGORIES:Szentmisék helye és ideje
END:VEVENT
BEGIN:VEVENT
DTSTART;TZID=Europe/Berlin:20221016T113000
DTEND;TZID=Europe/Berlin:20221016T133000
DTSTAMP:20260421T231825
CREATED:20221010T092634Z
LAST-MODIFIED:20221010T092634Z
UID:23764-1665919800-1665927000@stuttgarti-katolikusok.de
SUMMARY:Ökumenikus istentisztelet és Nemzeti ünnep Stuttgartban
DESCRIPTION:Október 16-án\, évközi 29. vasárnap\, Stuttgartban Nemzeti ünnep. \n11.30 órakor ökumenikus istentisztelet. Igét hirdet Nt. Gémes Pál evangélikus lelkész. \nUtána rövid kultúrműsor.  \nVégül ágápé a közösségi teremben\, \n*     \n \n * \nMinden helyen mindenkit szeretettel vár a közösség és Tibor atya! \n* \n„Szeretet nélkül magunk számára is csak teher vagyunk. A szeretetben viszont egymást is tudjuk hordozni.” (Szent Ágoston – egyházatya – 354 – 430) \nSzép őszi napokat\, jó munkát\, tartalmas beszélgetéseket és örömteli találkozásokat kívánunk minden kedves Hívünknek!
URL:https://stuttgarti-katolikusok.de/index.php/esemeny/okumenikus-istentisztelet-es-nemzeti-unnep-stuttgartban/
LOCATION:Bruder Klaus Kirche\, Albert-Schäffle-Straße 30\, Stuttgart\, Baden-Württemberg\, 70186\, Németország
CATEGORIES:Ökumenikus istentisztelet
ATTACH;FMTTYPE=image/jpeg:https://stuttgarti-katolikusok.de/wp-content/uploads/2015/12/013__2_klaus.jpg
END:VEVENT
BEGIN:VEVENT
DTSTART;TZID=Europe/Berlin:20221016T143000
DTEND;TZID=Europe/Berlin:20221016T153000
DTSTAMP:20260421T231825
CREATED:20230208T071901Z
LAST-MODIFIED:20230208T072553Z
UID:25642-1665930600-1665934200@stuttgarti-katolikusok.de
SUMMARY:Eislingen
DESCRIPTION:
URL:https://stuttgarti-katolikusok.de/index.php/esemeny/eislingen-7/
LOCATION:Baden-Württemberg
CATEGORIES:Szentmisék helye és ideje
END:VEVENT
BEGIN:VEVENT
DTSTART;TZID=Europe/Berlin:20221016T153000
DTEND;TZID=Europe/Berlin:20221016T173000
DTSTAMP:20260421T231825
CREATED:20221010T092940Z
LAST-MODIFIED:20221010T092940Z
UID:23766-1665934200-1665941400@stuttgarti-katolikusok.de
SUMMARY:Szentmise Eislingenben
DESCRIPTION:Október 16-án\, évközi 29. vasárnap\, Eislingenben 15.30 órakor szentmise\, utána ágápé.     \nMindenkit szeretettel vár a közösség és Tibor atya! \n* \n„Szeretet nélkül magunk számára is csak teher vagyunk. A szeretetben viszont egymást is tudjuk hordozni.” (Szent Ágoston – egyházatya – 354 – 430) \nSzép őszi napokat\, jó munkát\, tartalmas beszélgetéseket és örömteli találkozásokat kívánunk minden kedves Hívünknek!
URL:https://stuttgarti-katolikusok.de/index.php/esemeny/szentmise-eislingenben-51/
LOCATION:Liebfrauen-Kirche\, Eberhardt Str. 30\, Eislingen/Fils\, Baden-Württemberg\, 73054\, Németország
CATEGORIES:Szentmise
END:VEVENT
BEGIN:VEVENT
DTSTART;TZID=Europe/Berlin:20221019T083000
DTEND;TZID=Europe/Berlin:20221019T123000
DTSTAMP:20260421T231825
CREATED:20230208T071934Z
LAST-MODIFIED:20230208T072756Z
UID:25687-1666168200-1666182600@stuttgarti-katolikusok.de
SUMMARY:Rottenburg - Diözesankonferenz
DESCRIPTION:
URL:https://stuttgarti-katolikusok.de/index.php/esemeny/rottenburg-diozesankonferenz-2/
LOCATION:Baden-Württemberg
CATEGORIES:Szentmisék helye és ideje
END:VEVENT
BEGIN:VEVENT
DTSTART;TZID=Europe/Berlin:20221020T173000
DTEND;TZID=Europe/Berlin:20221020T190000
DTSTAMP:20260421T231825
CREATED:20221018T081538Z
LAST-MODIFIED:20221018T081538Z
UID:23812-1666287000-1666292400@stuttgarti-katolikusok.de
SUMMARY:Ulmi délután
DESCRIPTION:Október 20-án\, csütörtökön\, Ulmi délután\, 17.30 órakor rózsafüzért imádkozunk\, ezt követően szentmise\, melynek keretében katekézis. \nMindenkit szeretettel vár a közösség és Tibor atya! \n* \n \n* \nBensőséges őszi napokat\, jó munkát\, tartalmas beszélgetéseket és örömteli találkozásokat kívánunk minden Kedves Hívünknek! \n* \n„Csak az képes a mások életéért önmagát mélyen és állandóan odaadni\, aki a saját életakaratáért való odaadásban az eseményektől való belső szabadságot megtapasztalta.” \n(Albert Schweitzer – 1875-1965)
URL:https://stuttgarti-katolikusok.de/index.php/esemeny/ulmi-delutan-182/
LOCATION:St. Michael zu den Wengen\, Wengengasse 6\, Ulm\, Baden-Württemberg\, 89073\, Németország
CATEGORIES:Ulmi délután
ATTACH;FMTTYPE=image/jpeg:https://stuttgarti-katolikusok.de/wp-content/uploads/2015/12/Wengenkirche1-e1483916551260.jpg
END:VEVENT
BEGIN:VEVENT
DTSTART;TZID=Europe/Berlin:20221022T150000
DTEND;TZID=Europe/Berlin:20221022T160000
DTSTAMP:20260421T231825
CREATED:20230208T071902Z
LAST-MODIFIED:20230208T072553Z
UID:25643-1666450800-1666454400@stuttgarti-katolikusok.de
SUMMARY:Tuttlingen
DESCRIPTION:
URL:https://stuttgarti-katolikusok.de/index.php/esemeny/tuttlingen-9/
LOCATION:Baden-Württemberg
CATEGORIES:Szentmisék helye és ideje
END:VEVENT
BEGIN:VEVENT
DTSTART;TZID=Europe/Berlin:20221022T160000
DTEND;TZID=Europe/Berlin:20221022T180000
DTSTAMP:20260421T231825
CREATED:20221018T081925Z
LAST-MODIFIED:20221018T081925Z
UID:23814-1666454400-1666461600@stuttgarti-katolikusok.de
SUMMARY:Szentmise Tuttlingenben
DESCRIPTION:Október 22-én\, szombaton\, Tuttlingenben 16.30 órakor szentmise\, utána ágápé. \nMindenkit szeretettel vár a közösség és Tibor atya! \n* \n \n* \nBensőséges őszi napokat\, jó munkát\, tartalmas beszélgetéseket és örömteli találkozásokat kívánunk minden Kedves Hívünknek! \n* \n„Csak az képes a mások életéért önmagát mélyen és állandóan odaadni\, aki a saját életakaratáért való odaadásban az eseményektől való belső szabadságot megtapasztalta.” \n(Albert Schweitzer – 1875-1965)
URL:https://stuttgarti-katolikusok.de/index.php/esemeny/szentmise-tuttlingenben-21/
LOCATION:St. Gallus Kirche\, Guttenbergstrasse 9\, Tuttlingen\, Baden-Württemberg\, 78532\, Németország
CATEGORIES:Szentmise
ATTACH;FMTTYPE=image/jpeg:https://stuttgarti-katolikusok.de/wp-content/uploads/2021/05/sankt-gallus-tuttlingen-1.jpg
END:VEVENT
BEGIN:VEVENT
DTSTART;TZID=Europe/Berlin:20221023T083000
DTEND;TZID=Europe/Berlin:20221023T093000
DTSTAMP:20260421T231825
CREATED:20230208T071902Z
LAST-MODIFIED:20230208T072554Z
UID:25644-1666513800-1666517400@stuttgarti-katolikusok.de
SUMMARY:Böblingen
DESCRIPTION:
URL:https://stuttgarti-katolikusok.de/index.php/esemeny/boblingen-7/
LOCATION:Baden-Württemberg
CATEGORIES:Szentmisék helye és ideje
END:VEVENT
BEGIN:VEVENT
DTSTART;TZID=Europe/Berlin:20221023T093000
DTEND;TZID=Europe/Berlin:20221023T113000
DTSTAMP:20260421T231825
CREATED:20221018T082303Z
LAST-MODIFIED:20221018T082303Z
UID:23816-1666517400-1666524600@stuttgarti-katolikusok.de
SUMMARY:Szentmise Böblingenben
DESCRIPTION:Október 23-án\, évközi 30. vasárnap\, Böblingenben 9.30 órakor szentmise\, utána ágápé. \nMindenkit szeretettel vár a közösség és Tibor atya! \n* \n \n* \nBensőséges őszi napokat\, jó munkát\, tartalmas beszélgetéseket és örömteli találkozásokat kívánunk minden Kedves Hívünknek! \n* \n„Csak az képes a mások életéért önmagát mélyen és állandóan odaadni\, aki a saját életakaratáért való odaadásban az eseményektől való belső szabadságot megtapasztalta.” \n(Albert Schweitzer – 1875-1965)
URL:https://stuttgarti-katolikusok.de/index.php/esemeny/szentmise-boblingenben-47/
LOCATION:St. Bonifatius Kirche\, Sindelfinger Str. 14\, Böblingen\, Baden-Württemberg\, 71032\, Németország
CATEGORIES:Szentmise
ATTACH;FMTTYPE=image/jpeg:https://stuttgarti-katolikusok.de/wp-content/uploads/2021/11/boblingen.jpeg
END:VEVENT
BEGIN:VEVENT
DTSTART;TZID=Europe/Berlin:20221023T143000
DTEND;TZID=Europe/Berlin:20221023T153000
DTSTAMP:20260421T231825
CREATED:20230208T071909Z
LAST-MODIFIED:20230208T072554Z
UID:25645-1666535400-1666539000@stuttgarti-katolikusok.de
SUMMARY:Heilbronn
DESCRIPTION:
URL:https://stuttgarti-katolikusok.de/index.php/esemeny/heilbronn-9/
LOCATION:Baden-Württemberg
CATEGORIES:Szentmisék helye és ideje
END:VEVENT
BEGIN:VEVENT
DTSTART;TZID=Europe/Berlin:20221023T153000
DTEND;TZID=Europe/Berlin:20221023T173000
DTSTAMP:20260421T231825
CREATED:20221018T082630Z
LAST-MODIFIED:20221018T082630Z
UID:23818-1666539000-1666546200@stuttgarti-katolikusok.de
SUMMARY:Szentmise Heilbronnban
DESCRIPTION:Október 23-án\, évközi 30. vasárnap\, Heilbronnban 15.30 órakor szentmise\, utána ágápé. \nMindenkit szeretettel vár a közösség és Tibor atya! \n* \n \n* \nBensőséges őszi napokat\, jó munkát\, tartalmas beszélgetéseket és örömteli találkozásokat kívánunk minden Kedves Hívünknek! \n* \n„Csak az képes a mások életéért önmagát mélyen és állandóan odaadni\, aki a saját életakaratáért való odaadásban az eseményektől való belső szabadságot megtapasztalta.” \n(Albert Schweitzer – 1875-1965)
URL:https://stuttgarti-katolikusok.de/index.php/esemeny/szentmise-heilbronnban-49/
LOCATION:Baden-Württemberg
CATEGORIES:Szentmise
ATTACH;FMTTYPE=image/jpeg:https://stuttgarti-katolikusok.de/wp-content/uploads/2021/05/heiliggeist-aussenansicht.jpg
END:VEVENT
END:VCALENDAR