BEGIN:VCALENDAR
VERSION:2.0
PRODID:-//Stuttgarti Katolikusok - ECPv6.15.20//NONSGML v1.0//EN
CALSCALE:GREGORIAN
METHOD:PUBLISH
X-WR-CALNAME:Stuttgarti Katolikusok
X-ORIGINAL-URL:https://stuttgarti-katolikusok.de
X-WR-CALDESC:Események Stuttgarti Katolikusok
REFRESH-INTERVAL;VALUE=DURATION:PT1H
X-Robots-Tag:noindex
X-PUBLISHED-TTL:PT1H
BEGIN:VTIMEZONE
TZID:Europe/Berlin
BEGIN:DAYLIGHT
TZOFFSETFROM:+0100
TZOFFSETTO:+0200
TZNAME:CEST
DTSTART:20220327T010000
END:DAYLIGHT
BEGIN:STANDARD
TZOFFSETFROM:+0200
TZOFFSETTO:+0100
TZNAME:CET
DTSTART:20221030T010000
END:STANDARD
BEGIN:DAYLIGHT
TZOFFSETFROM:+0100
TZOFFSETTO:+0200
TZNAME:CEST
DTSTART:20230326T010000
END:DAYLIGHT
BEGIN:STANDARD
TZOFFSETFROM:+0200
TZOFFSETTO:+0100
TZNAME:CET
DTSTART:20231029T010000
END:STANDARD
BEGIN:DAYLIGHT
TZOFFSETFROM:+0100
TZOFFSETTO:+0200
TZNAME:CEST
DTSTART:20240331T010000
END:DAYLIGHT
BEGIN:STANDARD
TZOFFSETFROM:+0200
TZOFFSETTO:+0100
TZNAME:CET
DTSTART:20241027T010000
END:STANDARD
END:VTIMEZONE
BEGIN:VEVENT
DTSTART;TZID=Europe/Berlin:20230616T173000
DTEND;TZID=Europe/Berlin:20230616T190000
DTSTAMP:20260422T220022
CREATED:20230612T081820Z
LAST-MODIFIED:20230612T082448Z
UID:26972-1686936600-1686942000@stuttgarti-katolikusok.de
SUMMARY:Stuttgarti délután
DESCRIPTION:Június 16-án\, pénteken\, Stuttgarti délután\, Jézus Szent Szívének ünnepe\, 18.00 órakor ünnepi szentmise\, előtte rózsafüzért imádkozunk.  \nMindenkit szeretettel vár a közösség és Tibor atya! \n* \n \n* \nKegyelemteljes napokat\, tartalmas beszélgetéseket és örömteli találkozásokat kívánunk minden Kedves Hívünknek! \n* \n„A bölcs ember többet tanul ellenségeitől\, mint a bolond barátaitól.” \n(Baltasar Gracian – jezsuita szerzetes\, spanyol barokk prózaíró -1601-1958)
URL:https://stuttgarti-katolikusok.de/index.php/esemeny/stuttgarti-delutan-17/
LOCATION:Bruder Klaus Kirche\, Albert-Schäffle-Straße 30\, Stuttgart\, Baden-Württemberg\, 70186\, Németország
CATEGORIES:Stuttgarti délután
ATTACH;FMTTYPE=image/jpeg:https://stuttgarti-katolikusok.de/wp-content/uploads/2015/12/013__2_klaus.jpg
END:VEVENT
BEGIN:VEVENT
DTSTART;TZID=Europe/Berlin:20230617T100000
DTEND;TZID=Europe/Berlin:20230617T180000
DTSTAMP:20260422T220022
CREATED:20240104T090919Z
LAST-MODIFIED:20240104T090919Z
UID:27901-1686996000-1687024800@stuttgarti-katolikusok.de
SUMMARY:Aachen - zarándoklat
DESCRIPTION:
URL:https://stuttgarti-katolikusok.de/index.php/esemeny/aachen-zarandoklat-2/
LOCATION:Baden-Württemberg
CATEGORIES:Szentmisék helye és ideje
END:VEVENT
BEGIN:VEVENT
DTSTART;TZID=Europe/Berlin:20230617T110000
DTEND;TZID=Europe/Berlin:20230617T120000
DTSTAMP:20260422T220022
CREATED:20240104T090908Z
LAST-MODIFIED:20240104T090908Z
UID:27830-1686999600-1687003200@stuttgarti-katolikusok.de
SUMMARY:Heidenheim - motoros találkozó
DESCRIPTION:
URL:https://stuttgarti-katolikusok.de/index.php/esemeny/heidenheim-motoros-talalkozo-2/
LOCATION:Baden-Württemberg
CATEGORIES:Szentmisék helye és ideje
END:VEVENT
BEGIN:VEVENT
DTSTART;TZID=Europe/Berlin:20230617T110000
DTEND;TZID=Europe/Berlin:20230617T123000
DTSTAMP:20260422T220022
CREATED:20230612T082309Z
LAST-MODIFIED:20230612T084720Z
UID:26977-1686999600-1687005000@stuttgarti-katolikusok.de
SUMMARY:Szentmise és motorszentelés Heidenheimban
DESCRIPTION:Június 17-én\, szombaton\, Heidenheimban\, 11.00 órakor szentmise és motorszentelés. \n \n * \nMindenkit szeretettel vár a közösség és Tibor atya! \n* \n \n* \nKegyelemteljes napokat\, tartalmas beszélgetéseket és örömteli találkozásokat kívánunk minden Kedves Hívünknek! \n* \n„A bölcs ember többet tanul ellenségeitől\, mint a bolond barátaitól.” \n(Baltasar Gracian – jezsuita szerzetes\, spanyol barokk prózaíró -1601-1958)
URL:https://stuttgarti-katolikusok.de/index.php/esemeny/szentmise-es-motorszenteles-heidenheimban/
LOCATION:Dreifaltigkeitskirche\, Verdi Str. 13\, Heidenheim an der Brenz\, Baden-Würtenberg\, 89518\, Németország
CATEGORIES:Szentmise
ATTACH;FMTTYPE=image/jpeg:https://stuttgarti-katolikusok.de/wp-content/uploads/2015/12/Heidenheim.jpg
END:VEVENT
BEGIN:VEVENT
DTSTART;TZID=Europe/Berlin:20230618T090000
DTEND;TZID=Europe/Berlin:20230618T100000
DTSTAMP:20260422T220022
CREATED:20240104T090908Z
LAST-MODIFIED:20240104T090908Z
UID:27831-1687078800-1687082400@stuttgarti-katolikusok.de
SUMMARY:Ludwigsburg - búcsú !!!
DESCRIPTION:
URL:https://stuttgarti-katolikusok.de/index.php/esemeny/ludwigsburg-bucsu-2/
LOCATION:Baden-Württemberg
CATEGORIES:Szentmisék helye és ideje
END:VEVENT
BEGIN:VEVENT
DTSTART;TZID=Europe/Berlin:20230618T090000
DTEND;TZID=Europe/Berlin:20230618T113000
DTSTAMP:20260422T220023
CREATED:20230612T082715Z
LAST-MODIFIED:20230612T082715Z
UID:26979-1687078800-1687087800@stuttgarti-katolikusok.de
SUMMARY:Szent László búcsús-szentmise Ludwigsburgban
DESCRIPTION:Június 18-án\, Évközi 11. vasárnap\, Ludwigsburgban 9.00 órakor búcsús-szentmise\, Szent László király ünnepe\, utána agapé. \nMindenkit szeretettel vár a közösség és Tibor atya! \n* \n \n* \nKegyelemteljes napokat\, tartalmas beszélgetéseket és örömteli találkozásokat kívánunk minden Kedves Hívünknek! \n* \n„A bölcs ember többet tanul ellenségeitől\, mint a bolond barátaitól.” \n(Baltasar Gracian – jezsuita szerzetes\, spanyol barokk prózaíró -1601-1958)
URL:https://stuttgarti-katolikusok.de/index.php/esemeny/szent-laszlo-bucsus-szentmise-ludwigsburgban/
LOCATION:St. Josef Kirche\, Park Str. 30\, Ludwigsburg-Hoheneck\, Baden-Württemberg\, 71642
CATEGORIES:Szentmise
ATTACH;FMTTYPE=image/jpeg:https://stuttgarti-katolikusok.de/wp-content/uploads/2021/04/ludwigsburg.jpeg
END:VEVENT
BEGIN:VEVENT
DTSTART;TZID=Europe/Berlin:20230618T113000
DTEND;TZID=Europe/Berlin:20230618T123000
DTSTAMP:20260422T220023
CREATED:20240104T090908Z
LAST-MODIFIED:20240104T090908Z
UID:27832-1687087800-1687091400@stuttgarti-katolikusok.de
SUMMARY:Stuttgart???
DESCRIPTION:
URL:https://stuttgarti-katolikusok.de/index.php/esemeny/stuttgart-52/
LOCATION:Baden-Württemberg
CATEGORIES:Szentmisék helye és ideje
END:VEVENT
BEGIN:VEVENT
DTSTART;TZID=Europe/Berlin:20230618T153000
DTEND;TZID=Europe/Berlin:20230618T163000
DTSTAMP:20260422T220023
CREATED:20240104T090909Z
LAST-MODIFIED:20240104T090909Z
UID:27833-1687102200-1687105800@stuttgarti-katolikusok.de
SUMMARY:Eislingen
DESCRIPTION:
URL:https://stuttgarti-katolikusok.de/index.php/esemeny/eislingen-13/
LOCATION:Baden-Württemberg
CATEGORIES:Szentmisék helye és ideje
END:VEVENT
BEGIN:VEVENT
DTSTART;TZID=Europe/Berlin:20230618T153000
DTEND;TZID=Europe/Berlin:20230618T173000
DTSTAMP:20260422T220023
CREATED:20230612T083016Z
LAST-MODIFIED:20230612T083047Z
UID:26981-1687102200-1687109400@stuttgarti-katolikusok.de
SUMMARY:Szentmise Eislingenben
DESCRIPTION:Június 18-án\, Évközi 11. vasárnap\, Eislingenben 15.30 órakor szentmise\, utána agapé\, keretében hagyományos lángossütés. \nMindenkit szeretettel vár a közösség és Tibor atya! \n* \n \n* \nKegyelemteljes napokat\, tartalmas beszélgetéseket és örömteli találkozásokat kívánunk minden Kedves Hívünknek! \n* \n„A bölcs ember többet tanul ellenségeitől\, mint a bolond barátaitól.” \n(Baltasar Gracian – jezsuita szerzetes\, spanyol barokk prózaíró -1601-1958)
URL:https://stuttgarti-katolikusok.de/index.php/esemeny/szentmise-eislingenben-5/
LOCATION:Liebfrauen-Kirche\, Eberhardt Str. 30\, Eislingen/Fils\, Baden-Württemberg\, 73054\, Németország
CATEGORIES:Szentmise
ATTACH;FMTTYPE=image/jpeg:https://stuttgarti-katolikusok.de/wp-content/uploads/2015/12/Eislingen.jpg
END:VEVENT
BEGIN:VEVENT
DTSTART;TZID=Europe/Berlin:20230623T173000
DTEND;TZID=Europe/Berlin:20230623T203000
DTSTAMP:20260422T220023
CREATED:20230619T093341Z
LAST-MODIFIED:20230619T093341Z
UID:27003-1687541400-1687552200@stuttgarti-katolikusok.de
SUMMARY:Stuttgarti délután
DESCRIPTION:Június 23-án\, pénteken\, Stuttgarti délután\, \n17.30 órakor szentmise\, \n18.00 órakor Barátságklub\, keretében \n \n* \nMindenkit szeretettel vár a közösség és Tibor atya! \n* \nKegyelemteljes napokat\, tartalmas beszélgetéseket és örömteli találkozásokat kívánunk minden Kedves Hívünknek! \n* \n„Nagy vagy te\, Uram\, Istenem\, \nminden dicséret téged illet! \nDicsőítenek mind az emberek\, \nteremtésed parányi művei. \nTe magad rendelted\, hogy így legyen: \nte teremtettél magad számára minket\, \nés nyugtalan mindvégig a szívünk\, \nmíg meg nem nyugszik benned\, Istenem.” \n(Szent Ágoston – hippói püspök\, egyházatya\, filozófus – 354 – 430)
URL:https://stuttgarti-katolikusok.de/index.php/esemeny/stuttgarti-delutan-18/
LOCATION:Bruder Klaus Kirche\, Albert-Schäffle-Straße 30\, Stuttgart\, Baden-Württemberg\, 70186\, Németország
CATEGORIES:Stuttgarti délután
ATTACH;FMTTYPE=image/jpeg:https://stuttgarti-katolikusok.de/wp-content/uploads/2015/12/013__2_klaus.jpg
END:VEVENT
BEGIN:VEVENT
DTSTART;TZID=Europe/Berlin:20230624T090000
DTEND;TZID=Europe/Berlin:20230624T140000
DTSTAMP:20260422T220023
CREATED:20230619T101456Z
LAST-MODIFIED:20230619T101537Z
UID:27005-1687597200-1687615200@stuttgarti-katolikusok.de
SUMMARY:Egyháztanácsosok és Legátusok találkozója
DESCRIPTION:Június 24-én\, szombaton\, Stuttgartban  Egyháztanácsosok és Legátusok találkozója. \n * \nProgram: \n09.00 órától                           Gyülekező és reggeli \n10:00 – 10:15                         Beköszöntő és ismerkedés \n10:15 – 11:00                          Előadás\, témája:  Synodaler Weg – Zsinati út (Tibor atya) \n11:00 – 11:30                          Egyházközségünk a statisztikák tükrében \n11:30 – 13:00                          Beszámolók a részegyházak helyzetéről \n13:00 – 14:00                         Ebéd majd hazautazás \n*   \nMindenkit szeretettel vár a közösség és Tibor atya! \n* \n \n* \nKegyelemteljes napokat\, tartalmas beszélgetéseket és örömteli találkozásokat kívánunk minden Kedves Hívünknek! \n* \n„Nagy vagy te\, Uram\, Istenem\, \nminden dicséret téged illet! \nDicsőítenek mind az emberek\, \nteremtésed parányi művei. \nTe magad rendelted\, hogy így legyen: \nte teremtettél magad számára minket\, \nés nyugtalan mindvégig a szívünk\, \nmíg meg nem nyugszik benned\, Istenem.” \n(Szent Ágoston – hippói püspök\, egyházatya\, filozófus – 354 – 430)
URL:https://stuttgarti-katolikusok.de/index.php/esemeny/egyhaztanacsosok-es-legatusok-talalkozoja/
LOCATION:Bruder Klaus Kirche\, Albert-Schäffle-Straße 30\, Stuttgart\, Baden-Württemberg\, 70186\, Németország
CATEGORIES:ET és Legátusok találkozója
ATTACH;FMTTYPE=image/jpeg:https://stuttgarti-katolikusok.de/wp-content/uploads/2015/12/013__2_klaus.jpg
END:VEVENT
BEGIN:VEVENT
DTSTART;TZID=Europe/Berlin:20230624T100000
DTEND;TZID=Europe/Berlin:20230624T130000
DTSTAMP:20260422T220023
CREATED:20240104T090919Z
LAST-MODIFIED:20240104T090919Z
UID:27898-1687600800-1687611600@stuttgarti-katolikusok.de
SUMMARY:Egyháztanácsosok és Legátusok Napja
DESCRIPTION:
URL:https://stuttgarti-katolikusok.de/index.php/esemeny/egyhaztanacsosok-es-legatusok-napja-2/
LOCATION:Baden-Württemberg
CATEGORIES:Szentmisék helye és ideje
END:VEVENT
BEGIN:VEVENT
DTSTART;TZID=Europe/Berlin:20230624T160000
DTEND;TZID=Europe/Berlin:20230624T170000
DTSTAMP:20260422T220023
CREATED:20230208T072101Z
LAST-MODIFIED:20230210T112505Z
UID:25832-1687622400-1687626000@stuttgarti-katolikusok.de
SUMMARY:Tuttlingen
DESCRIPTION:
URL:https://stuttgarti-katolikusok.de/index.php/esemeny/tuttlingen-16/
LOCATION:Baden-Württemberg
CATEGORIES:Szentmisék helye és ideje
END:VEVENT
BEGIN:VEVENT
DTSTART;TZID=Europe/Berlin:20230624T160000
DTEND;TZID=Europe/Berlin:20230624T180000
DTSTAMP:20260422T220023
CREATED:20230619T102057Z
LAST-MODIFIED:20230619T102057Z
UID:27008-1687622400-1687629600@stuttgarti-katolikusok.de
SUMMARY:Szentmise Tuttlingenben
DESCRIPTION:Június 24-én\, szombaton\, Tuttlingenben\, 16.00 órakor szentmise\, utána agapé. A szentmise  keretében keresztelő is lesz. \n * \nMindenkit szeretettel vár a közösség és Tibor atya! \n* \n \n* \nKegyelemteljes napokat\, tartalmas beszélgetéseket és örömteli találkozásokat kívánunk minden Kedves Hívünknek! \n* \n„Nagy vagy te\, Uram\, Istenem\, \nminden dicséret téged illet! \nDicsőítenek mind az emberek\, \nteremtésed parányi művei. \nTe magad rendelted\, hogy így legyen: \nte teremtettél magad számára minket\, \nés nyugtalan mindvégig a szívünk\, \nmíg meg nem nyugszik benned\, Istenem.” \n(Szent Ágoston – hippói püspök\, egyházatya\, filozófus – 354 – 430)                                          
URL:https://stuttgarti-katolikusok.de/index.php/esemeny/szentmise-tuttlingenben-5/
LOCATION:St. Gallus Kirche\, Guttenbergstrasse 9\, Tuttlingen\, Baden-Württemberg\, 78532\, Németország
CATEGORIES:Szentmise
ATTACH;FMTTYPE=image/jpeg:https://stuttgarti-katolikusok.de/wp-content/uploads/2021/05/sankt-gallus-tuttlingen-1.jpg
END:VEVENT
BEGIN:VEVENT
DTSTART;TZID=Europe/Berlin:20230625T093000
DTEND;TZID=Europe/Berlin:20230625T103000
DTSTAMP:20260422T220023
CREATED:20240104T090909Z
LAST-MODIFIED:20240104T090909Z
UID:27835-1687685400-1687689000@stuttgarti-katolikusok.de
SUMMARY:Böblingen - búcsú!!!
DESCRIPTION:
URL:https://stuttgarti-katolikusok.de/index.php/esemeny/boblingen-bucsu-2/
LOCATION:Baden-Württemberg
CATEGORIES:Szentmisék helye és ideje
END:VEVENT
BEGIN:VEVENT
DTSTART;TZID=Europe/Berlin:20230625T093000
DTEND;TZID=Europe/Berlin:20230625T130000
DTSTAMP:20260422T220023
CREATED:20230619T102411Z
LAST-MODIFIED:20230619T102411Z
UID:27010-1687685400-1687698000@stuttgarti-katolikusok.de
SUMMARY:Búcsús-szentmise Böblingenben
DESCRIPTION:Június 25-én\, Évközi 12. vasárnap\, Böblingenben 9.30 órakor búcsús-szentmise\, Boldog Dr. Scheffler János püspök ünnepe\, utána agapé (közös ebéd). \n* \nMindenkit szeretettel vár a közösség és Tibor atya! \n* \n \n* \nKegyelemteljes napokat\, tartalmas beszélgetéseket és örömteli találkozásokat kívánunk minden Kedves Hívünknek! \n* \n„Nagy vagy te\, Uram\, Istenem\, \nminden dicséret téged illet! \nDicsőítenek mind az emberek\, \nteremtésed parányi művei. \nTe magad rendelted\, hogy így legyen: \nte teremtettél magad számára minket\, \nés nyugtalan mindvégig a szívünk\, \nmíg meg nem nyugszik benned\, Istenem.” \n(Szent Ágoston – hippói püspök\, egyházatya\, filozófus – 354 – 430)
URL:https://stuttgarti-katolikusok.de/index.php/esemeny/bucsus-szentmise-boblingenben/
LOCATION:St. Bonifatius Kirche\, Sindelfinger Str. 14\, Böblingen\, Baden-Württemberg\, 71032\, Németország
CATEGORIES:Szentmise
ATTACH;FMTTYPE=image/jpeg:https://stuttgarti-katolikusok.de/wp-content/uploads/2021/11/boblingen.jpeg
END:VEVENT
BEGIN:VEVENT
DTSTART;TZID=Europe/Berlin:20230625T153000
DTEND;TZID=Europe/Berlin:20230625T163000
DTSTAMP:20260422T220023
CREATED:20240104T090909Z
LAST-MODIFIED:20240104T090909Z
UID:27834-1687707000-1687710600@stuttgarti-katolikusok.de
SUMMARY:Heilbronn
DESCRIPTION:
URL:https://stuttgarti-katolikusok.de/index.php/esemeny/heilbronn-15/
LOCATION:Baden-Württemberg
CATEGORIES:Szentmisék helye és ideje
END:VEVENT
BEGIN:VEVENT
DTSTART;TZID=Europe/Berlin:20230625T153000
DTEND;TZID=Europe/Berlin:20230625T173000
DTSTAMP:20260422T220023
CREATED:20230619T102927Z
LAST-MODIFIED:20230619T102927Z
UID:27012-1687707000-1687714200@stuttgarti-katolikusok.de
SUMMARY:Szentmise Heilbronnban
DESCRIPTION:Június 25-én\, Évközi 12. vasárnap\, Heilbronnban 15.30 órakor szentmise\, utána agapé. \nMindenkit szeretettel vár a közösség és Tibor atya! \n* \n \n* \nKegyelemteljes napokat\, tartalmas beszélgetéseket és örömteli találkozásokat kívánunk minden Kedves Hívünknek! \n* \n„Nagy vagy te\, Uram\, Istenem\, \nminden dicséret téged illet! \nDicsőítenek mind az emberek\, \nteremtésed parányi művei. \nTe magad rendelted\, hogy így legyen: \nte teremtettél magad számára minket\, \nés nyugtalan mindvégig a szívünk\, \nmíg meg nem nyugszik benned\, Istenem.” \n(Szent Ágoston – hippói püspök\, egyházatya\, filozófus – 354 – 430)
URL:https://stuttgarti-katolikusok.de/index.php/esemeny/szentmise-heilbronnban-3/
LOCATION:Heilig Geist Kirche\, Heilbronner-Weg 17\, Heilbronn-Horkheim\, Baden-Württemberg\, 74081\, Németország
CATEGORIES:Szentmise
ATTACH;FMTTYPE=image/jpeg:https://stuttgarti-katolikusok.de/wp-content/uploads/2021/05/heiliggeist-aussenansicht.jpg
END:VEVENT
BEGIN:VEVENT
DTSTART;TZID=Europe/Berlin:20230630T173000
DTEND;TZID=Europe/Berlin:20230630T190000
DTSTAMP:20260422T220023
CREATED:20230628T055041Z
LAST-MODIFIED:20230628T055041Z
UID:27022-1688146200-1688151600@stuttgarti-katolikusok.de
SUMMARY:Stuttgarti délután
DESCRIPTION:Június 30-án\, pénteken\, Stuttgarti délután\, 17.30 órakor rózsafüzért imádkozunk\, utána 18.00 órakor szentmise\, végeztével ünnepélyes Jézus Szíve litánia. \nMindenkit szeretettel vár a közösség és Tibor atya. \n* \n \n* \nKegyelemteljes napokat\, tartalmas beszélgetéseket és örömteli találkozásokat kívánunk minden Kedves Hívünknek! \n* \n„Nagy vagy te\, Uram\, Istenem\, \nminden dicséret téged illet! \nDicsőítenek mind az emberek\, \nteremtésed parányi művei. \nTe magad rendelted\, hogy így legyen: \nte teremtettél magad számára minket\, \nés nyugtalan mindvégig a szívünk\, \nmíg meg nem nyugszik benned\, Istenem.” \n(Szent Ágoston – hippói püspök\, egyházatya\, filozófus – 354 – 430)
URL:https://stuttgarti-katolikusok.de/index.php/esemeny/stuttgarti-delutan-19/
LOCATION:Bruder Klaus Kirche\, Albert-Schäffle-Straße 30\, Stuttgart\, Baden-Württemberg\, 70186\, Németország
CATEGORIES:Stuttgarti délután
ATTACH;FMTTYPE=image/jpeg:https://stuttgarti-katolikusok.de/wp-content/uploads/2015/12/013__2_klaus.jpg
END:VEVENT
BEGIN:VEVENT
DTSTART;TZID=Europe/Berlin:20230709T093000
DTEND;TZID=Europe/Berlin:20230709T160000
DTSTAMP:20260422T220023
CREATED:20240104T090919Z
LAST-MODIFIED:20240104T090919Z
UID:27899-1688895000-1688918400@stuttgarti-katolikusok.de
SUMMARY:Családi Nap
DESCRIPTION:
URL:https://stuttgarti-katolikusok.de/index.php/esemeny/csaladi-nap-2/
LOCATION:Baden-Württemberg
CATEGORIES:Szentmisék helye és ideje
END:VEVENT
BEGIN:VEVENT
DTSTART;TZID=Europe/Berlin:20230723T080000
DTEND;TZID=Europe/Berlin:20230723T180000
DTSTAMP:20260422T220023
CREATED:20240104T090919Z
LAST-MODIFIED:20240104T090919Z
UID:27900-1690099200-1690135200@stuttgarti-katolikusok.de
SUMMARY:Kis zarándoklat
DESCRIPTION:
URL:https://stuttgarti-katolikusok.de/index.php/esemeny/kis-zarandoklat-2/
LOCATION:Baden-Württemberg
CATEGORIES:Szentmisék helye és ideje
END:VEVENT
BEGIN:VEVENT
DTSTART;TZID=Europe/Berlin:20230901T180000
DTEND;TZID=Europe/Berlin:20230901T193000
DTSTAMP:20260422T220023
CREATED:20230831T164051Z
LAST-MODIFIED:20230831T164051Z
UID:27113-1693591200-1693596600@stuttgarti-katolikusok.de
SUMMARY:Stuttgarti délután
DESCRIPTION:Szeptember 1-jén\, pénteken\, Stuttgartban 18.00 órakor Jézus Szíve ájtatosság\, majd szentmise. Ezt követően pedig a jelenlévőkkel együtt visszatekintünk az elmúlt hónapok történéseire. \nMindenkit szeretettel vár a közösség és Tibor atya! \n* \nMAGADNAK TEREMTETTÉL\, URAM \nÓ\, Istenem\, a magad számára teremtettél engem\, \nhogy a magam módján szolgáljak neked. \nHa beteg vagyok\, Uram\, szolgáljon téged betegségem\, \nha szorongatások vesznek körül\, szolgáljanak azok téged. \nAdhatsz nekem rövid vagy hosszú életet – \nTe tudod\, mire van szükségem\, \nTe tudod mindig mindenben\, mire lesz jó. \nÉn tehát neked adom és teljesen rád bízom magamat. \nBölcsebb vagy nálam és jobban szeretsz engem\, mint én magamat. \nNe engedj a saját utaimon járni\, Uram\, \nanélkül\, hogy rád gondolnék! \nEngedd\, hogy mindent elviseljek érted! \nMinden szándékomhoz a Te beleegyezésedet kérem\, \nés minden cselekvésemhez a Te áldásodat. \nMiként a napóra a Nap szerint igazodik\, \núgy akarok én igazodni utánad. \nFogadj el és vezess engem! \n(Köszönet Szénégető István atyának az imádságért. Az ő insta oldalán találtam rá.)
URL:https://stuttgarti-katolikusok.de/index.php/esemeny/stuttgarti-delutan-20/
LOCATION:Bruder Klaus Kirche\, Albert-Schäffle-Straße 30\, Stuttgart\, Baden-Württemberg\, 70186\, Németország
CATEGORIES:Stuttgarti délután
ATTACH;FMTTYPE=image/jpeg:https://stuttgarti-katolikusok.de/wp-content/uploads/2015/12/013__2_klaus.jpg
END:VEVENT
BEGIN:VEVENT
DTSTART;TZID=Europe/Berlin:20230902T160000
DTEND;TZID=Europe/Berlin:20230902T170000
DTSTAMP:20260422T220023
CREATED:20240104T090909Z
LAST-MODIFIED:20240104T090909Z
UID:27836-1693670400-1693674000@stuttgarti-katolikusok.de
SUMMARY:Balingen
DESCRIPTION:
URL:https://stuttgarti-katolikusok.de/index.php/esemeny/balingen-33/
LOCATION:Baden-Württemberg
CATEGORIES:Szentmisék helye és ideje
END:VEVENT
BEGIN:VEVENT
DTSTART;TZID=Europe/Berlin:20230902T160000
DTEND;TZID=Europe/Berlin:20230902T180000
DTSTAMP:20260422T220023
CREATED:20230831T164412Z
LAST-MODIFIED:20230831T170930Z
UID:27115-1693670400-1693677600@stuttgarti-katolikusok.de
SUMMARY:Szentmise Balingenben
DESCRIPTION:Szeptember 2-án\, szombaton\, Balingenben 16.00 órakor szentmise\, utána agapé. A szentmise kertében Sárga Lara keresztelőjére is sor kerül. \nMindenkit szeretettel vár a közösség és Tibor atya! \n* \nMAGADNAK TEREMTETTÉL\, URAM \nÓ\, Istenem\, a magad számára teremtettél engem\, \nhogy a magam módján szolgáljak neked. \nHa beteg vagyok\, Uram\, szolgáljon téged betegségem\, \nha szorongatások vesznek körül\, szolgáljanak azok téged. \nAdhatsz nekem rövid vagy hosszú életet – \nTe tudod\, mire van szükségem\, \nTe tudod mindig mindenben\, mire lesz jó. \nÉn tehát neked adom és teljesen rád bízom magamat. \nBölcsebb vagy nálam és jobban szeretsz engem\, mint én magamat. \nNe engedj a saját utaimon járni\, Uram\, \nanélkül\, hogy rád gondolnék! \nEngedd\, hogy mindent elviseljek érted! \nMinden szándékomhoz a Te beleegyezésedet kérem\, \nés minden cselekvésemhez a Te áldásodat. \nMiként a napóra a Nap szerint igazodik\, \núgy akarok én igazodni utánad. \nFogadj el és vezess engem! \n(Köszönet Szénégető István atyának az imádságért. Az ő insta oldalán találtam rá.)
URL:https://stuttgarti-katolikusok.de/index.php/esemeny/szentmise-balingenben-5/
LOCATION:Sankt Paulus Kirche\, St. Paulus Str. 2\, Balingen-Frommern\, Baden-Württemberg\, 72336\, Németország
CATEGORIES:Szentmise
ATTACH;FMTTYPE=image/jpeg:https://stuttgarti-katolikusok.de/wp-content/uploads/2018/04/20180505_163840-e1764632638620.jpg
END:VEVENT
BEGIN:VEVENT
DTSTART;TZID=Europe/Berlin:20230903T093000
DTEND;TZID=Europe/Berlin:20230903T103000
DTSTAMP:20260422T220023
CREATED:20240104T090909Z
LAST-MODIFIED:20240104T090909Z
UID:27837-1693733400-1693737000@stuttgarti-katolikusok.de
SUMMARY:Schwäbisch-Gmünd
DESCRIPTION:
URL:https://stuttgarti-katolikusok.de/index.php/esemeny/schwabisch-gmund-35/
LOCATION:Baden-Württemberg
CATEGORIES:Szentmisék helye és ideje
END:VEVENT
BEGIN:VEVENT
DTSTART;TZID=Europe/Berlin:20230903T093000
DTEND;TZID=Europe/Berlin:20230903T113000
DTSTAMP:20260422T220023
CREATED:20230831T164826Z
LAST-MODIFIED:20230831T164826Z
UID:27117-1693733400-1693740600@stuttgarti-katolikusok.de
SUMMARY:Szentmise Schwäbisch-Gmündben
DESCRIPTION:Szeptember 3-án\, évközi 22. vasárnap\, Schwäbisch-Gmündben 9.30 órakor szentmise\, utána agapé. \nMindenkit szeretettel vár a közösség és Tibor atya! \n* \nMAGADNAK TEREMTETTÉL\, URAM \nÓ\, Istenem\, a magad számára teremtettél engem\, \nhogy a magam módján szolgáljak neked. \nHa beteg vagyok\, Uram\, szolgáljon téged betegségem\, \nha szorongatások vesznek körül\, szolgáljanak azok téged. \nAdhatsz nekem rövid vagy hosszú életet – \nTe tudod\, mire van szükségem\, \nTe tudod mindig mindenben\, mire lesz jó. \nÉn tehát neked adom és teljesen rád bízom magamat. \nBölcsebb vagy nálam és jobban szeretsz engem\, mint én magamat. \nNe engedj a saját utaimon járni\, Uram\, \nanélkül\, hogy rád gondolnék! \nEngedd\, hogy mindent elviseljek érted! \nMinden szándékomhoz a Te beleegyezésedet kérem\, \nés minden cselekvésemhez a Te áldásodat. \nMiként a napóra a Nap szerint igazodik\, \núgy akarok én igazodni utánad. \nFogadj el és vezess engem! \n(Köszönet Szénégető István atyának az imádságért. Az ő insta oldalán találtam rá.)
URL:https://stuttgarti-katolikusok.de/index.php/esemeny/szentmise-schwabisch-gmundben-5/
LOCATION:Sankt Franziskus Kirche\, Franziskaner Str. 3\, Schwäbisch-Gmünd\, Baden-Württemberg\, 73525\, Németország
CATEGORIES:Szentmise
ATTACH;FMTTYPE=image/jpeg:https://stuttgarti-katolikusok.de/wp-content/uploads/2018/03/st-franziskus-schw-gmund.jpg
END:VEVENT
BEGIN:VEVENT
DTSTART;TZID=Europe/Berlin:20230903T150000
DTEND;TZID=Europe/Berlin:20230903T160000
DTSTAMP:20260422T220023
CREATED:20240104T090909Z
LAST-MODIFIED:20240104T090909Z
UID:27838-1693753200-1693756800@stuttgarti-katolikusok.de
SUMMARY:Stuttgart
DESCRIPTION:
URL:https://stuttgarti-katolikusok.de/index.php/esemeny/stuttgart-53/
LOCATION:Baden-Württemberg
CATEGORIES:Szentmisék helye és ideje
END:VEVENT
BEGIN:VEVENT
DTSTART;TZID=Europe/Berlin:20230903T150000
DTEND;TZID=Europe/Berlin:20230903T170000
DTSTAMP:20260422T220023
CREATED:20230831T165313Z
LAST-MODIFIED:20230831T165313Z
UID:27119-1693753200-1693760400@stuttgarti-katolikusok.de
SUMMARY:Szentmise Stuttgartban
DESCRIPTION:Szeptember 3-án\, évközi 22. vasárnap\, Stuttgartban 15.00 órakor szentmise\, utána agapé. \nMindenkit szeretettel vár a közösség és Tibor atya! \n* \nMAGADNAK TEREMTETTÉL\, URAM \nÓ\, Istenem\, a magad számára teremtettél engem\, \nhogy a magam módján szolgáljak neked. \nHa beteg vagyok\, Uram\, szolgáljon téged betegségem\, \nha szorongatások vesznek körül\, szolgáljanak azok téged. \nAdhatsz nekem rövid vagy hosszú életet – \nTe tudod\, mire van szükségem\, \nTe tudod mindig mindenben\, mire lesz jó. \nÉn tehát neked adom és teljesen rád bízom magamat. \nBölcsebb vagy nálam és jobban szeretsz engem\, mint én magamat. \nNe engedj a saját utaimon járni\, Uram\, \nanélkül\, hogy rád gondolnék! \nEngedd\, hogy mindent elviseljek érted! \nMinden szándékomhoz a Te beleegyezésedet kérem\, \nés minden cselekvésemhez a Te áldásodat. \nMiként a napóra a Nap szerint igazodik\, \núgy akarok én igazodni utánad. \nFogadj el és vezess engem! \n(Köszönet Szénégető István atyának az imádságért. Az ő insta oldalán találtam rá.)
URL:https://stuttgarti-katolikusok.de/index.php/esemeny/szentmise-stuttgartban-6/
LOCATION:Bruder Klaus Kirche\, Albert-Schäffle-Straße 30\, Stuttgart\, Baden-Württemberg\, 70186\, Németország
CATEGORIES:Szentmise
ATTACH;FMTTYPE=image/jpeg:https://stuttgarti-katolikusok.de/wp-content/uploads/2015/12/013__2_klaus.jpg
END:VEVENT
BEGIN:VEVENT
DTSTART;TZID=Europe/Berlin:20230908T173000
DTEND;TZID=Europe/Berlin:20230908T190000
DTSTAMP:20260422T220023
CREATED:20230905T082150Z
LAST-MODIFIED:20230905T082150Z
UID:27157-1694194200-1694199600@stuttgarti-katolikusok.de
SUMMARY:Stuttgarti délután
DESCRIPTION:Szeptember 8-án\, pénteken\, Stuttgarti délután\, Kisboldogasszony ünnepe\, 18.00 órakor szentmise\,  előtte rózsafüzért imádkozunk. \nMindenkit szeretettel vár a közösség és Tibor atya! \n* \n„Városunkban vannak gazdagok\, átlagos jólétben élők és szegények. Az előbbiek\, ha lenne bennük együttérzés és segítőkészség\, felkarolhatnák a szegényebbeket. Ennek ellenére nap mint nap halljuk a szegények panaszát. \nTartsunk ezért lelkiismeretvizsgálatot! Nincs-e bennünk is részvétlenség és keményszívűség mások iránt?” (Aranyszájú Szent János nyomán) \n* \nBensőséges őszi napokat\, jó munkát\, tartalmas beszélgetéseket és örömteli találkozásokat kívánunk minden Kedves Hívünknek!
URL:https://stuttgarti-katolikusok.de/index.php/esemeny/stuttgarti-delutan-21/
LOCATION:Bruder Klaus Kirche\, Albert-Schäffle-Straße 30\, Stuttgart\, Baden-Württemberg\, 70186\, Németország
CATEGORIES:Stuttgarti délután
ATTACH;FMTTYPE=image/jpeg:https://stuttgarti-katolikusok.de/wp-content/uploads/2015/12/013__2_klaus.jpg
END:VEVENT
BEGIN:VEVENT
DTSTART;TZID=Europe/Berlin:20230909T164500
DTEND;TZID=Europe/Berlin:20230909T174500
DTSTAMP:20260422T220023
CREATED:20240104T090910Z
LAST-MODIFIED:20240104T090910Z
UID:27839-1694277900-1694281500@stuttgarti-katolikusok.de
SUMMARY:Biberach
DESCRIPTION:
URL:https://stuttgarti-katolikusok.de/index.php/esemeny/biberach-26/
LOCATION:Baden-Württemberg
CATEGORIES:Szentmisék helye és ideje
END:VEVENT
END:VCALENDAR