BEGIN:VCALENDAR
VERSION:2.0
PRODID:-//Stuttgarti Katolikusok - ECPv6.15.20//NONSGML v1.0//EN
CALSCALE:GREGORIAN
METHOD:PUBLISH
X-WR-CALNAME:Stuttgarti Katolikusok
X-ORIGINAL-URL:https://stuttgarti-katolikusok.de
X-WR-CALDESC:Események Stuttgarti Katolikusok
REFRESH-INTERVAL;VALUE=DURATION:PT1H
X-Robots-Tag:noindex
X-PUBLISHED-TTL:PT1H
BEGIN:VTIMEZONE
TZID:Europe/Berlin
BEGIN:DAYLIGHT
TZOFFSETFROM:+0100
TZOFFSETTO:+0200
TZNAME:CEST
DTSTART:20220327T010000
END:DAYLIGHT
BEGIN:STANDARD
TZOFFSETFROM:+0200
TZOFFSETTO:+0100
TZNAME:CET
DTSTART:20221030T010000
END:STANDARD
BEGIN:DAYLIGHT
TZOFFSETFROM:+0100
TZOFFSETTO:+0200
TZNAME:CEST
DTSTART:20230326T010000
END:DAYLIGHT
BEGIN:STANDARD
TZOFFSETFROM:+0200
TZOFFSETTO:+0100
TZNAME:CET
DTSTART:20231029T010000
END:STANDARD
BEGIN:DAYLIGHT
TZOFFSETFROM:+0100
TZOFFSETTO:+0200
TZNAME:CEST
DTSTART:20240331T010000
END:DAYLIGHT
BEGIN:STANDARD
TZOFFSETFROM:+0200
TZOFFSETTO:+0100
TZNAME:CET
DTSTART:20241027T010000
END:STANDARD
END:VTIMEZONE
BEGIN:VEVENT
DTSTART;TZID=Europe/Berlin:20230128T180000
DTEND;TZID=Europe/Berlin:20230129T030000
DTSTAMP:20260422T100341
CREATED:20230123T135553Z
LAST-MODIFIED:20230123T135825Z
UID:24749-1674928800-1674961200@stuttgarti-katolikusok.de
SUMMARY:48. Stuttgarti Magyar Katolikus Jótékonysági Bál
DESCRIPTION:Január 28-án\, szombaton\, 18.00 órai teremnyitással  kezdetét veszi a 48. Stuttgarti Magyar Katolikus Jótékonysági Bál. \n \n * \nMindenkit szeretettel vár a közösség és Tibor atya! \n \nBensőséges és kellemes újévi napokat\, jó találkozásokat és sok örömet kívánok minden kedves Hívemnek. \n* \n„Az érzelmek nem a lélekben zajlanak le. Más pályájuk van. De áthaladnak a lelken is\, mint az áradás az árterületen.” (Márai Sándor – 1900-1989) \n(Képek forrása: pixabay.com)
URL:https://stuttgarti-katolikusok.de/index.php/esemeny/24749/
LOCATION:Schwabenlandhalle\, Tainerstraße 7\, Fellbach\, Baden-Württemberg\, 70734\, Németország
CATEGORIES:Stuttgarti Magyar Bál
ATTACH;FMTTYPE=image/jpeg:https://stuttgarti-katolikusok.de/wp-content/uploads/2023/01/48-magyar-bal.jpg
END:VEVENT
BEGIN:VEVENT
DTSTART;TZID=Europe/Berlin:20230129T090000
DTEND;TZID=Europe/Berlin:20230129T100000
DTSTAMP:20260422T100341
CREATED:20230208T072018Z
LAST-MODIFIED:20230208T073222Z
UID:25758-1674982800-1674986400@stuttgarti-katolikusok.de
SUMMARY:Ludwigsburg
DESCRIPTION:
URL:https://stuttgarti-katolikusok.de/index.php/esemeny/ludwigsburg-10/
LOCATION:Baden-Württemberg
CATEGORIES:Szentmisék helye és ideje
END:VEVENT
BEGIN:VEVENT
DTSTART;TZID=Europe/Berlin:20230129T090000
DTEND;TZID=Europe/Berlin:20230129T110000
DTSTAMP:20260422T100341
CREATED:20230123T140252Z
LAST-MODIFIED:20230123T140252Z
UID:24754-1674982800-1674990000@stuttgarti-katolikusok.de
SUMMARY:Szentmise Ludwigsburgban
DESCRIPTION:Január 29-én\, Évközi 4. vasárnap\, Ludwigsburgban 9.00 órakor szentmise\, utána agapé. \nMindenkit szeretettel vár a közösség és Tibor atya! \n \nBensőséges és kellemes újévi napokat\, jó találkozásokat és sok örömet kívánok minden kedves Hívemnek. \n* \n„Az érzelmek nem a lélekben zajlanak le. Más pályájuk van. De áthaladnak a lelken is\, mint az áradás az árterületen.” (Márai Sándor – 1900-1989) \n(Képek forrása: pixabay.com)
URL:https://stuttgarti-katolikusok.de/index.php/esemeny/szentmise-ludwigsburgban/
LOCATION:St. Josef Kirche\, Park Str. 30\, Ludwigsburg-Hoheneck\, Baden-Württemberg\, 71642
CATEGORIES:Szentmise
ATTACH;FMTTYPE=image/jpeg:https://stuttgarti-katolikusok.de/wp-content/uploads/2021/04/ludwigsburg.jpeg
END:VEVENT
BEGIN:VEVENT
DTSTART;TZID=Europe/Berlin:20230129T163000
DTEND;TZID=Europe/Berlin:20230129T173000
DTSTAMP:20260422T100341
CREATED:20230208T072019Z
LAST-MODIFIED:20230208T073222Z
UID:25759-1675009800-1675013400@stuttgarti-katolikusok.de
SUMMARY:Reutlingen
DESCRIPTION:
URL:https://stuttgarti-katolikusok.de/index.php/esemeny/reutlingen-5/
LOCATION:Baden-Württemberg
CATEGORIES:Szentmisék helye és ideje
END:VEVENT
BEGIN:VEVENT
DTSTART;TZID=Europe/Berlin:20230129T163000
DTEND;TZID=Europe/Berlin:20230129T183000
DTSTAMP:20260422T100341
CREATED:20230123T140529Z
LAST-MODIFIED:20230123T140529Z
UID:24756-1675009800-1675017000@stuttgarti-katolikusok.de
SUMMARY:Szentmise Reutlingenben
DESCRIPTION:Január 29-én\, Évközi 4. vasárnap\, Reutlingenben 16.30 órakor szentmise\, utána agapé. \nMindenkit szeretettel vár a közösség és Tibor atya! \n \nBensőséges és kellemes újévi napokat\, jó találkozásokat és sok örömet kívánok minden kedves Hívemnek. \n* \n„Az érzelmek nem a lélekben zajlanak le. Más pályájuk van. De áthaladnak a lelken is\, mint az áradás az árterületen.” (Márai Sándor – 1900-1989) \n(Képek forrása: pixabay.com)
URL:https://stuttgarti-katolikusok.de/index.php/esemeny/szentmise-reutlingenben/
LOCATION:St. Andreas Kirche\, Nürnberger Str. 184\, Reutlingen-Orschel-Hagen\, Baden-Württemberg\, 72760\, Németország
CATEGORIES:Szentmise
ATTACH;FMTTYPE=image/jpeg:https://stuttgarti-katolikusok.de/wp-content/uploads/2015/12/Reutlingen.jpg
END:VEVENT
BEGIN:VEVENT
DTSTART;TZID=Europe/Berlin:20230202T110000
DTEND;TZID=Europe/Berlin:20230202T120000
DTSTAMP:20260422T100341
CREATED:20230130T101846Z
LAST-MODIFIED:20230130T101846Z
UID:24994-1675335600-1675339200@stuttgarti-katolikusok.de
SUMMARY:Gyertyaszentelő Boldogasszony ünnepe Weingartenben
DESCRIPTION:Február 2-án\, csütörtökön\, Weingartenben\, a 14 Nothelfer Kapelle-ben 11.00 órakor szentmise\, előtte rózsafüzért imádkozunk. Gyertyaszentelő Boldogasszony ünnepe\, szentmise végeztével Balázs-áldás. \n  \nMindenkit szeretettel vár a közösség és Tibor atya! \n \nBensőséges és kellemes farsangi napokat\, jó találkozásokat és sok örömet kívánok minden kedves Hívemnek. \n* \n„Az emberi lény ugyanis el tud viselni egy hét szomjazást\, két hét éhezést\, és akár évekig elviseli\, hogy nincs fedél a feje fölött\, de a magányt nem viseli el. Minden kín és minden szenvedés közül a magány a legrosszabb.” (Paulo Coelho\, brazil író\, 1947 – ) \n(Kép forrása: pixabay.com)
URL:https://stuttgarti-katolikusok.de/index.php/esemeny/gyertyaszentelo-boldogasszony-unnepe-weingartenben/
LOCATION:14 Nothelfer  Kapelle\, Ravensburger Str. 39\, Weingarten\, Baden-Württemberg\, 88250\, Németország
CATEGORIES:Szentmise
ATTACH;FMTTYPE=image/jpeg:https://stuttgarti-katolikusok.de/wp-content/uploads/2015/12/Weingarten_Kapelle_14_Nothelfer.jpg
END:VEVENT
BEGIN:VEVENT
DTSTART;TZID=Europe/Berlin:20230202T110000
DTEND;TZID=Europe/Berlin:20230202T120000
DTSTAMP:20260422T100341
CREATED:20230208T072019Z
LAST-MODIFIED:20230210T112338Z
UID:25760-1675335600-1675339200@stuttgarti-katolikusok.de
SUMMARY:Weingarten - Gyertyaszentelő B. A.
DESCRIPTION:
URL:https://stuttgarti-katolikusok.de/index.php/esemeny/weingarten-gyertyaszentelo-b-a-2/
LOCATION:Baden-Württemberg
CATEGORIES:Szentmisék helye és ideje
END:VEVENT
BEGIN:VEVENT
DTSTART;TZID=Europe/Berlin:20230202T180000
DTEND;TZID=Europe/Berlin:20230202T190000
DTSTAMP:20260422T100341
CREATED:20230130T102146Z
LAST-MODIFIED:20230130T102146Z
UID:24996-1675360800-1675364400@stuttgarti-katolikusok.de
SUMMARY:Gyertyaszentelő Boldogasszony ünnepe Ulmban
DESCRIPTION:Február 2-án\, csütörtökön\, Ulmban 18.00 órakor szentmise\, előtte rózsafüzért imádkozunk. Gyertyaszentelő Boldogasszony ünnepe\, szentmise végeztével Balázs-áldás. \nMindenkit szeretettel vár a közösség és Tibor atya! \n \nBensőséges és kellemes farsangi napokat\, jó találkozásokat és sok örömet kívánok minden kedves Hívemnek. \n* \n„Az emberi lény ugyanis el tud viselni egy hét szomjazást\, két hét éhezést\, és akár évekig elviseli\, hogy nincs fedél a feje fölött\, de a magányt nem viseli el. Minden kín és minden szenvedés közül a magány a legrosszabb.” (Paulo Coelho\, brazil író\, 1947 – ) \n(Kép forrása: pixabay.com)
URL:https://stuttgarti-katolikusok.de/index.php/esemeny/gyertyaszentelo-boldogasszony-unnepe-ulmban/
LOCATION:St. Michael zu den Wengen\, Wengengasse 6\, Ulm\, Baden-Württemberg\, 89073\, Németország
CATEGORIES:Szentmise
ATTACH;FMTTYPE=image/jpeg:https://stuttgarti-katolikusok.de/wp-content/uploads/2015/12/Wengenkirche1-e1483916551260.jpg
END:VEVENT
BEGIN:VEVENT
DTSTART;TZID=Europe/Berlin:20230202T180000
DTEND;TZID=Europe/Berlin:20230202T190000
DTSTAMP:20260422T100341
CREATED:20230208T072020Z
LAST-MODIFIED:20230210T112344Z
UID:25761-1675360800-1675364400@stuttgarti-katolikusok.de
SUMMARY:Ulm - Gyertyaszentelő B. A.
DESCRIPTION:
URL:https://stuttgarti-katolikusok.de/index.php/esemeny/ulm-gyertyaszentelo-b-a-2/
LOCATION:Baden-Württemberg
CATEGORIES:Szentmisék helye és ideje
END:VEVENT
BEGIN:VEVENT
DTSTART;TZID=Europe/Berlin:20230203T180000
DTEND;TZID=Europe/Berlin:20230203T190000
DTSTAMP:20260422T100341
CREATED:20230130T102430Z
LAST-MODIFIED:20230130T102430Z
UID:24998-1675447200-1675450800@stuttgarti-katolikusok.de
SUMMARY:Gyartyaszentelő Boldogasszony ünnepe Stuttgartban
DESCRIPTION:Február 3-án\, pénteken\, Stuttgarti délután\, 18.00 órakor szentmise. Előtte rózsafüzért imádkozunk. Gyertyaszentelő Boldogasszony ünnepe\, szentmise végeztével Balázs-áldás.  \nMindenkit szeretettel vár a közösség és Tibor atya! \n \nBensőséges és kellemes farsangi napokat\, jó találkozásokat és sok örömet kívánok minden kedves Hívemnek. \n* \n„Az emberi lény ugyanis el tud viselni egy hét szomjazást\, két hét éhezést\, és akár évekig elviseli\, hogy nincs fedél a feje fölött\, de a magányt nem viseli el. Minden kín és minden szenvedés közül a magány a legrosszabb.” (Paulo Coelho\, brazil író\, 1947 – ) \n(Kép forrása: pixabay.com)
URL:https://stuttgarti-katolikusok.de/index.php/esemeny/gyartyaszentelo-boldogasszony-unnepe-stuttgartban/
LOCATION:Bruder Klaus Kirche\, Albert-Schäffle-Straße 30\, Stuttgart\, Baden-Württemberg\, 70186\, Németország
CATEGORIES:Szentmise
ATTACH;FMTTYPE=image/jpeg:https://stuttgarti-katolikusok.de/wp-content/uploads/2015/12/013__2_klaus.jpg
END:VEVENT
BEGIN:VEVENT
DTSTART;TZID=Europe/Berlin:20230204T160000
DTEND;TZID=Europe/Berlin:20230204T170000
DTSTAMP:20260422T100341
CREATED:20230208T072020Z
LAST-MODIFIED:20230210T112348Z
UID:25762-1675526400-1675530000@stuttgarti-katolikusok.de
SUMMARY:Balingen - búcsú
DESCRIPTION:
URL:https://stuttgarti-katolikusok.de/index.php/esemeny/balingen-bucsu-4/
LOCATION:Baden-Württemberg
CATEGORIES:Szentmisék helye és ideje
END:VEVENT
BEGIN:VEVENT
DTSTART;TZID=Europe/Berlin:20230204T160000
DTEND;TZID=Europe/Berlin:20230204T180000
DTSTAMP:20260422T100341
CREATED:20230130T102944Z
LAST-MODIFIED:20230130T102944Z
UID:25000-1675526400-1675533600@stuttgarti-katolikusok.de
SUMMARY:Szent Magyar Pál búcsú ünnep Balingenben
DESCRIPTION:Február 4-én\, szombaton\, Balingenben 16.00 órakor búcsús-szentmise\, Boldog Magyar Pál\, a közösség védőszentje\, utána agapé. \nMindenkit szeretettel vár a közösség és Tibor atya! \n * \n \n* \n  \nBensőséges és kellemes farsangi napokat\, jó találkozásokat és sok örömet kívánok minden kedves Hívemnek. \n* \n„Az emberi lény ugyanis el tud viselni egy hét szomjazást\, két hét éhezést\, és akár évekig elviseli\, hogy nincs fedél a feje fölött\, de a magányt nem viseli el. Minden kín és minden szenvedés közül a magány a legrosszabb.” (Paulo Coelho\, brazil író\, 1947 – ) \n(Kép forrása: pixabay.com)
URL:https://stuttgarti-katolikusok.de/index.php/esemeny/szent-magyar-pal-bucsu-unnep-balingenben/
LOCATION:Sankt Paulus Kirche\, St. Paulus Str. 2\, Balingen-Frommern\, Baden-Württemberg\, 72336\, Németország
CATEGORIES:Szentmise
ATTACH;FMTTYPE=image/jpeg:https://stuttgarti-katolikusok.de/wp-content/uploads/2018/04/20180505_163840-e1764632638620.jpg
END:VEVENT
BEGIN:VEVENT
DTSTART;TZID=Europe/Berlin:20230205T093000
DTEND;TZID=Europe/Berlin:20230205T103000
DTSTAMP:20260422T100341
CREATED:20230208T072021Z
LAST-MODIFIED:20230210T112348Z
UID:25763-1675589400-1675593000@stuttgarti-katolikusok.de
SUMMARY:Schwäbisch-Gmünd
DESCRIPTION:
URL:https://stuttgarti-katolikusok.de/index.php/esemeny/schwabisch-gmund-32/
LOCATION:Baden-Württemberg
CATEGORIES:Szentmisék helye és ideje
END:VEVENT
BEGIN:VEVENT
DTSTART;TZID=Europe/Berlin:20230205T093000
DTEND;TZID=Europe/Berlin:20230205T113000
DTSTAMP:20260422T100341
CREATED:20230130T103757Z
LAST-MODIFIED:20230130T103757Z
UID:25004-1675589400-1675596600@stuttgarti-katolikusok.de
SUMMARY:Szentmise Schwäbisch-Gmündben
DESCRIPTION:Február 5-én\, Évközi 5. vasárnap\, Schwäbisch-Gmündben 9.30 órakor szentmise\, utána agapé. \nMindenkit szeretettel vár a közösség és Tibor atya! \n \nBensőséges és kellemes farsangi napokat\, jó találkozásokat és sok örömet kívánok minden kedves Hívemnek. \n* \n„Az emberi lény ugyanis el tud viselni egy hét szomjazást\, két hét éhezést\, és akár évekig elviseli\, hogy nincs fedél a feje fölött\, de a magányt nem viseli el. Minden kín és minden szenvedés közül a magány a legrosszabb.” (Paulo Coelho\, brazil író\, 1947 – ) \n(Kép forrása: pixabay.com)
URL:https://stuttgarti-katolikusok.de/index.php/esemeny/szentmise-schwabisch-gmundben/
LOCATION:Sankt Franziskus Kirche\, Franziskaner Str. 3\, Schwäbisch-Gmünd\, Baden-Württemberg\, 73525\, Németország
CATEGORIES:Szentmise
ATTACH;FMTTYPE=image/jpeg:https://stuttgarti-katolikusok.de/wp-content/uploads/2018/03/st-franziskus-schw-gmund.jpg
END:VEVENT
BEGIN:VEVENT
DTSTART;TZID=Europe/Berlin:20230205T150000
DTEND;TZID=Europe/Berlin:20230205T160000
DTSTAMP:20260422T100341
CREATED:20230208T072021Z
LAST-MODIFIED:20230210T112349Z
UID:25764-1675609200-1675612800@stuttgarti-katolikusok.de
SUMMARY:Stuttgart
DESCRIPTION:
URL:https://stuttgarti-katolikusok.de/index.php/esemeny/stuttgart-45/
LOCATION:Baden-Württemberg
CATEGORIES:Szentmisék helye és ideje
END:VEVENT
BEGIN:VEVENT
DTSTART;TZID=Europe/Berlin:20230205T150000
DTEND;TZID=Europe/Berlin:20230205T180000
DTSTAMP:20260422T100341
CREATED:20230130T104011Z
LAST-MODIFIED:20230130T104011Z
UID:25006-1675609200-1675620000@stuttgarti-katolikusok.de
SUMMARY:Szentmise Stuttgartban
DESCRIPTION:Február 5-én\, Évközi 5. vasárnap\, Stuttgartban 15.00 órakor szentmise\, utána közös farsang a közösségi teremben. \nMindenkit szeretettel vár a közösség és Tibor atya! \n \nBensőséges és kellemes farsangi napokat\, jó találkozásokat és sok örömet kívánok minden kedves Hívemnek. \n* \n„Az emberi lény ugyanis el tud viselni egy hét szomjazást\, két hét éhezést\, és akár évekig elviseli\, hogy nincs fedél a feje fölött\, de a magányt nem viseli el. Minden kín és minden szenvedés közül a magány a legrosszabb.” (Paulo Coelho\, brazil író\, 1947 – ) \n(Kép forrása: pixabay.com)
URL:https://stuttgarti-katolikusok.de/index.php/esemeny/szentmise-stuttgartban/
LOCATION:Bruder Klaus Kirche\, Albert-Schäffle-Straße 30\, Stuttgart\, Baden-Württemberg\, 70186\, Németország
CATEGORIES:Szentmise
ATTACH;FMTTYPE=image/jpeg:https://stuttgarti-katolikusok.de/wp-content/uploads/2015/12/013__2_klaus.jpg
END:VEVENT
BEGIN:VEVENT
DTSTART;TZID=Europe/Berlin:20230210T160000
DTEND;TZID=Europe/Berlin:20230210T190000
DTSTAMP:20260422T100341
CREATED:20230206T151006Z
LAST-MODIFIED:20230206T163157Z
UID:25030-1676044800-1676055600@stuttgarti-katolikusok.de
SUMMARY:Stuttgarti délután
DESCRIPTION:Február 10-én\, pénteken\, Stuttgarti délután\,  \n16.00 órakor Barátságklub\, \n18.00 órakor szentmise. \nMindenkit szeretettel vár a közösség és Tibor atya! \n* \n \n* \n \n* \nBensőséges és kellemes farsangi napokat\, jó találkozásokat és sok örömet kívánok minden kedves Hívemnek. \n* \n „A testi betegségekre ott vannak a gyógyszerek\, de a magányt\, kétségbeesést és reménytelenséget egyedül a szeretet képes meggyógyítani. Sokan vannak a világban\, akik egy darabka kenyérre éheznek\, de még többen olyanok\, akik csak egy kis szeretetre.” (Kalkuttai Szent Teréz\, 1910 – 1997) \n(Kép forrása: pixabay.com)
URL:https://stuttgarti-katolikusok.de/index.php/esemeny/stuttgarti-delutan-2/
LOCATION:Bruder Klaus Kirche\, Albert-Schäffle-Straße 30\, Stuttgart\, Baden-Württemberg\, 70186\, Németország
CATEGORIES:Stuttgarti délután
ATTACH;FMTTYPE=image/jpeg:https://stuttgarti-katolikusok.de/wp-content/uploads/2015/12/013__2_klaus.jpg
END:VEVENT
BEGIN:VEVENT
DTSTART;TZID=Europe/Berlin:20230211T160000
DTEND;TZID=Europe/Berlin:20230211T170000
DTSTAMP:20260422T100341
CREATED:20230208T072203Z
LAST-MODIFIED:20230210T112544Z
UID:25894-1676131200-1676134800@stuttgarti-katolikusok.de
SUMMARY:Biberach!!!
DESCRIPTION:
URL:https://stuttgarti-katolikusok.de/index.php/esemeny/biberach-30/
LOCATION:Baden-Württemberg
CATEGORIES:Szentmisék helye és ideje
END:VEVENT
BEGIN:VEVENT
DTSTART;TZID=Europe/Berlin:20230211T164500
DTEND;TZID=Europe/Berlin:20230211T190000
DTSTAMP:20260422T100341
CREATED:20230206T151357Z
LAST-MODIFIED:20230206T151644Z
UID:25032-1676133900-1676142000@stuttgarti-katolikusok.de
SUMMARY:Szentmise Biberachban
DESCRIPTION:Február 11-én\, szombaton\, Biberachban 16.45 órakor szentmise a Spitalkirche-ben (Bachgasse 29)\, utána agapé. \nSzentmise keretében gyertyaszentelést és Balázs-áldást is tartunk. \nMindenkit szeretettel vár a közösség és Tibor atya! \n* \n \n* \nBensőséges és kellemes farsangi napokat\, jó találkozásokat és sok örömet kívánok minden kedves Hívemnek. \n* \n „A testi betegségekre ott vannak a gyógyszerek\, de a magányt\, kétségbeesést és reménytelenséget egyedül a szeretet képes meggyógyítani. Sokan vannak a világban\, akik egy darabka kenyérre éheznek\, de még többen olyanok\, akik csak egy kis szeretetre.” (Kalkuttai Szent Teréz\, 1910 – 1997) \n(Kép forrása: pixabay.com)
URL:https://stuttgarti-katolikusok.de/index.php/esemeny/szentmise-biberachban/
LOCATION:Spitalkirche\, Museumgasse 2-4\, Biberach an der Riss\, Baden-Württemberg\, 88400\, Németország
CATEGORIES:Szentmise
ATTACH;FMTTYPE=image/jpeg:https://stuttgarti-katolikusok.de/wp-content/uploads/2015/12/Biberach_Kath_Spitalkirche.jpg
END:VEVENT
BEGIN:VEVENT
DTSTART;TZID=Europe/Berlin:20230212T090000
DTEND;TZID=Europe/Berlin:20230212T100000
DTSTAMP:20260422T100341
CREATED:20230208T072318Z
LAST-MODIFIED:20230210T112553Z
UID:25913-1676192400-1676196000@stuttgarti-katolikusok.de
SUMMARY:Weingarten - Hl. Geist + keresztelő
DESCRIPTION:
URL:https://stuttgarti-katolikusok.de/index.php/esemeny/weingarten-hl-geist-keresztelo-2/
LOCATION:Baden-Württemberg
CATEGORIES:Szentmisék helye és ideje
END:VEVENT
BEGIN:VEVENT
DTSTART;TZID=Europe/Berlin:20230212T090000
DTEND;TZID=Europe/Berlin:20230212T113000
DTSTAMP:20260422T100341
CREATED:20230206T152534Z
LAST-MODIFIED:20230206T155142Z
UID:25037-1676192400-1676201400@stuttgarti-katolikusok.de
SUMMARY:Szentmise Weingartenben
DESCRIPTION:Február 12–én\, Évközi 6. vasárnap\, Weingartenben 9.00 órakor szentmise a Heilig Geist Kirche-ben\, utána agapé. \nSzentmise keretében gyertyaszentelést és Balázs-áldást is tartunk. \nMindenkit szeretettel vár a közösség és Tibor atya! \n* \n \n* \nBensőséges és kellemes farsangi napokat\, jó találkozásokat és sok örömet kívánok minden kedves Hívemnek. \n* \n „A testi betegségekre ott vannak a gyógyszerek\, de a magányt\, kétségbeesést és reménytelenséget egyedül a szeretet képes meggyógyítani. Sokan vannak a világban\, akik egy darabka kenyérre éheznek\, de még többen olyanok\, akik csak egy kis szeretetre.” (Kalkuttai Szent Teréz\, 1910 – 1997) \n(Kép forrása: pixabay.com)
URL:https://stuttgarti-katolikusok.de/index.php/esemeny/szentmise-weingartenben/
LOCATION:Hl. Geist Weingarten\, Keplerstrasse 2\, Weingarten\, Baden-Württemberg\, 88250\, Németország
CATEGORIES:Szentmise
ATTACH;FMTTYPE=image/jpeg:https://stuttgarti-katolikusok.de/wp-content/uploads/2023/02/hlgeist-20221102-27-kiechle-1024x683-1.jpg
END:VEVENT
BEGIN:VEVENT
DTSTART;TZID=Europe/Berlin:20230212T150000
DTEND;TZID=Europe/Berlin:20230212T160000
DTSTAMP:20260422T100341
CREATED:20230208T072022Z
LAST-MODIFIED:20230210T112350Z
UID:25765-1676214000-1676217600@stuttgarti-katolikusok.de
SUMMARY:Ulm
DESCRIPTION:
URL:https://stuttgarti-katolikusok.de/index.php/esemeny/ulm-24/
LOCATION:Baden-Württemberg
CATEGORIES:Szentmisék helye és ideje
END:VEVENT
BEGIN:VEVENT
DTSTART;TZID=Europe/Berlin:20230212T150000
DTEND;TZID=Europe/Berlin:20230212T170000
DTSTAMP:20260422T100341
CREATED:20230206T155648Z
LAST-MODIFIED:20230206T155648Z
UID:25040-1676214000-1676221200@stuttgarti-katolikusok.de
SUMMARY:Szentmise Ulmban
DESCRIPTION:Február 12–én\, Évközi 6. vasárnap\, Ulmban 15.00 órakor szentmise\, utána agapé. \nSzentmise keretében gyertyaszentelést és Balázs-áldást is tartunk. \nMindenkit szeretettel vár a közösség és Tibor atya! \n* \n \n* \nBensőséges és kellemes farsangi napokat\, jó találkozásokat és sok örömet kívánok minden kedves Hívemnek. \n* \n „A testi betegségekre ott vannak a gyógyszerek\, de a magányt\, kétségbeesést és reménytelenséget egyedül a szeretet képes meggyógyítani. Sokan vannak a világban\, akik egy darabka kenyérre éheznek\, de még többen olyanok\, akik csak egy kis szeretetre.” (Kalkuttai Szent Teréz\, 1910 – 1997) \n(Kép forrása: pixabay.com)
URL:https://stuttgarti-katolikusok.de/index.php/esemeny/szentmise-ulmban/
LOCATION:St. Michael zu den Wengen\, Wengengasse 6\, Ulm\, Baden-Württemberg\, 89073\, Németország
CATEGORIES:Szentmise
ATTACH;FMTTYPE=image/jpeg:https://stuttgarti-katolikusok.de/wp-content/uploads/2015/12/Wengenkirche1-e1483916551260.jpg
END:VEVENT
BEGIN:VEVENT
DTSTART;TZID=Europe/Berlin:20230217T180000
DTEND;TZID=Europe/Berlin:20230217T190000
DTSTAMP:20260422T100341
CREATED:20230213T100131Z
LAST-MODIFIED:20230213T100131Z
UID:26277-1676656800-1676660400@stuttgarti-katolikusok.de
SUMMARY:Stuttgarti délután
DESCRIPTION:Február 17-én\, pénteken\, Stuttgarti délután\, 18.00 órakor szentmise\, előtte rózsafüzért imádkozunk. Szentmise keretében Beszélgetések a katekizmusról. \nMindenkit szeretettel vár a közösség és Tibor atya! \n* \n \nBensőséges és kellemes farsangi napokat\, jó találkozásokat és sok örömet kívánok minden kedves Hívemnek. \n* \n „Az élet minden csatája arra jó\, hogy tanuljunk valamit belőle\, még azokból is\, amelyeket elveszítünk.” (Paulo Coelho – sz. 1947 – brazil író) \n(Kép forrása: pixabay)
URL:https://stuttgarti-katolikusok.de/index.php/esemeny/stuttgarti-delutan-3/
LOCATION:Bruder Klaus Kirche\, Albert-Schäffle-Straße 30\, Stuttgart\, Baden-Württemberg\, 70186\, Németország
CATEGORIES:Stuttgarti délután
ATTACH;FMTTYPE=image/jpeg:https://stuttgarti-katolikusok.de/wp-content/uploads/2015/12/013__2_klaus.jpg
END:VEVENT
BEGIN:VEVENT
DTSTART;TZID=Europe/Berlin:20230218T153000
DTEND;TZID=Europe/Berlin:20230218T163000
DTSTAMP:20260422T100341
CREATED:20230208T072023Z
LAST-MODIFIED:20230210T112350Z
UID:25766-1676734200-1676737800@stuttgarti-katolikusok.de
SUMMARY:Heidenheim
DESCRIPTION:
URL:https://stuttgarti-katolikusok.de/index.php/esemeny/heidenheim-12/
LOCATION:Baden-Württemberg
CATEGORIES:Szentmisék helye és ideje
END:VEVENT
BEGIN:VEVENT
DTSTART;TZID=Europe/Berlin:20230218T153000
DTEND;TZID=Europe/Berlin:20230218T173000
DTSTAMP:20260422T100341
CREATED:20230213T100440Z
LAST-MODIFIED:20230213T215711Z
UID:26279-1676734200-1676741400@stuttgarti-katolikusok.de
SUMMARY:Szentmise Heidenheimban
DESCRIPTION:Február 18-án\, szombaton\, Heidenheimban 15.30 órakor szentmise\, utána agapé. \nHelyszín: Ökumenisches Gemeindezentrum Mittelrain\, Hans-Thoma-Straße 50\, 89520 Heidenheim an der Brenz \nMindenkit szeretettel vár a közösség és Tibor atya! \n* \n \nBensőséges és kellemes farsangi napokat\, jó találkozásokat és sok örömet kívánok minden kedves Hívemnek. \n* \n „Az élet minden csatája arra jó\, hogy tanuljunk valamit belőle\, még azokból is\, amelyeket elveszítünk.” (Paulo Coelho – sz. 1947 – brazil író) \n(Kép forrása: pixabay)
URL:https://stuttgarti-katolikusok.de/index.php/esemeny/szentmise-heidenheimban/
LOCATION:Ökumenisches Gemeindezentrum Mittelrain\, Hans-Thoma-Straße 50\, Heidenheim an der Brenz\, Baden Württemberg\, 89520\, Németország
CATEGORIES:Szentmise
ATTACH;FMTTYPE=image/jpeg:https://stuttgarti-katolikusok.de/wp-content/uploads/2021/10/okgemeindezentrum-heidenheim.jpg
END:VEVENT
BEGIN:VEVENT
DTSTART;TZID=Europe/Berlin:20230219T113000
DTEND;TZID=Europe/Berlin:20230219T123000
DTSTAMP:20260422T100341
CREATED:20230208T072023Z
LAST-MODIFIED:20230210T112357Z
UID:25767-1676806200-1676809800@stuttgarti-katolikusok.de
SUMMARY:Stuttgart
DESCRIPTION:
URL:https://stuttgarti-katolikusok.de/index.php/esemeny/stuttgart-46/
LOCATION:Baden-Württemberg
CATEGORIES:Szentmisék helye és ideje
END:VEVENT
BEGIN:VEVENT
DTSTART;TZID=Europe/Berlin:20230219T113000
DTEND;TZID=Europe/Berlin:20230219T123000
DTSTAMP:20260422T100341
CREATED:20230213T100707Z
LAST-MODIFIED:20230215T162634Z
UID:26281-1676806200-1676809800@stuttgarti-katolikusok.de
SUMMARY:Szentmise Stuttgartban
DESCRIPTION:Február 19-én\, Évközi 7. vasárnap\, Stuttgartban 11.30 órakor szentmise. \n \nMindenkit szeretettel vár a közösség és Tibor atya! \n* \n \n  \nBensőséges és kellemes farsangi napokat\, jó találkozásokat és sok örömet kívánok minden kedves Hívemnek. \n* \n „Az élet minden csatája arra jó\, hogy tanuljunk valamit belőle\, még azokból is\, amelyeket elveszítünk.” (Paulo Coelho – sz. 1947 – brazil író) \n(Kép forrása: pixabay)
URL:https://stuttgarti-katolikusok.de/index.php/esemeny/szentmise-stuttgartban-2/
LOCATION:Bruder Klaus Kirche\, Albert-Schäffle-Straße 30\, Stuttgart\, Baden-Württemberg\, 70186\, Németország
CATEGORIES:Szentmise
ATTACH;FMTTYPE=image/jpeg:https://stuttgarti-katolikusok.de/wp-content/uploads/2015/12/013__2_klaus.jpg
END:VEVENT
BEGIN:VEVENT
DTSTART;TZID=Europe/Berlin:20230219T153000
DTEND;TZID=Europe/Berlin:20230219T163000
DTSTAMP:20260422T100341
CREATED:20230208T072151Z
LAST-MODIFIED:20230210T112542Z
UID:25889-1676820600-1676824200@stuttgarti-katolikusok.de
SUMMARY:Eislingen
DESCRIPTION:
URL:https://stuttgarti-katolikusok.de/index.php/esemeny/eislingen-16/
LOCATION:Baden-Württemberg
CATEGORIES:Szentmisék helye és ideje
END:VEVENT
BEGIN:VEVENT
DTSTART;TZID=Europe/Berlin:20230219T153000
DTEND;TZID=Europe/Berlin:20230219T190000
DTSTAMP:20260422T100341
CREATED:20230213T101823Z
LAST-MODIFIED:20230213T101823Z
UID:26283-1676820600-1676833200@stuttgarti-katolikusok.de
SUMMARY:Szentmise Eislingenben
DESCRIPTION:Február 19-én\, Évközi 7. vasárnap\, Eislingenben 15.30 órakor szentmise\, utána agapé\, benne hagyományos közös farsangolás. \nA farsangolás keretében lesz hagyományos vidám farsangi előadás\, nótázás\, farsangi fánk. Ti magatok pedig ne feledjétek jókedveteket és a farsangi öltözékeket magatokkal hozni! \nMindenkit szeretettel vár a közösség és Tibor atya! \n* \n \nBensőséges és kellemes farsangi napokat\, jó találkozásokat és sok örömet kívánok minden kedves Hívemnek. \n* \n „Az élet minden csatája arra jó\, hogy tanuljunk valamit belőle\, még azokból is\, amelyeket elveszítünk.” (Paulo Coelho – sz. 1947 – brazil író) \n(Kép forrása: pixabay)
URL:https://stuttgarti-katolikusok.de/index.php/esemeny/szentmise-eislingenben/
LOCATION:Liebfrauen-Kirche\, Eberhardt Str. 30\, Eislingen/Fils\, Baden-Württemberg\, 73054\, Németország
CATEGORIES:Szentmise
ATTACH;FMTTYPE=image/jpeg:https://stuttgarti-katolikusok.de/wp-content/uploads/2015/12/Eislingen.jpg
END:VEVENT
END:VCALENDAR