BEGIN:VCALENDAR
VERSION:2.0
PRODID:-//Stuttgarti Katolikusok - ECPv6.15.20//NONSGML v1.0//EN
CALSCALE:GREGORIAN
METHOD:PUBLISH
X-WR-CALNAME:Stuttgarti Katolikusok
X-ORIGINAL-URL:https://stuttgarti-katolikusok.de
X-WR-CALDESC:Események Stuttgarti Katolikusok
REFRESH-INTERVAL;VALUE=DURATION:PT1H
X-Robots-Tag:noindex
X-PUBLISHED-TTL:PT1H
BEGIN:VTIMEZONE
TZID:Europe/Berlin
BEGIN:DAYLIGHT
TZOFFSETFROM:+0100
TZOFFSETTO:+0200
TZNAME:CEST
DTSTART:20210328T010000
END:DAYLIGHT
BEGIN:STANDARD
TZOFFSETFROM:+0200
TZOFFSETTO:+0100
TZNAME:CET
DTSTART:20211031T010000
END:STANDARD
BEGIN:DAYLIGHT
TZOFFSETFROM:+0100
TZOFFSETTO:+0200
TZNAME:CEST
DTSTART:20220327T010000
END:DAYLIGHT
BEGIN:STANDARD
TZOFFSETFROM:+0200
TZOFFSETTO:+0100
TZNAME:CET
DTSTART:20221030T010000
END:STANDARD
BEGIN:DAYLIGHT
TZOFFSETFROM:+0100
TZOFFSETTO:+0200
TZNAME:CEST
DTSTART:20230326T010000
END:DAYLIGHT
BEGIN:STANDARD
TZOFFSETFROM:+0200
TZOFFSETTO:+0100
TZNAME:CET
DTSTART:20231029T010000
END:STANDARD
END:VTIMEZONE
BEGIN:VEVENT
DTSTART;TZID=Europe/Berlin:20221023T083000
DTEND;TZID=Europe/Berlin:20221023T093000
DTSTAMP:20260422T010546
CREATED:20230208T071902Z
LAST-MODIFIED:20230208T072554Z
UID:25644-1666513800-1666517400@stuttgarti-katolikusok.de
SUMMARY:Böblingen
DESCRIPTION:
URL:https://stuttgarti-katolikusok.de/index.php/esemeny/boblingen-7/
LOCATION:Baden-Württemberg
CATEGORIES:Szentmisék helye és ideje
END:VEVENT
BEGIN:VEVENT
DTSTART;TZID=Europe/Berlin:20221023T093000
DTEND;TZID=Europe/Berlin:20221023T113000
DTSTAMP:20260422T010546
CREATED:20221018T082303Z
LAST-MODIFIED:20221018T082303Z
UID:23816-1666517400-1666524600@stuttgarti-katolikusok.de
SUMMARY:Szentmise Böblingenben
DESCRIPTION:Október 23-án\, évközi 30. vasárnap\, Böblingenben 9.30 órakor szentmise\, utána ágápé. \nMindenkit szeretettel vár a közösség és Tibor atya! \n* \n \n* \nBensőséges őszi napokat\, jó munkát\, tartalmas beszélgetéseket és örömteli találkozásokat kívánunk minden Kedves Hívünknek! \n* \n„Csak az képes a mások életéért önmagát mélyen és állandóan odaadni\, aki a saját életakaratáért való odaadásban az eseményektől való belső szabadságot megtapasztalta.” \n(Albert Schweitzer – 1875-1965)
URL:https://stuttgarti-katolikusok.de/index.php/esemeny/szentmise-boblingenben-47/
LOCATION:St. Bonifatius Kirche\, Sindelfinger Str. 14\, Böblingen\, Baden-Württemberg\, 71032\, Németország
CATEGORIES:Szentmise
ATTACH;FMTTYPE=image/jpeg:https://stuttgarti-katolikusok.de/wp-content/uploads/2021/11/boblingen.jpeg
END:VEVENT
BEGIN:VEVENT
DTSTART;TZID=Europe/Berlin:20221023T143000
DTEND;TZID=Europe/Berlin:20221023T153000
DTSTAMP:20260422T010546
CREATED:20230208T071909Z
LAST-MODIFIED:20230208T072554Z
UID:25645-1666535400-1666539000@stuttgarti-katolikusok.de
SUMMARY:Heilbronn
DESCRIPTION:
URL:https://stuttgarti-katolikusok.de/index.php/esemeny/heilbronn-9/
LOCATION:Baden-Württemberg
CATEGORIES:Szentmisék helye és ideje
END:VEVENT
BEGIN:VEVENT
DTSTART;TZID=Europe/Berlin:20221023T153000
DTEND;TZID=Europe/Berlin:20221023T173000
DTSTAMP:20260422T010546
CREATED:20221018T082630Z
LAST-MODIFIED:20221018T082630Z
UID:23818-1666539000-1666546200@stuttgarti-katolikusok.de
SUMMARY:Szentmise Heilbronnban
DESCRIPTION:Október 23-án\, évközi 30. vasárnap\, Heilbronnban 15.30 órakor szentmise\, utána ágápé. \nMindenkit szeretettel vár a közösség és Tibor atya! \n* \n \n* \nBensőséges őszi napokat\, jó munkát\, tartalmas beszélgetéseket és örömteli találkozásokat kívánunk minden Kedves Hívünknek! \n* \n„Csak az képes a mások életéért önmagát mélyen és állandóan odaadni\, aki a saját életakaratáért való odaadásban az eseményektől való belső szabadságot megtapasztalta.” \n(Albert Schweitzer – 1875-1965)
URL:https://stuttgarti-katolikusok.de/index.php/esemeny/szentmise-heilbronnban-49/
LOCATION:Baden-Württemberg
CATEGORIES:Szentmise
ATTACH;FMTTYPE=image/jpeg:https://stuttgarti-katolikusok.de/wp-content/uploads/2021/05/heiliggeist-aussenansicht.jpg
END:VEVENT
BEGIN:VEVENT
DTSTART;TZID=Europe/Berlin:20221026T173000
DTEND;TZID=Europe/Berlin:20221026T190000
DTSTAMP:20260422T010546
CREATED:20221024T101746Z
LAST-MODIFIED:20221025T081646Z
UID:23835-1666805400-1666810800@stuttgarti-katolikusok.de
SUMMARY:Weingarteni délután
DESCRIPTION:Október 26-án\, szerdán\, Weingarteni délután\, a 14 Nothelfer Kapelle-ben. 17.30 órakor rózsafüzér imádság\, utána szentmise. \n  \nMindenkit szeretettel vár a közösség és Tibor atya! \n* \n„Mindenszentek ünnepe az előttünk álló és hívogató cél ünnepe (…)\, az örök élet ünnepe\, amelyhez nemcsak az elhunytak tartoznak\, mi\, a földön élők is – a reménységben.” (Csanád Béla – 1926-1996 – pap\, költő\, tanár) \n* \nSzép őszi napokat\, jó munkát\, tartalmas beszélgetéseket és örömteli találkozásokat kívánunk minden kedves Hívünknek!
URL:https://stuttgarti-katolikusok.de/index.php/esemeny/weingarteni-delutan-175/
LOCATION:Marienkirche\, St. Konrad Str. 28\, Weingarten\, Baden Württemberg\, 88250\, Németország
CATEGORIES:Weingarteni délután
ATTACH;FMTTYPE=image/jpeg:https://stuttgarti-katolikusok.de/wp-content/uploads/2016/01/weingarten-marien-kirche.jpg
END:VEVENT
BEGIN:VEVENT
DTSTART;TZID=Europe/Berlin:20221028T163000
DTEND;TZID=Europe/Berlin:20221028T190000
DTSTAMP:20260422T010546
CREATED:20221024T102538Z
LAST-MODIFIED:20221024T102538Z
UID:23838-1666974600-1666983600@stuttgarti-katolikusok.de
SUMMARY:Stuttgarti délután
DESCRIPTION:Október 28-án\, pénteken\, Stuttgarti délután\,  \n16.30 órakor Barátságklub\, \n18.00 órakor októberi ájtatosság\, majd szentmise. \nMindenkit szeretettel vár a közösség és Tibor atya! \n* \n„Mindenszentek ünnepe az előttünk álló és hívogató cél ünnepe (…)\, az örök élet ünnepe\, amelyhez nemcsak az elhunytak tartoznak\, mi\, a földön élők is – a reménységben.” (Csanád Béla – 1926-1996 – pap\, költő\, tanár) \n* \nSzép őszi napokat\, jó munkát\, tartalmas beszélgetéseket és örömteli találkozásokat kívánunk minden kedves Hívünknek!
URL:https://stuttgarti-katolikusok.de/index.php/esemeny/stuttgarti-delutan-221/
LOCATION:Bruder Klaus Kirche\, Albert-Schäffle-Straße 30\, Stuttgart\, Baden-Württemberg\, 70186\, Németország
CATEGORIES:Weingarteni délután
ATTACH;FMTTYPE=image/jpeg:https://stuttgarti-katolikusok.de/wp-content/uploads/2015/12/013__2_klaus.jpg
END:VEVENT
BEGIN:VEVENT
DTSTART;TZID=Europe/Berlin:20221030T090000
DTEND;TZID=Europe/Berlin:20221030T100000
DTSTAMP:20260422T010546
CREATED:20221024T103258Z
LAST-MODIFIED:20221024T103258Z
UID:23842-1667120400-1667124000@stuttgarti-katolikusok.de
SUMMARY:Szentmise Munderkingenben
DESCRIPTION:Október 30-án\, évközi 31. vasárnap\, Munderkingenben 9.00 órakor szentmise a St. Dionysius Kirche-ben (89597 Munderkingen\, Kirchhof Str. 2). \nMindenkit szeretettel vár a közösség és Tibor atya! \n* \n„Mindenszentek ünnepe az előttünk álló és hívogató cél ünnepe (…)\, az örök élet ünnepe\, amelyhez nemcsak az elhunytak tartoznak\, mi\, a földön élők is – a reménységben.” (Csanád Béla – 1926-1996 – pap\, költő\, tanár) \n* \nSzép őszi napokat\, jó munkát\, tartalmas beszélgetéseket és örömteli találkozásokat kívánunk minden kedves Hívünknek! \n(Kép forrása: pixabay.com)
URL:https://stuttgarti-katolikusok.de/index.php/esemeny/szentmise-munderkingenben-47/
LOCATION:St. Dionysius\, Kirchhof 2\, Munderkingen\, Baden Württemberg\, 89597
CATEGORIES:Szentmise
ATTACH;FMTTYPE=image/jpeg:https://stuttgarti-katolikusok.de/wp-content/uploads/2020/06/munderkingen.jpg
END:VEVENT
BEGIN:VEVENT
DTSTART;TZID=Europe/Berlin:20221030T090000
DTEND;TZID=Europe/Berlin:20221030T100000
DTSTAMP:20260422T010546
CREATED:20230208T071947Z
LAST-MODIFIED:20230208T072807Z
UID:25707-1667120400-1667124000@stuttgarti-katolikusok.de
SUMMARY:Munderkingen
DESCRIPTION:
URL:https://stuttgarti-katolikusok.de/index.php/esemeny/munderkingen-5/
LOCATION:Baden-Württemberg
CATEGORIES:Szentmisék helye és ideje
END:VEVENT
BEGIN:VEVENT
DTSTART;TZID=Europe/Berlin:20221030T163000
DTEND;TZID=Europe/Berlin:20221030T173000
DTSTAMP:20260422T010546
CREATED:20230208T071909Z
LAST-MODIFIED:20230208T072555Z
UID:25646-1667147400-1667151000@stuttgarti-katolikusok.de
SUMMARY:Reutlingen
DESCRIPTION:
URL:https://stuttgarti-katolikusok.de/index.php/esemeny/reutlingen-4/
LOCATION:Baden-Württemberg
CATEGORIES:Szentmisék helye és ideje
END:VEVENT
BEGIN:VEVENT
DTSTART;TZID=Europe/Berlin:20221030T163000
DTEND;TZID=Europe/Berlin:20221030T183000
DTSTAMP:20260422T010546
CREATED:20221024T103624Z
LAST-MODIFIED:20221024T103624Z
UID:23844-1667147400-1667154600@stuttgarti-katolikusok.de
SUMMARY:Szentmise Reutlingenben
DESCRIPTION:Október 30-án\, évközi 31. vasárnap\, Reutlingenben 16.30 órakor szentmise\, utána ágápé.    \nMindenkit szeretettel vár a közösség és Tibor atya! \n* \n„Mindenszentek ünnepe az előttünk álló és hívogató cél ünnepe (…)\, az örök élet ünnepe\, amelyhez nemcsak az elhunytak tartoznak\, mi\, a földön élők is – a reménységben.” (Csanád Béla – 1926-1996 – pap\, költő\, tanár) \n* \nSzép őszi napokat\, jó munkát\, tartalmas beszélgetéseket és örömteli találkozásokat kívánunk minden kedves Hívünknek! \n(Kép forrása: pixabay.com)
URL:https://stuttgarti-katolikusok.de/index.php/esemeny/szentmise-reutlingenben-44/
LOCATION:St. Andreas Kirche\, Nürnberger Str. 184\, Reutlingen-Orschel-Hagen\, Baden-Württemberg\, 72760\, Németország
CATEGORIES:Szentmise
ATTACH;FMTTYPE=image/jpeg:https://stuttgarti-katolikusok.de/wp-content/uploads/2015/12/Reutlingen.jpg
END:VEVENT
BEGIN:VEVENT
DTSTART;TZID=Europe/Berlin:20221101T110000
DTEND;TZID=Europe/Berlin:20221101T120000
DTSTAMP:20260422T010546
CREATED:20221027T183125Z
LAST-MODIFIED:20221027T183125Z
UID:23856-1667300400-1667304000@stuttgarti-katolikusok.de
SUMMARY:Mindenszentek ünnepe Weingartenben
DESCRIPTION:November 1-jén\, kedden\, Mindenszentek ünnepe\, Weingartenben 11.00 órakor a 14 Nothelfer Kapelle-ben szentmise\, utána a közeli temetőben (Marienfriedhof) imádkozunk halottainkért. \nMindenkit szeretettel vár a közösség és Tibor atya! \n* \n„Mindenszentek ünnepe az előttünk álló és hívogató cél ünnepe (…)\, az örök élet ünnepe\, amelyhez nemcsak az elhunytak tartoznak\, mi\, a földön élők is – a reménységben.” (Csanád Béla – 1926-1996 – pap\, költő\, tanár) \n* \nSzép őszi napokat\, jó munkát\, tartalmas beszélgetéseket és örömteli találkozásokat kívánunk minden kedves Hívünknek!
URL:https://stuttgarti-katolikusok.de/index.php/esemeny/mindenszentek-unnepe-weingartenben-5/
LOCATION:14 Nothelfer  Kapelle\, Ravensburger Str. 39\, Weingarten\, Baden-Württemberg\, 88250\, Németország
CATEGORIES:Szentmise
ATTACH;FMTTYPE=image/jpeg:https://stuttgarti-katolikusok.de/wp-content/uploads/2015/12/Weingarten_Kapelle_14_Nothelfer.jpg
END:VEVENT
BEGIN:VEVENT
DTSTART;TZID=Europe/Berlin:20221101T170000
DTEND;TZID=Europe/Berlin:20221101T190000
DTSTAMP:20260422T010546
CREATED:20221027T183436Z
LAST-MODIFIED:20221027T183436Z
UID:23858-1667322000-1667329200@stuttgarti-katolikusok.de
SUMMARY:Mindenszentek ünnepe Stuttgartban
DESCRIPTION:November 1-jén\, kedden\, Mindenszentek ünnepe\, Stuttgartban 18.00 órakor szentmise\, ezt megelőzően 17.00 órakor a közelben lévő temetőbe (Gablenberger Friedhof) látogatunk ki\, hogy halottainkért imádkozzunk. Szentmise végeztével ágápé a közösségi teremben. \nMindenkit szeretettel vár a közösség és Tibor atya! \n* \n„Mindenszentek ünnepe az előttünk álló és hívogató cél ünnepe (…)\, az örök élet ünnepe\, amelyhez nemcsak az elhunytak tartoznak\, mi\, a földön élők is – a reménységben.” (Csanád Béla – 1926-1996 – pap\, költő\, tanár) \n* \nSzép őszi napokat\, jó munkát\, tartalmas beszélgetéseket és örömteli találkozásokat kívánunk minden kedves Hívünknek!
URL:https://stuttgarti-katolikusok.de/index.php/esemeny/mindenszentek-unnepe-stuttgartban-5/
LOCATION:Bruder Klaus Kirche\, Albert-Schäffle-Straße 30\, Stuttgart\, Baden-Württemberg\, 70186\, Németország
CATEGORIES:Szentmise
ATTACH;FMTTYPE=image/jpeg:https://stuttgarti-katolikusok.de/wp-content/uploads/2015/12/013__2_klaus.jpg
END:VEVENT
BEGIN:VEVENT
DTSTART;TZID=Europe/Berlin:20221101T180000
DTEND;TZID=Europe/Berlin:20221101T190000
DTSTAMP:20260422T010546
CREATED:20230208T071910Z
LAST-MODIFIED:20230208T072555Z
UID:25647-1667325600-1667329200@stuttgarti-katolikusok.de
SUMMARY:Stuttgart
DESCRIPTION:
URL:https://stuttgarti-katolikusok.de/index.php/esemeny/stuttgart-31/
LOCATION:Baden-Württemberg
CATEGORIES:Szentmisék helye és ideje
END:VEVENT
BEGIN:VEVENT
DTSTART;TZID=Europe/Berlin:20221103T173000
DTEND;TZID=Europe/Berlin:20221103T190000
DTSTAMP:20260422T010546
CREATED:20221102T224046Z
LAST-MODIFIED:20221102T224046Z
UID:23881-1667496600-1667502000@stuttgarti-katolikusok.de
SUMMARY:Ulmi délután
DESCRIPTION:November 3-án\, csütörtökön\, Ulmi délután. 18.00 órakor szentmise\, előtte rózsafüzért imádkozunk. Szentmise keretében Beszélgetések a Katekizmusról. \nMindenkit szeretettel vár a közösség és Tibor atya! \n* \nBensőséges őszi napokat\, jó munkát\, tartalmas beszélgetéseket és örömteli találkozásokat kívánunk minden Kedves Hívünknek! \n \n* \n„A szent semmi más nem akar lenni\, csak az isteni akarat puszta eszköze. Egyszerűen ablak\, amelyen keresztül Isten kegyelme a világra ragyog.” (Thomas Merton – 1915-1968 – trappista szerzetes\, lelkiségi író\, költő) \n(Fotó: Pixabay)
URL:https://stuttgarti-katolikusok.de/index.php/esemeny/ulmi-delutan-183/
LOCATION:St. Michael zu den Wengen\, Wengengasse 6\, Ulm\, Baden-Württemberg\, 89073\, Németország
CATEGORIES:Ulmi délután
ATTACH;FMTTYPE=image/jpeg:https://stuttgarti-katolikusok.de/wp-content/uploads/2015/12/Wengenkirche1-e1483916551260.jpg
END:VEVENT
BEGIN:VEVENT
DTSTART;TZID=Europe/Berlin:20221104T122000
DTEND;TZID=Europe/Berlin:20221104T132000
DTSTAMP:20260422T010546
CREATED:20230208T072009Z
LAST-MODIFIED:20230208T072826Z
UID:25744-1667564400-1667568000@stuttgarti-katolikusok.de
SUMMARY:Yusuf
DESCRIPTION:
URL:https://stuttgarti-katolikusok.de/index.php/esemeny/yusuf-2/
LOCATION:Baden-Württemberg
CATEGORIES:Szentmisék helye és ideje
END:VEVENT
BEGIN:VEVENT
DTSTART;TZID=Europe/Berlin:20221104T163000
DTEND;TZID=Europe/Berlin:20221104T190000
DTSTAMP:20260422T010546
CREATED:20221102T224345Z
LAST-MODIFIED:20221102T224345Z
UID:23883-1667579400-1667588400@stuttgarti-katolikusok.de
SUMMARY:Stuttgarti délután
DESCRIPTION:November 4-én\, pénteken\, Stuttgarti délután. \n16.30 órakor Barátságklub\, \n18.00 órakor szentmise\, keretében Beszélgetések a Katekizmusról.  \nMindenkit szeretettel vár a közösség és Tibor atya! \n* \nBensőséges őszi napokat\, jó munkát\, tartalmas beszélgetéseket és örömteli találkozásokat kívánunk minden Kedves Hívünknek! \n \n* \n„A szent semmi más nem akar lenni\, csak az isteni akarat puszta eszköze. Egyszerűen ablak\, amelyen keresztül Isten kegyelme a világra ragyog.” (Thomas Merton – 1915-1968 – trappista szerzetes\, lelkiségi író\, költő) \n(Fotó: Pixabay)
URL:https://stuttgarti-katolikusok.de/index.php/esemeny/stuttgarti-delutan-222/
LOCATION:Bruder Klaus Kirche\, Albert-Schäffle-Straße 30\, Stuttgart\, Baden-Württemberg\, 70186\, Németország
CATEGORIES:Stuttgarti délután
ATTACH;FMTTYPE=image/jpeg:https://stuttgarti-katolikusok.de/wp-content/uploads/2015/12/013__2_klaus.jpg
END:VEVENT
BEGIN:VEVENT
DTSTART;TZID=Europe/Berlin:20221105T160000
DTEND;TZID=Europe/Berlin:20221105T170000
DTSTAMP:20260422T010546
CREATED:20230208T071910Z
LAST-MODIFIED:20230208T072556Z
UID:25648-1667664000-1667667600@stuttgarti-katolikusok.de
SUMMARY:Balingen
DESCRIPTION:
URL:https://stuttgarti-katolikusok.de/index.php/esemeny/balingen-26/
LOCATION:Baden-Württemberg
CATEGORIES:Szentmisék helye és ideje
END:VEVENT
BEGIN:VEVENT
DTSTART;TZID=Europe/Berlin:20221105T160000
DTEND;TZID=Europe/Berlin:20221105T180000
DTSTAMP:20260422T010546
CREATED:20221102T224726Z
LAST-MODIFIED:20221102T224726Z
UID:23885-1667664000-1667671200@stuttgarti-katolikusok.de
SUMMARY:Szentmise Balingenben
DESCRIPTION:November 5-én\, szombaton\, Balingenben 16.00 órakor szentmise\, utána ágápé. \nMindenkit szeretettel vár a közösség és Tibor atya! \n* \nBensőséges őszi napokat\, jó munkát\, tartalmas beszélgetéseket és örömteli találkozásokat kívánunk minden Kedves Hívünknek! \n \n* \n„A szent semmi más nem akar lenni\, csak az isteni akarat puszta eszköze. Egyszerűen ablak\, amelyen keresztül Isten kegyelme a világra ragyog.” (Thomas Merton – 1915-1968 – trappista szerzetes\, lelkiségi író\, költő) \n(Fotó: Pixabay)
URL:https://stuttgarti-katolikusok.de/index.php/esemeny/szentmise-balingenben-54/
LOCATION:Sankt Paulus Kirche\, St. Paulus Str. 2\, Balingen-Frommern\, Baden-Württemberg\, 72336\, Németország
CATEGORIES:Szentmise
ATTACH;FMTTYPE=image/jpeg:https://stuttgarti-katolikusok.de/wp-content/uploads/2018/04/20180505_163840-e1764632638620.jpg
END:VEVENT
BEGIN:VEVENT
DTSTART;TZID=Europe/Berlin:20221106T093000
DTEND;TZID=Europe/Berlin:20221106T103000
DTSTAMP:20260422T010546
CREATED:20230208T071911Z
LAST-MODIFIED:20230208T072556Z
UID:25649-1667727000-1667730600@stuttgarti-katolikusok.de
SUMMARY:Schwäbisch Gmünd
DESCRIPTION:
URL:https://stuttgarti-katolikusok.de/index.php/esemeny/schwabisch-gmund-27/
LOCATION:Baden-Württemberg
CATEGORIES:Szentmisék helye és ideje
END:VEVENT
BEGIN:VEVENT
DTSTART;TZID=Europe/Berlin:20221106T093000
DTEND;TZID=Europe/Berlin:20221106T113000
DTSTAMP:20260422T010546
CREATED:20221102T225313Z
LAST-MODIFIED:20221102T225313Z
UID:23887-1667727000-1667734200@stuttgarti-katolikusok.de
SUMMARY:Szentmise Schwäbisch-Gmündben
DESCRIPTION:November 6-án\, Évközi 32. vasárnap\, Schwäbisch-Gmündben 9.30 órakor szentmise\, utána ágápé. \nMindenkit szeretettel vár a közösség és Tibor atya! \nEzen a szentmisén bekapcsolódunk a helyi német egyházközség meghirdette gyűjtési akcióba.  \nÖrömmel fogadunk tartós élelmiszert!!! \n* \nBensőséges őszi napokat\, jó munkát\, tartalmas beszélgetéseket és örömteli találkozásokat kívánunk minden Kedves Hívünknek! \n \n* \n„A szent semmi más nem akar lenni\, csak az isteni akarat puszta eszköze. Egyszerűen ablak\, amelyen keresztül Isten kegyelme a világra ragyog.” (Thomas Merton – 1915-1968 – trappista szerzetes\, lelkiségi író\, költő) \n(Fotó: Pixabay)
URL:https://stuttgarti-katolikusok.de/index.php/esemeny/szentmise-schwabisch-gmundben-59/
LOCATION:Sankt Franziskus Kirche\, Franziskaner Str. 3\, Schwäbisch-Gmünd\, Baden-Württemberg\, 73525\, Németország
CATEGORIES:Szentmise
ATTACH;FMTTYPE=image/jpeg:https://stuttgarti-katolikusok.de/wp-content/uploads/2018/03/st-franziskus-schw-gmund.jpg
END:VEVENT
BEGIN:VEVENT
DTSTART;TZID=Europe/Berlin:20221106T150000
DTEND;TZID=Europe/Berlin:20221106T160000
DTSTAMP:20260422T010546
CREATED:20230208T071911Z
LAST-MODIFIED:20230208T072557Z
UID:25650-1667746800-1667750400@stuttgarti-katolikusok.de
SUMMARY:Stuttgart
DESCRIPTION:
URL:https://stuttgarti-katolikusok.de/index.php/esemeny/stuttgart-32/
LOCATION:Baden-Württemberg
CATEGORIES:Szentmisék helye és ideje
END:VEVENT
BEGIN:VEVENT
DTSTART;TZID=Europe/Berlin:20221106T150000
DTEND;TZID=Europe/Berlin:20221106T170000
DTSTAMP:20260422T010546
CREATED:20221102T225639Z
LAST-MODIFIED:20221102T225639Z
UID:23889-1667746800-1667754000@stuttgarti-katolikusok.de
SUMMARY:Szentmise Stuttgartban
DESCRIPTION:November 6-án\, Évközi 32. vasárnap\, Stuttgartban 15.00 órakor gyermek-szentmise\, utána ágápé.  \nMindenkit szeretettel vár a közösség és Tibor atya! \n* \nBensőséges őszi napokat\, jó munkát\, tartalmas beszélgetéseket és örömteli találkozásokat kívánunk minden Kedves Hívünknek! \n \n* \n„A szent semmi más nem akar lenni\, csak az isteni akarat puszta eszköze. Egyszerűen ablak\, amelyen keresztül Isten kegyelme a világra ragyog.” (Thomas Merton – 1915-1968 – trappista szerzetes\, lelkiségi író\, költő) \n(Fotó: Pixabay)
URL:https://stuttgarti-katolikusok.de/index.php/esemeny/szentmise-stuttgartban-106/
LOCATION:Bruder Klaus Kirche\, Albert-Schäffle-Straße 30\, Stuttgart\, Baden-Württemberg\, 70186\, Németország
CATEGORIES:Szentmise
ATTACH;FMTTYPE=image/jpeg:https://stuttgarti-katolikusok.de/wp-content/uploads/2015/12/013__2_klaus.jpg
END:VEVENT
BEGIN:VEVENT
DTSTART;TZID=Europe/Berlin:20221111T163000
DTEND;TZID=Europe/Berlin:20221111T190000
DTSTAMP:20260422T010546
CREATED:20221107T145214Z
LAST-MODIFIED:20221107T145312Z
UID:23906-1668184200-1668193200@stuttgarti-katolikusok.de
SUMMARY:Stuttgarti délután
DESCRIPTION:November 11-én\, pénteken\, Stuttgarti délután\, \n16.30 órakor Barátságklub\, \n18.00 órakor szentmise\, keretében Beszélgetések a Katekizmusról.  \nMindenkit szeretettel vár a közösség és Tibor atya! \n* \nBensőséges őszi napokat\, jó munkát\, tartalmas beszélgetéseket és örömteli találkozásokat kívánunk minden Kedves Hívünknek! \n* \n \n* \n„Ki-ki maga felelős azért\, hogy a saját életét élje és önmagát megtalálja. Ha ezt a felelősséget másra igyekszik áthárítani\, akkor nem fogja megtalálni saját létének értelmét.” (Thomas Merton – 1915-1968 – trappista szerzetes\, lelkiségi író\, költő)
URL:https://stuttgarti-katolikusok.de/index.php/esemeny/stuttgarti-delutan-223/
LOCATION:Bruder Klaus Kirche\, Albert-Schäffle-Straße 30\, Stuttgart\, Baden-Württemberg\, 70186\, Németország
CATEGORIES:Stuttgarti délután
ATTACH;FMTTYPE=image/jpeg:https://stuttgarti-katolikusok.de/wp-content/uploads/2015/12/013__2_klaus.jpg
END:VEVENT
BEGIN:VEVENT
DTSTART;TZID=Europe/Berlin:20221112T163000
DTEND;TZID=Europe/Berlin:20221112T173000
DTSTAMP:20260422T010547
CREATED:20230208T071926Z
LAST-MODIFIED:20230208T072659Z
UID:25673-1668270600-1668274200@stuttgarti-katolikusok.de
SUMMARY:Biberach
DESCRIPTION:
URL:https://stuttgarti-katolikusok.de/index.php/esemeny/biberach-20/
LOCATION:Baden-Württemberg
CATEGORIES:Szentmisék helye és ideje
END:VEVENT
BEGIN:VEVENT
DTSTART;TZID=Europe/Berlin:20221112T164500
DTEND;TZID=Europe/Berlin:20221112T184500
DTSTAMP:20260422T010547
CREATED:20221107T145612Z
LAST-MODIFIED:20221107T145612Z
UID:23909-1668271500-1668278700@stuttgarti-katolikusok.de
SUMMARY:Szentmise Biberachban
DESCRIPTION:November 12-én\, szombaton\, Biberachban 16.45 órakor szentmise\, utána ágápé. \nMindenkit szeretettel vár a közösség és Tibor atya! \n* \nBensőséges őszi napokat\, jó munkát\, tartalmas beszélgetéseket és örömteli találkozásokat kívánunk minden Kedves Hívünknek! \n* \n \n* \n„Ki-ki maga felelős azért\, hogy a saját életét élje és önmagát megtalálja. Ha ezt a felelősséget másra igyekszik áthárítani\, akkor nem fogja megtalálni saját létének értelmét.” (Thomas Merton – 1915-1968 – trappista szerzetes\, lelkiségi író\, költő)
URL:https://stuttgarti-katolikusok.de/index.php/esemeny/szentmise-biberachban-53/
LOCATION:Dreifaltigkeitskirche Biberach\, Mittelbergstr. 29\, Biberach an der Riß\, Baden Württemberg\, 88400\, Németország
CATEGORIES:Szentmise
ATTACH;FMTTYPE=image/jpeg:https://stuttgarti-katolikusok.de/wp-content/uploads/2020/05/dreifeltigskeit-bc.jpg
END:VEVENT
BEGIN:VEVENT
DTSTART;TZID=Europe/Berlin:20221113T110000
DTEND;TZID=Europe/Berlin:20221113T120000
DTSTAMP:20260422T010547
CREATED:20230208T072008Z
LAST-MODIFIED:20230208T072826Z
UID:25743-1668337200-1668340800@stuttgarti-katolikusok.de
SUMMARY:Weingarten búcsú - Marienkirche - agape: St. Martinus
DESCRIPTION:
URL:https://stuttgarti-katolikusok.de/index.php/esemeny/weingarten-bucsu-marienkirche-agape-st-martinus-2/
LOCATION:Baden-Württemberg
CATEGORIES:Szentmisék helye és ideje
END:VEVENT
BEGIN:VEVENT
DTSTART;TZID=Europe/Berlin:20221113T110000
DTEND;TZID=Europe/Berlin:20221113T210000
DTSTAMP:20260422T010547
CREATED:20221107T145901Z
LAST-MODIFIED:20221111T232853Z
UID:23911-1668337200-1668373200@stuttgarti-katolikusok.de
SUMMARY:Szent Imre egyházközségi búcsú Weingartenben
DESCRIPTION:November 13-án\, Évközi 33. vasárnap\, Weingartenben 11.00 órakor búcsús-szentmise a Marienkirche-ben\, Szent Imre herceget köszöntjük.  Ezt követően ágápé\, azaz közös ebéd a St. Martinus Gemeindehaus-ban. \nMindenkit megkérünk szeretettel\, hogy jelezze részvételi szándékát a közös ebéden akár a legátusoknál Weingartenben\, akár Stuttgartban az irodán\, akár nálam személyesen. A jelentkezők számának ismeretében tudjuk megrendelni az ebédet. \n \nMindenkit szeretettel vár a közösség és Tibor atya! \n* \nBensőséges őszi napokat\, jó munkát\, tartalmas beszélgetéseket és örömteli találkozásokat kívánunk minden Kedves Hívünknek! \n* \n \n* \n„Ki-ki maga felelős azért\, hogy a saját életét élje és önmagát megtalálja. Ha ezt a felelősséget másra igyekszik áthárítani\, akkor nem fogja megtalálni saját létének értelmét.” (Thomas Merton – 1915-1968 – trappista szerzetes\, lelkiségi író\, költő)
URL:https://stuttgarti-katolikusok.de/index.php/esemeny/szent-imre-egyhazkozsegi-bucsu-weingartenben-2/
LOCATION:Marienkirche\, St. Konrad Str. 28\, Weingarten\, Baden Württemberg\, 88250\, Németország
CATEGORIES:Szentmise
ATTACH;FMTTYPE=image/jpeg:https://stuttgarti-katolikusok.de/wp-content/uploads/2016/01/weingarten-marien-kirche.jpg
END:VEVENT
BEGIN:VEVENT
DTSTART;TZID=Europe/Berlin:20221113T150000
DTEND;TZID=Europe/Berlin:20221113T160000
DTSTAMP:20260422T010547
CREATED:20230208T071926Z
LAST-MODIFIED:20230208T072700Z
UID:25674-1668351600-1668355200@stuttgarti-katolikusok.de
SUMMARY:Ulm
DESCRIPTION:
URL:https://stuttgarti-katolikusok.de/index.php/esemeny/ulm-20/
LOCATION:Baden-Württemberg
CATEGORIES:Szentmisék helye és ideje
END:VEVENT
BEGIN:VEVENT
DTSTART;TZID=Europe/Berlin:20221113T150000
DTEND;TZID=Europe/Berlin:20221113T170000
DTSTAMP:20260422T010547
CREATED:20221107T150316Z
LAST-MODIFIED:20221107T150316Z
UID:23913-1668351600-1668358800@stuttgarti-katolikusok.de
SUMMARY:Szentmise Ulmban
DESCRIPTION:November 13-án\, Évközi 33. vasárnap\, Ulmban 15.00 órakor szentmise\, utána ágápé. \nMindenkit szeretettel vár a közösség és Tibor atya! \n* \nBensőséges őszi napokat\, jó munkát\, tartalmas beszélgetéseket és örömteli találkozásokat kívánunk minden Kedves Hívünknek! \n* \n \n* \n„Ki-ki maga felelős azért\, hogy a saját életét élje és önmagát megtalálja. Ha ezt a felelősséget másra igyekszik áthárítani\, akkor nem fogja megtalálni saját létének értelmét.” (Thomas Merton – 1915-1968 – trappista szerzetes\, lelkiségi író\, költő)
URL:https://stuttgarti-katolikusok.de/index.php/esemeny/szentmise-ulmban-81/
LOCATION:St. Michael zu den Wengen\, Wengengasse 6\, Ulm\, Baden-Württemberg\, 89073\, Németország
CATEGORIES:Szentmise
ATTACH;FMTTYPE=image/jpeg:https://stuttgarti-katolikusok.de/wp-content/uploads/2015/12/Wengenkirche1-e1483916551260.jpg
END:VEVENT
BEGIN:VEVENT
DTSTART;TZID=Europe/Berlin:20221116T173000
DTEND;TZID=Europe/Berlin:20221116T190000
DTSTAMP:20260422T010547
CREATED:20221114T132810Z
LAST-MODIFIED:20221114T132810Z
UID:23929-1668619800-1668625200@stuttgarti-katolikusok.de
SUMMARY:Weingarteni délután
DESCRIPTION:November 16-án\, szerdán\, Weingarteni délután\,  a 14 Nothelfer Kapelle-ben 17.30 órakor rózsafüzért imádkozunk\, ezt követően 18.00 órától szentmise\, keretében Beszélgetések a Katekizmusról. \n  \nMindenkit szeretettel vár a közösség és Tibor atya! \n* \nBensőséges őszi napokat\, jó munkát\, tartalmas beszélgetéseket és örömteli találkozásokat kívánunk minden Kedves Hívünknek! \n* \n„ATYÁM\, \nRád hagyatkozom\, tedd velem azt\, ami neked tetszik. \nBármit teszel is velem\, megköszönöm. \nKész vagyok mindenre\, elfogadok mindent\, \ncsak akaratod teljesedjék\, bennem és minden teremtményedben. \nSemmi mást nem óhajtok\, Istenem! \nKezedbe ajánlom lelkemet\, neked adom\, Istenem\, \nszívem egész szeretetével\, \nmert szeretlek téged\, és a szeretet sürget\, \nhogy egészen neked adjam magam\, \nhogy fenntartás nélkül kezedbe helyezzem életemet \nhatártalan bizalommal\, \nmert te vagy az én Atyám!” \n(Boldog Charles de Foucauld – 1858-1916 – trappista szerzetes\, katolikus pap)
URL:https://stuttgarti-katolikusok.de/index.php/esemeny/weingarteni-delutan-176/
LOCATION:14 Nothelfer  Kapelle\, Ravensburger Str. 39\, Weingarten\, Baden-Württemberg\, 88250\, Németország
CATEGORIES:Weingarteni délután
ATTACH;FMTTYPE=image/jpeg:https://stuttgarti-katolikusok.de/wp-content/uploads/2015/12/Weingarten_Kapelle_14_Nothelfer.jpg
END:VEVENT
END:VCALENDAR