BEGIN:VCALENDAR
VERSION:2.0
PRODID:-//Stuttgarti Katolikusok - ECPv6.15.20//NONSGML v1.0//EN
CALSCALE:GREGORIAN
METHOD:PUBLISH
X-WR-CALNAME:Stuttgarti Katolikusok
X-ORIGINAL-URL:https://stuttgarti-katolikusok.de
X-WR-CALDESC:Események Stuttgarti Katolikusok
REFRESH-INTERVAL;VALUE=DURATION:PT1H
X-Robots-Tag:noindex
X-PUBLISHED-TTL:PT1H
BEGIN:VTIMEZONE
TZID:Europe/Berlin
BEGIN:DAYLIGHT
TZOFFSETFROM:+0100
TZOFFSETTO:+0200
TZNAME:CEST
DTSTART:20210328T010000
END:DAYLIGHT
BEGIN:STANDARD
TZOFFSETFROM:+0200
TZOFFSETTO:+0100
TZNAME:CET
DTSTART:20211031T010000
END:STANDARD
BEGIN:DAYLIGHT
TZOFFSETFROM:+0100
TZOFFSETTO:+0200
TZNAME:CEST
DTSTART:20220327T010000
END:DAYLIGHT
BEGIN:STANDARD
TZOFFSETFROM:+0200
TZOFFSETTO:+0100
TZNAME:CET
DTSTART:20221030T010000
END:STANDARD
BEGIN:DAYLIGHT
TZOFFSETFROM:+0100
TZOFFSETTO:+0200
TZNAME:CEST
DTSTART:20230326T010000
END:DAYLIGHT
BEGIN:STANDARD
TZOFFSETFROM:+0200
TZOFFSETTO:+0100
TZNAME:CET
DTSTART:20231029T010000
END:STANDARD
END:VTIMEZONE
BEGIN:VEVENT
DTSTART;TZID=Europe/Berlin:20220617T070000
DTEND;TZID=Europe/Berlin:20220617T190000
DTSTAMP:20260421T173817
CREATED:20230208T072007Z
LAST-MODIFIED:20230208T072825Z
UID:25741-1655449200-1655492400@stuttgarti-katolikusok.de
SUMMARY:Kórus kirándulás
DESCRIPTION:
URL:https://stuttgarti-katolikusok.de/index.php/esemeny/korus-kirandulas-2/
LOCATION:Baden-Württemberg
CATEGORIES:Szentmisék helye és ideje
END:VEVENT
BEGIN:VEVENT
DTSTART;TZID=Europe/Berlin:20220618T143000
DTEND;TZID=Europe/Berlin:20220618T153000
DTSTAMP:20260421T173817
CREATED:20230208T071826Z
LAST-MODIFIED:20230208T072540Z
UID:25618-1655562600-1655566200@stuttgarti-katolikusok.de
SUMMARY:Heidenheim
DESCRIPTION:
URL:https://stuttgarti-katolikusok.de/index.php/esemeny/heidenheim-6/
LOCATION:Baden-Württemberg
CATEGORIES:Szentmisék helye és ideje
END:VEVENT
BEGIN:VEVENT
DTSTART;TZID=Europe/Berlin:20220618T153000
DTEND;TZID=Europe/Berlin:20220618T173000
DTSTAMP:20260421T173817
CREATED:20220613T232719Z
LAST-MODIFIED:20220613T232719Z
UID:23478-1655566200-1655573400@stuttgarti-katolikusok.de
SUMMARY:Szentmise Heidenheimban
DESCRIPTION:Június 18-án\, szombaton\, Heidenheimban\, 15.30 órakor szentmise\, keretében keresztelés\, végeztével motor szentelés. \nMindenkit szeretettel vár a közösség és Tibor atya! \n \n* \nKegyelemteljes napokat\, tartalmas beszélgetéseket és örömteli találkozásokat kívánunk minden Kedves Hívünknek! \n* \n„Győzelemről énekeljen Napkelet és Napnyugat\,\nMillió szív összecsengjen\, magasztalja az Urat!\nKrisztus újra földre szállott\, vándorlásunk társa lett\,\nMert szerette a világot\, kenyérszínbe rejtezett.\nKrisztus kenyér s bor színében Úr s Király a föld felett\,\nForrassz eggyé békességben minden népet s nemzetet! \nEgykor értünk testet öltött\, kisgyermekként jött közénk\,\nA keresztfán vére ömlött váltságunknak béreként.\nMost az oltár Golgotáján újra itt a drága vér\,\nÁldozat az Isten-Bárány\, Krisztus teste a kenyér.\nKrisztus kenyér s bor színében Úr s Király a föld felett\,\nForrassz eggyé békességben minden népet s nemzetet! \nZúgjon hát a hálaének\, szálljon völgyön\, tengeren\,\nA szeretet Istenének dicsőség és üdv legyen.\nAz egész föld legyen oltár\, virág rajta a szívünk\,\nMinden dalunk zengő zsoltár\, tömjénillat a hitünk.\nKrisztus kenyér s bor színében Úr s Király a föld felett\,\nForrassz eggyé békességben minden népet s nemzetet! \n  \nIstván király árva népe\, te is hajtsd meg homlokod\,\nBorulj térdre\, szórd elébe minden gondod\, bánatod!\nA kereszt volt ezer éven reménységed oszlopa\,\nMost is Krisztus jele légyen jobb jövődnek záloga.\nKrisztus kenyér s bor színében Úr s Király a föld felett\,\nForrassz eggyé békességben minden népet s nemzetet!” \n(A 34. és 52. Nemzetközi Eucharisztikus Kongresszus himnusza)
URL:https://stuttgarti-katolikusok.de/index.php/esemeny/szentmise-heidenheimban-50/
LOCATION:Dreifaltigkeitskirche\, Verdi Str. 13\, Heidenheim an der Brenz\, Baden-Würtenberg\, 89518\, Németország
CATEGORIES:Szentmise
ATTACH;FMTTYPE=image/jpeg:https://stuttgarti-katolikusok.de/wp-content/uploads/2020/11/heidenheim1.jpg
END:VEVENT
BEGIN:VEVENT
DTSTART;TZID=Europe/Berlin:20220619T080000
DTEND;TZID=Europe/Berlin:20220619T090000
DTSTAMP:20260421T173817
CREATED:20230208T071930Z
LAST-MODIFIED:20230208T072722Z
UID:25679-1655625600-1655629200@stuttgarti-katolikusok.de
SUMMARY:Ludwigsburg
DESCRIPTION:
URL:https://stuttgarti-katolikusok.de/index.php/esemeny/ludwigsburg-5/
LOCATION:Baden-Württemberg
CATEGORIES:Szentmisék helye és ideje
END:VEVENT
BEGIN:VEVENT
DTSTART;TZID=Europe/Berlin:20220619T090000
DTEND;TZID=Europe/Berlin:20220619T110000
DTSTAMP:20260421T173817
CREATED:20220613T233050Z
LAST-MODIFIED:20220613T233050Z
UID:23480-1655629200-1655636400@stuttgarti-katolikusok.de
SUMMARY:Szent László egyházközségi búcsú Ludwigsburgban
DESCRIPTION:Június 19-én\, Évközi 12. vasárnap\, Ludwigsburgban  9.00 órakor búcsús szentmise\, Szent László királyt köszöntjük\, végeztével ágápé. \n \n* \nMindenkit szeretettel vár a közösség és Tibor atya! \n \n* \nKegyelemteljes napokat\, tartalmas beszélgetéseket és örömteli találkozásokat kívánunk minden Kedves Hívünknek! \n* \n„Győzelemről énekeljen Napkelet és Napnyugat\,\nMillió szív összecsengjen\, magasztalja az Urat!\nKrisztus újra földre szállott\, vándorlásunk társa lett\,\nMert szerette a világot\, kenyérszínbe rejtezett.\nKrisztus kenyér s bor színében Úr s Király a föld felett\,\nForrassz eggyé békességben minden népet s nemzetet! \nEgykor értünk testet öltött\, kisgyermekként jött közénk\,\nA keresztfán vére ömlött váltságunknak béreként.\nMost az oltár Golgotáján újra itt a drága vér\,\nÁldozat az Isten-Bárány\, Krisztus teste a kenyér.\nKrisztus kenyér s bor színében Úr s Király a föld felett\,\nForrassz eggyé békességben minden népet s nemzetet! \nZúgjon hát a hálaének\, szálljon völgyön\, tengeren\,\nA szeretet Istenének dicsőség és üdv legyen.\nAz egész föld legyen oltár\, virág rajta a szívünk\,\nMinden dalunk zengő zsoltár\, tömjénillat a hitünk.\nKrisztus kenyér s bor színében Úr s Király a föld felett\,\nForrassz eggyé békességben minden népet s nemzetet! \n  \nIstván király árva népe\, te is hajtsd meg homlokod\,\nBorulj térdre\, szórd elébe minden gondod\, bánatod!\nA kereszt volt ezer éven reménységed oszlopa\,\nMost is Krisztus jele légyen jobb jövődnek záloga.\nKrisztus kenyér s bor színében Úr s Király a föld felett\,\nForrassz eggyé békességben minden népet s nemzetet!” \n(A 34. és 52. Nemzetközi Eucharisztikus Kongresszus himnusza)
URL:https://stuttgarti-katolikusok.de/index.php/esemeny/szent-laszlo-egyhazkozsegi-bucsu-ludwigsburgban/
LOCATION:St. Josef Kirche\, Park Str. 30\, Ludwigsburg-Hoheneck\, Baden-Württemberg\, 71642
CATEGORIES:Szentmise
ATTACH;FMTTYPE=image/jpeg:https://stuttgarti-katolikusok.de/wp-content/uploads/2021/04/ludwigsburg.jpeg
END:VEVENT
BEGIN:VEVENT
DTSTART;TZID=Europe/Berlin:20220619T103000
DTEND;TZID=Europe/Berlin:20220619T113000
DTSTAMP:20260421T173817
CREATED:20230208T071939Z
LAST-MODIFIED:20230208T072800Z
UID:25694-1655634600-1655638200@stuttgarti-katolikusok.de
SUMMARY:Stuttgart elsőáldozás
DESCRIPTION:
URL:https://stuttgarti-katolikusok.de/index.php/esemeny/stuttgart-elsoaldozas-2/
LOCATION:Baden-Württemberg
CATEGORIES:Szentmisék helye és ideje
END:VEVENT
BEGIN:VEVENT
DTSTART;TZID=Europe/Berlin:20220619T113000
DTEND;TZID=Europe/Berlin:20220619T123000
DTSTAMP:20260421T173817
CREATED:20220613T233324Z
LAST-MODIFIED:20220613T233324Z
UID:23482-1655638200-1655641800@stuttgarti-katolikusok.de
SUMMARY:Szentmise Stuttgartban
DESCRIPTION:Június 19-én\, Évközi 12. vasárnap\, Stuttgartban 11.30 órakor szentmise. \nMindenkit szeretettel vár a közösség és Tibor atya! \n \n* \nKegyelemteljes napokat\, tartalmas beszélgetéseket és örömteli találkozásokat kívánunk minden Kedves Hívünknek! \n* \n„Győzelemről énekeljen Napkelet és Napnyugat\,\nMillió szív összecsengjen\, magasztalja az Urat!\nKrisztus újra földre szállott\, vándorlásunk társa lett\,\nMert szerette a világot\, kenyérszínbe rejtezett.\nKrisztus kenyér s bor színében Úr s Király a föld felett\,\nForrassz eggyé békességben minden népet s nemzetet! \nEgykor értünk testet öltött\, kisgyermekként jött közénk\,\nA keresztfán vére ömlött váltságunknak béreként.\nMost az oltár Golgotáján újra itt a drága vér\,\nÁldozat az Isten-Bárány\, Krisztus teste a kenyér.\nKrisztus kenyér s bor színében Úr s Király a föld felett\,\nForrassz eggyé békességben minden népet s nemzetet! \nZúgjon hát a hálaének\, szálljon völgyön\, tengeren\,\nA szeretet Istenének dicsőség és üdv legyen.\nAz egész föld legyen oltár\, virág rajta a szívünk\,\nMinden dalunk zengő zsoltár\, tömjénillat a hitünk.\nKrisztus kenyér s bor színében Úr s Király a föld felett\,\nForrassz eggyé békességben minden népet s nemzetet! \n  \nIstván király árva népe\, te is hajtsd meg homlokod\,\nBorulj térdre\, szórd elébe minden gondod\, bánatod!\nA kereszt volt ezer éven reménységed oszlopa\,\nMost is Krisztus jele légyen jobb jövődnek záloga.\nKrisztus kenyér s bor színében Úr s Király a föld felett\,\nForrassz eggyé békességben minden népet s nemzetet!” \n(A 34. és 52. Nemzetközi Eucharisztikus Kongresszus himnusza)
URL:https://stuttgarti-katolikusok.de/index.php/esemeny/szentmise-stuttgartban-103/
LOCATION:Bruder Klaus Kirche\, Albert-Schäffle-Straße 30\, Stuttgart\, Baden-Württemberg\, 70186\, Németország
CATEGORIES:Szentmise
ATTACH;FMTTYPE=image/jpeg:https://stuttgarti-katolikusok.de/wp-content/uploads/2015/12/013__2_klaus.jpg
END:VEVENT
BEGIN:VEVENT
DTSTART;TZID=Europe/Berlin:20220619T143000
DTEND;TZID=Europe/Berlin:20220619T153000
DTSTAMP:20260421T173817
CREATED:20230208T071827Z
LAST-MODIFIED:20230208T072540Z
UID:25619-1655649000-1655652600@stuttgarti-katolikusok.de
SUMMARY:Eislingen
DESCRIPTION:
URL:https://stuttgarti-katolikusok.de/index.php/esemeny/eislingen-5/
LOCATION:Baden-Württemberg
CATEGORIES:Szentmisék helye és ideje
END:VEVENT
BEGIN:VEVENT
DTSTART;TZID=Europe/Berlin:20220619T153000
DTEND;TZID=Europe/Berlin:20220619T173000
DTSTAMP:20260421T173817
CREATED:20220613T233616Z
LAST-MODIFIED:20220613T233714Z
UID:23484-1655652600-1655659800@stuttgarti-katolikusok.de
SUMMARY:Szentmise Eislingenben
DESCRIPTION:Június 19-én\, Évközi 12. vasárnap\, Eislingenben 15.30 órakor szentmise\, amelyet ágápé követ. Ennek keretében sor kerül a hagyományos lángos sütésre! \nMindenkit szeretettel vár a közösség és Tibor atya! \n \n* \nKegyelemteljes napokat\, tartalmas beszélgetéseket és örömteli találkozásokat kívánunk minden Kedves Hívünknek! \n* \n„Győzelemről énekeljen Napkelet és Napnyugat\,\nMillió szív összecsengjen\, magasztalja az Urat!\nKrisztus újra földre szállott\, vándorlásunk társa lett\,\nMert szerette a világot\, kenyérszínbe rejtezett.\nKrisztus kenyér s bor színében Úr s Király a föld felett\,\nForrassz eggyé békességben minden népet s nemzetet! \nEgykor értünk testet öltött\, kisgyermekként jött közénk\,\nA keresztfán vére ömlött váltságunknak béreként.\nMost az oltár Golgotáján újra itt a drága vér\,\nÁldozat az Isten-Bárány\, Krisztus teste a kenyér.\nKrisztus kenyér s bor színében Úr s Király a föld felett\,\nForrassz eggyé békességben minden népet s nemzetet! \nZúgjon hát a hálaének\, szálljon völgyön\, tengeren\,\nA szeretet Istenének dicsőség és üdv legyen.\nAz egész föld legyen oltár\, virág rajta a szívünk\,\nMinden dalunk zengő zsoltár\, tömjénillat a hitünk.\nKrisztus kenyér s bor színében Úr s Király a föld felett\,\nForrassz eggyé békességben minden népet s nemzetet! \n  \nIstván király árva népe\, te is hajtsd meg homlokod\,\nBorulj térdre\, szórd elébe minden gondod\, bánatod!\nA kereszt volt ezer éven reménységed oszlopa\,\nMost is Krisztus jele légyen jobb jövődnek záloga.\nKrisztus kenyér s bor színében Úr s Király a föld felett\,\nForrassz eggyé békességben minden népet s nemzetet!” \n(A 34. és 52. Nemzetközi Eucharisztikus Kongresszus himnusza)
URL:https://stuttgarti-katolikusok.de/index.php/esemeny/szentmise-eislingenben-49/
LOCATION:Liebfrauen-Kirche\, Eberhardt Str. 30\, Eislingen/Fils\, Baden-Württemberg\, 73054\, Németország
CATEGORIES:Szentmise
END:VEVENT
BEGIN:VEVENT
DTSTART;TZID=Europe/Berlin:20220622T173000
DTEND;TZID=Europe/Berlin:20220622T190000
DTSTAMP:20260421T173817
CREATED:20220620T205558Z
LAST-MODIFIED:20220620T205558Z
UID:23520-1655919000-1655924400@stuttgarti-katolikusok.de
SUMMARY:Weingarteni délután
DESCRIPTION:Június 22-én\, szerdán\, Weingarteni délután\, a 14 Nothelfer Kapelle-ben. 17.30 órakor rózsafüzért imádkozunk\, 18.00 órakor szentmise\, keretében katekézis. \nMindenkit szeretettel vár a közösség és Tibor atya! \n* \n \n* \nKegyelemteljes napokat\, tartalmas beszélgetéseket és örömteli találkozásokat kívánunk minden Kedves Hívünknek! \n* \n„A bölcs ember többet tanul ellenségeitől\, mint a bolond barátaitól.” \n(Baltasar Gracian – jezsuita szerzetes\, spanyol barokk prózaíró -1601-1958)
URL:https://stuttgarti-katolikusok.de/index.php/esemeny/weingarteni-delutan-171/
LOCATION:14 Nothelfer  Kapelle\, Ravensburger Str. 39\, Weingarten\, Baden-Württemberg\, 88250\, Németország
CATEGORIES:Weingarteni délután
ATTACH;FMTTYPE=image/jpeg:https://stuttgarti-katolikusok.de/wp-content/uploads/2015/12/Weingarten_Kapelle_14_Nothelfer.jpg
END:VEVENT
BEGIN:VEVENT
DTSTART;TZID=Europe/Berlin:20220623T173000
DTEND;TZID=Europe/Berlin:20220623T190000
DTSTAMP:20260421T173817
CREATED:20220620T210058Z
LAST-MODIFIED:20220620T210058Z
UID:23522-1656005400-1656010800@stuttgarti-katolikusok.de
SUMMARY:Ulmi délután
DESCRIPTION:Június 23-án\, csütörtökön Ulmi délután. 17.30 órakor rózsafüzért imádkozunk\, 18.00 órakor szentmise\, keretében katekézis. \nMindenkit szeretettel vár a közösség és Tibor atya! \n* \n \n* \nKegyelemteljes napokat\, tartalmas beszélgetéseket és örömteli találkozásokat kívánunk minden Kedves Hívünknek! \n* \n„A bölcs ember többet tanul ellenségeitől\, mint a bolond barátaitól.” \n(Baltasar Gracian – jezsuita szerzetes\, spanyol barokk prózaíró -1601-1958)
URL:https://stuttgarti-katolikusok.de/index.php/esemeny/ulmi-delutan-178/
LOCATION:St. Michael zu den Wengen\, Wengengasse 6\, Ulm\, Baden-Württemberg\, 89073\, Németország
CATEGORIES:Ulmi délután
ATTACH;FMTTYPE=image/jpeg:https://stuttgarti-katolikusok.de/wp-content/uploads/2015/12/Wengenkirche1-e1483916551260.jpg
END:VEVENT
BEGIN:VEVENT
DTSTART;TZID=Europe/Berlin:20220624T160000
DTEND;TZID=Europe/Berlin:20220624T190000
DTSTAMP:20260421T173817
CREATED:20220620T211143Z
LAST-MODIFIED:20220620T211143Z
UID:23524-1656086400-1656097200@stuttgarti-katolikusok.de
SUMMARY:Stuttgarti délután
DESCRIPTION:Június 24-én\, pénteken\, Stuttgarti délután\, Jézus Szent Szívének ünnepe\, \n16.00 órakor Barátságklub\, \n18.00 órakor ünnepi szentmise\, előtte rózsafüzért imádkozunk.  \nMinden helyen mindenkit szeretettel vár a közösség és Tibor atya! \n* \n \n* \nKegyelemteljes napokat\, tartalmas beszélgetéseket és örömteli találkozásokat kívánunk minden Kedves Hívünknek! \n* \n„A bölcs ember többet tanul ellenségeitől\, mint a bolond barátaitól.” \n(Baltasar Gracian – jezsuita szerzetes\, spanyol barokk prózaíró -1601-1958) \n(Kép forrása: pixabay.com)
URL:https://stuttgarti-katolikusok.de/index.php/esemeny/stuttgarti-delutan-214/
LOCATION:Bruder Klaus Kirche\, Albert-Schäffle-Straße 30\, Stuttgart\, Baden-Württemberg\, 70186\, Németország
CATEGORIES:Stuttgarti délután
ATTACH;FMTTYPE=image/jpeg:https://stuttgarti-katolikusok.de/wp-content/uploads/2015/12/013__2_klaus.jpg
END:VEVENT
BEGIN:VEVENT
DTSTART;TZID=Europe/Berlin:20220625T150000
DTEND;TZID=Europe/Berlin:20220625T160000
DTSTAMP:20260421T173817
CREATED:20230208T071828Z
LAST-MODIFIED:20230208T072541Z
UID:25620-1656169200-1656172800@stuttgarti-katolikusok.de
SUMMARY:Tuttlingen
DESCRIPTION:
URL:https://stuttgarti-katolikusok.de/index.php/esemeny/tuttlingen-7/
LOCATION:Baden-Württemberg
CATEGORIES:Szentmisék helye és ideje
END:VEVENT
BEGIN:VEVENT
DTSTART;TZID=Europe/Berlin:20220625T160000
DTEND;TZID=Europe/Berlin:20220625T180000
DTSTAMP:20260421T173817
CREATED:20220620T211519Z
LAST-MODIFIED:20220620T211519Z
UID:23527-1656172800-1656180000@stuttgarti-katolikusok.de
SUMMARY:Szentmise Tuttlingenben
DESCRIPTION:Június 25-én\, szombaton\, Tuttlingenben\, 16.00 órakor szentmise\, utána ágápé. \nMindenkit szeretettel vár a közösség és Tibor atya! \n* \n \n* \nKegyelemteljes napokat\, tartalmas beszélgetéseket és örömteli találkozásokat kívánunk minden Kedves Hívünknek! \n* \n„A bölcs ember többet tanul ellenségeitől\, mint a bolond barátaitól.” \n(Baltasar Gracian – jezsuita szerzetes\, spanyol barokk prózaíró -1601-1958)
URL:https://stuttgarti-katolikusok.de/index.php/esemeny/szentmise-tuttlingenben-19/
LOCATION:St. Gallus Kirche\, Guttenbergstrasse 9\, Tuttlingen\, Baden-Württemberg\, 78532\, Németország
CATEGORIES:Szentmise
ATTACH;FMTTYPE=image/jpeg:https://stuttgarti-katolikusok.de/wp-content/uploads/2016/10/tuttlingen.jpg
END:VEVENT
BEGIN:VEVENT
DTSTART;TZID=Europe/Berlin:20220626T083000
DTEND;TZID=Europe/Berlin:20220626T093000
DTSTAMP:20260421T173817
CREATED:20230208T071828Z
LAST-MODIFIED:20230208T072542Z
UID:25621-1656232200-1656235800@stuttgarti-katolikusok.de
SUMMARY:Böblingen
DESCRIPTION:
URL:https://stuttgarti-katolikusok.de/index.php/esemeny/boblingen-5/
LOCATION:Baden-Württemberg
CATEGORIES:Szentmisék helye és ideje
END:VEVENT
BEGIN:VEVENT
DTSTART;TZID=Europe/Berlin:20220626T093000
DTEND;TZID=Europe/Berlin:20220626T113000
DTSTAMP:20260421T173817
CREATED:20220620T211915Z
LAST-MODIFIED:20220620T211915Z
UID:23529-1656235800-1656243000@stuttgarti-katolikusok.de
SUMMARY:Scheffler János vértanú püspök búcsú ünnepe Böblingenben
DESCRIPTION:Június 26-án\, Évközi 13. vasárnap\, Böblinegnben 9.30 órakor búcsús-szentmise\, Boldog Dr. Scheffler János püspök ünnepe\, utána ágápé. \nMindenkit szeretettel vár a közösség és Tibor atya! \n* \n \n* \nKegyelemteljes napokat\, tartalmas beszélgetéseket és örömteli találkozásokat kívánunk minden Kedves Hívünknek! \n* \n„A bölcs ember többet tanul ellenségeitől\, mint a bolond barátaitól.” \n(Baltasar Gracian – jezsuita szerzetes\, spanyol barokk prózaíró -1601-1958)
URL:https://stuttgarti-katolikusok.de/index.php/esemeny/scheffler-janos-vertanu-puspok-bucsu-unnepe-boblingenben/
LOCATION:St. Bonifatius Kirche\, Sindelfinger Str. 14\, Böblingen\, Baden-Württemberg\, 71032\, Németország
CATEGORIES:Szentmise
ATTACH;FMTTYPE=image/jpeg:https://stuttgarti-katolikusok.de/wp-content/uploads/2021/11/boblingen.jpeg
END:VEVENT
BEGIN:VEVENT
DTSTART;TZID=Europe/Berlin:20220626T143000
DTEND;TZID=Europe/Berlin:20220626T153000
DTSTAMP:20260421T173817
CREATED:20230208T071829Z
LAST-MODIFIED:20230208T072542Z
UID:25622-1656253800-1656257400@stuttgarti-katolikusok.de
SUMMARY:Heilbronn
DESCRIPTION:
URL:https://stuttgarti-katolikusok.de/index.php/esemeny/heilbronn-7/
LOCATION:Baden-Württemberg
CATEGORIES:Szentmisék helye és ideje
END:VEVENT
BEGIN:VEVENT
DTSTART;TZID=Europe/Berlin:20220626T153000
DTEND;TZID=Europe/Berlin:20220626T173000
DTSTAMP:20260421T173817
CREATED:20220620T212243Z
LAST-MODIFIED:20220620T212243Z
UID:23531-1656257400-1656264600@stuttgarti-katolikusok.de
SUMMARY:Szentmise Heilbronnban
DESCRIPTION:Június 26-án\, Évközi 13. vasárnap\, Heilbronnban 15.30 órakor szentmise\, utána ágápé. \nMindenkit szeretettel vár a közösség és Tibor atya! \n* \n \n* \nKegyelemteljes napokat\, tartalmas beszélgetéseket és örömteli találkozásokat kívánunk minden Kedves Hívünknek! \n* \n„A bölcs ember többet tanul ellenségeitől\, mint a bolond barátaitól.” \n(Baltasar Gracian – jezsuita szerzetes\, spanyol barokk prózaíró -1601-1958)
URL:https://stuttgarti-katolikusok.de/index.php/esemeny/szentmise-heilbronnban-47/
LOCATION:Heilig Geist Kirche\, Heilbronner-Weg 17\, Heilbronn-Horkheim\, Baden-Württemberg\, 74081\, Németország
CATEGORIES:Szentmise
ATTACH;FMTTYPE=image/jpeg:https://stuttgarti-katolikusok.de/wp-content/uploads/2021/05/heiliggeist-aussenansicht.jpg
END:VEVENT
BEGIN:VEVENT
DTSTART;TZID=Europe/Berlin:20220709T080000
DTEND;TZID=Europe/Berlin:20220709T180000
DTSTAMP:20260421T173817
CREATED:20230208T071829Z
LAST-MODIFIED:20230208T072543Z
UID:25623-1657353600-1657389600@stuttgarti-katolikusok.de
SUMMARY:Bicajzari
DESCRIPTION:
URL:https://stuttgarti-katolikusok.de/index.php/esemeny/bicajzari-2/
LOCATION:Baden-Württemberg
CATEGORIES:Szentmisék helye és ideje
END:VEVENT
BEGIN:VEVENT
DTSTART;TZID=Europe/Berlin:20220710T080000
DTEND;TZID=Europe/Berlin:20220710T160000
DTSTAMP:20260421T173817
CREATED:20230208T071830Z
LAST-MODIFIED:20230208T072543Z
UID:25624-1657440000-1657468800@stuttgarti-katolikusok.de
SUMMARY:Kiszarándoklat
DESCRIPTION:
URL:https://stuttgarti-katolikusok.de/index.php/esemeny/kiszarandoklat-2/
LOCATION:Baden-Württemberg
CATEGORIES:Szentmisék helye és ideje
END:VEVENT
BEGIN:VEVENT
DTSTART;TZID=Europe/Berlin:20220712T083000
DTEND;TZID=Europe/Berlin:20220713T140000
DTSTAMP:20260421T173817
CREATED:20230208T071933Z
LAST-MODIFIED:20230208T072755Z
UID:25685-1657614600-1657720800@stuttgarti-katolikusok.de
SUMMARY:Jahrestagung
DESCRIPTION:
URL:https://stuttgarti-katolikusok.de/index.php/esemeny/jahrestagung-2/
LOCATION:Baden-Württemberg
CATEGORIES:Szentmisék helye és ideje
END:VEVENT
BEGIN:VEVENT
DTSTART;TZID=Europe/Berlin:20220716T070000
DTEND;TZID=Europe/Berlin:20220716T190000
DTSTAMP:20260421T173817
CREATED:20230208T072006Z
LAST-MODIFIED:20230208T072824Z
UID:25740-1657954800-1657998000@stuttgarti-katolikusok.de
SUMMARY:Közös gyaloglás
DESCRIPTION:
URL:https://stuttgarti-katolikusok.de/index.php/esemeny/kozos-gyaloglas-2/
LOCATION:Baden-Württemberg
CATEGORIES:Szentmisék helye és ideje
END:VEVENT
BEGIN:VEVENT
DTSTART;TZID=Europe/Berlin:20220902T173000
DTEND;TZID=Europe/Berlin:20220902T190000
DTSTAMP:20260421T173817
CREATED:20220830T211018Z
LAST-MODIFIED:20220830T211018Z
UID:23572-1662139800-1662145200@stuttgarti-katolikusok.de
SUMMARY:Stuttgarti délután
DESCRIPTION:Szeptember 2-án\, pénteken\, Stuttgartban 18.00 órakor Jézus Szíve ájtatosság\, majd szentmise. Ezt követően pedig a jelenlévőkkel együtt visszatekintünk az elmúlt hónapok történéseire. \nMindenkit szeretettel vár a közösség és Tibor atya! \n* \nMennyei Atyánk\,\nminden élet forrása!\nKüldd el Szentlelkedet\,\nhogy az önmagát értünk feláldozó\nés az Oltáriszentségben\nvelünk levő Krisztust felismerjük\nés egyre jobban szeressük!\nŐ Urunk és Mesterünk\,\nbarátunk és táplálékunk\,\norvosunk és békességünk.\nAdj bátorságot\, hogy az Ő erejét és örömét\nelvigyük minden emberhez!\nAdd\, hogy a készület ideje\nés az Eucharisztikus Kongresszus ünneplése\negész hívő közösségünk\,\nfővárosunk\, népünk\,\nEurópa és a világ\nlelki megújulására szolgáljon!\nÁmen.
URL:https://stuttgarti-katolikusok.de/index.php/esemeny/stuttgarti-delutan-215/
LOCATION:Bruder Klaus Kirche\, Albert-Schäffle-Straße 30\, Stuttgart\, Baden-Württemberg\, 70186\, Németország
CATEGORIES:Stuttgarti délután
ATTACH;FMTTYPE=image/jpeg:https://stuttgarti-katolikusok.de/wp-content/uploads/2015/12/013__2_klaus.jpg
END:VEVENT
BEGIN:VEVENT
DTSTART;TZID=Europe/Berlin:20220903T150000
DTEND;TZID=Europe/Berlin:20220903T160000
DTSTAMP:20260421T173817
CREATED:20230208T071830Z
LAST-MODIFIED:20230208T072544Z
UID:25625-1662217200-1662220800@stuttgarti-katolikusok.de
SUMMARY:Balingen
DESCRIPTION:
URL:https://stuttgarti-katolikusok.de/index.php/esemeny/balingen-24/
LOCATION:Baden-Württemberg
CATEGORIES:Szentmisék helye és ideje
END:VEVENT
BEGIN:VEVENT
DTSTART;TZID=Europe/Berlin:20220903T160000
DTEND;TZID=Europe/Berlin:20220903T170000
DTSTAMP:20260421T173817
CREATED:20220830T211303Z
LAST-MODIFIED:20220830T211303Z
UID:23574-1662220800-1662224400@stuttgarti-katolikusok.de
SUMMARY:Szentmise Balingenben
DESCRIPTION:Szeptember 3-án\, szombaton\, Balingenben 16.00 órakor szentmise. \nMindenkit szeretettel vár a közösség és Tibor atya! \n* \nMennyei Atyánk\,\nminden élet forrása!\nKüldd el Szentlelkedet\,\nhogy az önmagát értünk feláldozó\nés az Oltáriszentségben\nvelünk levő Krisztust felismerjük\nés egyre jobban szeressük!\nŐ Urunk és Mesterünk\,\nbarátunk és táplálékunk\,\norvosunk és békességünk.\nAdj bátorságot\, hogy az Ő erejét és örömét\nelvigyük minden emberhez!\nAdd\, hogy a készület ideje\nés az Eucharisztikus Kongresszus ünneplése\negész hívő közösségünk\,\nfővárosunk\, népünk\,\nEurópa és a világ\nlelki megújulására szolgáljon!\nÁmen.
URL:https://stuttgarti-katolikusok.de/index.php/esemeny/szentmise-balingenben-52/
LOCATION:Sankt Paulus Kirche\, St. Paulus Str. 2\, Balingen-Frommern\, Baden-Württemberg\, 72336\, Németország
CATEGORIES:Szentmise
ATTACH;FMTTYPE=image/jpeg:https://stuttgarti-katolikusok.de/wp-content/uploads/2018/04/20180505_163840-e1764632638620.jpg
END:VEVENT
BEGIN:VEVENT
DTSTART;TZID=Europe/Berlin:20220904T083000
DTEND;TZID=Europe/Berlin:20220904T093000
DTSTAMP:20260421T173817
CREATED:20230208T071835Z
LAST-MODIFIED:20230208T072544Z
UID:25626-1662280200-1662283800@stuttgarti-katolikusok.de
SUMMARY:Schwäbisch Gmünd
DESCRIPTION:
URL:https://stuttgarti-katolikusok.de/index.php/esemeny/schwabisch-gmund-25/
LOCATION:Baden-Württemberg
CATEGORIES:Szentmisék helye és ideje
END:VEVENT
BEGIN:VEVENT
DTSTART;TZID=Europe/Berlin:20220904T093000
DTEND;TZID=Europe/Berlin:20220904T113000
DTSTAMP:20260421T173817
CREATED:20220830T211624Z
LAST-MODIFIED:20220830T211624Z
UID:23576-1662283800-1662291000@stuttgarti-katolikusok.de
SUMMARY:Szentmise Schwäbisch-Gmündben
DESCRIPTION:Szeptember 4-én\, évközi 23. vasárnap\, Schwäbisch-Gmündben 9.30 órakor szentmise\, utána ágápé. \nMindenkit szeretettel vár a közösség és Tibor atya! \n* \nMennyei Atyánk\,\nminden élet forrása!\nKüldd el Szentlelkedet\,\nhogy az önmagát értünk feláldozó\nés az Oltáriszentségben\nvelünk levő Krisztust felismerjük\nés egyre jobban szeressük!\nŐ Urunk és Mesterünk\,\nbarátunk és táplálékunk\,\norvosunk és békességünk.\nAdj bátorságot\, hogy az Ő erejét és örömét\nelvigyük minden emberhez!\nAdd\, hogy a készület ideje\nés az Eucharisztikus Kongresszus ünneplése\negész hívő közösségünk\,\nfővárosunk\, népünk\,\nEurópa és a világ\nlelki megújulására szolgáljon!\nÁmen.
URL:https://stuttgarti-katolikusok.de/index.php/esemeny/szentmise-schwabisch-gmundben-57/
LOCATION:Sankt Franziskus Kirche\, Franziskaner Str. 3\, Schwäbisch-Gmünd\, Baden-Württemberg\, 73525\, Németország
CATEGORIES:Szentmise
ATTACH;FMTTYPE=image/jpeg:https://stuttgarti-katolikusok.de/wp-content/uploads/2018/03/st-franziskus-schw-gmund.jpg
END:VEVENT
BEGIN:VEVENT
DTSTART;TZID=Europe/Berlin:20220904T140000
DTEND;TZID=Europe/Berlin:20220904T150000
DTSTAMP:20260421T173817
CREATED:20230208T071838Z
LAST-MODIFIED:20230208T072545Z
UID:25627-1662300000-1662303600@stuttgarti-katolikusok.de
SUMMARY:Stuttgart
DESCRIPTION:
URL:https://stuttgarti-katolikusok.de/index.php/esemeny/stuttgart-29/
LOCATION:Baden-Württemberg
CATEGORIES:Szentmisék helye és ideje
END:VEVENT
BEGIN:VEVENT
DTSTART;TZID=Europe/Berlin:20220904T150000
DTEND;TZID=Europe/Berlin:20220904T170000
DTSTAMP:20260421T173817
CREATED:20220830T211835Z
LAST-MODIFIED:20220830T211835Z
UID:23578-1662303600-1662310800@stuttgarti-katolikusok.de
SUMMARY:Szentmise Stuttgartban
DESCRIPTION:  \nSzeptember 4-én\, évközi 23. vasárnap\, Stuttgartban 15.00 órakor szentmise. Szentmise végén bár nincs ágápé\, ellenben a közösségi teremben beszélgetésre várlak benneteket. \nMindenkit szeretettel vár a közösség és Tibor atya! \n* \nMennyei Atyánk\,\nminden élet forrása!\nKüldd el Szentlelkedet\,\nhogy az önmagát értünk feláldozó\nés az Oltáriszentségben\nvelünk levő Krisztust felismerjük\nés egyre jobban szeressük!\nŐ Urunk és Mesterünk\,\nbarátunk és táplálékunk\,\norvosunk és békességünk.\nAdj bátorságot\, hogy az Ő erejét és örömét\nelvigyük minden emberhez!\nAdd\, hogy a készület ideje\nés az Eucharisztikus Kongresszus ünneplése\negész hívő közösségünk\,\nfővárosunk\, népünk\,\nEurópa és a világ\nlelki megújulására szolgáljon!\nÁmen.
URL:https://stuttgarti-katolikusok.de/index.php/esemeny/szentmise-stuttgartban-104/
LOCATION:Bruder Klaus Kirche\, Albert-Schäffle-Straße 30\, Stuttgart\, Baden-Württemberg\, 70186\, Németország
CATEGORIES:Szentmise
ATTACH;FMTTYPE=image/jpeg:https://stuttgarti-katolikusok.de/wp-content/uploads/2015/12/013__2_klaus.jpg
END:VEVENT
BEGIN:VEVENT
DTSTART;TZID=Europe/Berlin:20220907T173000
DTEND;TZID=Europe/Berlin:20220907T190000
DTSTAMP:20260421T173817
CREATED:20220905T230045Z
LAST-MODIFIED:20220905T230045Z
UID:23593-1662571800-1662577200@stuttgarti-katolikusok.de
SUMMARY:Weingarteni délután
DESCRIPTION:Szeptember 7-én\, szerdán\, Weingarteni délután\, Kisboldogasszony ünnepe. A 14 Nothelfer Kapelle-ben 18.00 órakor szentmise\, előtte rózsafüzért imádkozunk. Ezt követően pedig a jelenlévőkkel együtt visszatekintünk az elmúlt hónapok történéseire. \nMindenkit szeretettel vár a közösség és Tibor atya! \n* \n„Arra figyelmeztet az Úr\, hogy kölcsönösen ne hanyagoljuk el egymás bűneit\, de nem úgy\, hogy arra figyelünk\, mit mi is kárhoztatunk\, hanem úgy\, hogy arra ügyelünk\, amit javítani tudunk.” (Szent Ágoston) \n* \nBensőséges őszi napokat\, jó munkát\, tartalmas beszélgetéseket és örömteli találkozásokat kívánunk minden Kedves Hívünknek!
URL:https://stuttgarti-katolikusok.de/index.php/esemeny/weingarteni-delutan-172/
LOCATION:14 Nothelfer  Kapelle\, Ravensburger Str. 39\, Weingarten\, Baden-Württemberg\, 88250\, Németország
CATEGORIES:Weingarteni délután
ATTACH;FMTTYPE=image/jpeg:https://stuttgarti-katolikusok.de/wp-content/uploads/2015/12/Weingarten_Kapelle_14_Nothelfer.jpg
END:VEVENT
END:VCALENDAR