BEGIN:VCALENDAR
VERSION:2.0
PRODID:-//Stuttgarti Katolikusok - ECPv6.15.20//NONSGML v1.0//EN
CALSCALE:GREGORIAN
METHOD:PUBLISH
X-WR-CALNAME:Stuttgarti Katolikusok
X-ORIGINAL-URL:https://stuttgarti-katolikusok.de
X-WR-CALDESC:Események Stuttgarti Katolikusok
REFRESH-INTERVAL;VALUE=DURATION:PT1H
X-Robots-Tag:noindex
X-PUBLISHED-TTL:PT1H
BEGIN:VTIMEZONE
TZID:Europe/Berlin
BEGIN:DAYLIGHT
TZOFFSETFROM:+0100
TZOFFSETTO:+0200
TZNAME:CEST
DTSTART:20210328T010000
END:DAYLIGHT
BEGIN:STANDARD
TZOFFSETFROM:+0200
TZOFFSETTO:+0100
TZNAME:CET
DTSTART:20211031T010000
END:STANDARD
BEGIN:DAYLIGHT
TZOFFSETFROM:+0100
TZOFFSETTO:+0200
TZNAME:CEST
DTSTART:20220327T010000
END:DAYLIGHT
BEGIN:STANDARD
TZOFFSETFROM:+0200
TZOFFSETTO:+0100
TZNAME:CET
DTSTART:20221030T010000
END:STANDARD
BEGIN:DAYLIGHT
TZOFFSETFROM:+0100
TZOFFSETTO:+0200
TZNAME:CEST
DTSTART:20230326T010000
END:DAYLIGHT
BEGIN:STANDARD
TZOFFSETFROM:+0200
TZOFFSETTO:+0100
TZNAME:CET
DTSTART:20231029T010000
END:STANDARD
END:VTIMEZONE
BEGIN:VEVENT
DTSTART;TZID=Europe/Berlin:20220408T173000
DTEND;TZID=Europe/Berlin:20220408T190000
DTSTAMP:20260421T135139
CREATED:20220404T204508Z
LAST-MODIFIED:20220404T204508Z
UID:23142-1649439000-1649444400@stuttgarti-katolikusok.de
SUMMARY:Stuttgarti délután
DESCRIPTION:Örömmel értesítünk benneteket\, hogy 2022. április 3-ai hatállyal a következő szabályozások léptek érvénybe:  \nSzentmisén az FFP2 maszk használata mellett megszűnik a kötelező távolság (1\,5 m) megtartása. A 6 és 18 év közöttiek számára más típusú maszk használata engedélyezett (orvosi maszk). Maszk nélkül viszont ajánlott a megfelelő távolság megtartása (1\,5 m).  \nA közösségi termeket 3G-vel lehet használni. Továbbá meg kell tartani azon előírásokat ezzel kapcsolatosan\, amelyek eddig is érvényben voltak. A gyakorlatban ez azt jelent\, hogy ágápé megtartására csak ezen előírások fényében van lehetőségünk. Ez minden miséző helyen saját szervezést és rendezést igényel.  \n* \nÁprilis 8-án\, pénteken\, Stuttgarti délután\, 17.30 órakor keresztúti ájtatosság\, 18.00 órakor szentmise.  \nMindenkit szeretettel vár a közösség és Tibor atya! \n * \n \n* \nBensőséges nagyböjti napokat\, jó munkát\, tartalmas beszélgetéseket és örömteli találkozásokat kívánunk minden Kedves Hívünknek! \n* \n„Legyen elég neked Krisztus\, a Megfeszített. – Vele szenvedj\, vele pihenj\, nála nélkül se ne szenvedj\, se ne pihenj. Ha arra vágyódsz\, hogy Krisztust valóban elnyerd\, sohase keres őt keresztje nélkül. Aki nem keresi Krisztus keresztjét\, az nem keresi dicsőségét sem.” \n(Keresztes Szent János – keresztény misztikus teológus – 1542 – 1591) \n(Kép forrása: Pixabay)
URL:https://stuttgarti-katolikusok.de/index.php/esemeny/stuttgarti-delutan-208/
LOCATION:Bruder Klaus Kirche\, Albert-Schäffle-Straße 30\, Stuttgart\, Baden-Württemberg\, 70186\, Németország
CATEGORIES:Stuttgarti délután
ATTACH;FMTTYPE=image/jpeg:https://stuttgarti-katolikusok.de/wp-content/uploads/2015/12/013__2_klaus.jpg
END:VEVENT
BEGIN:VEVENT
DTSTART;TZID=Europe/Berlin:20220409T153000
DTEND;TZID=Europe/Berlin:20220409T163000
DTSTAMP:20260421T135139
CREATED:20230208T071815Z
LAST-MODIFIED:20230208T072529Z
UID:25598-1649518200-1649521800@stuttgarti-katolikusok.de
SUMMARY:Biberach Virágvasárnap
DESCRIPTION:
URL:https://stuttgarti-katolikusok.de/index.php/esemeny/biberach-viragvasarnap-2/
LOCATION:Baden-Württemberg
CATEGORIES:Szentmisék helye és ideje
END:VEVENT
BEGIN:VEVENT
DTSTART;TZID=Europe/Berlin:20220409T163000
DTEND;TZID=Europe/Berlin:20220409T173000
DTSTAMP:20260421T135139
CREATED:20220404T204836Z
LAST-MODIFIED:20220404T204836Z
UID:23144-1649521800-1649525400@stuttgarti-katolikusok.de
SUMMARY:Szentmise Biberachban
DESCRIPTION:Örömmel értesítünk benneteket\, hogy 2022. április 3-ai hatállyal a következő szabályozások léptek érvénybe:  \nSzentmisén az FFP2 maszk használata mellett megszűnik a kötelező távolság (1\,5 m) megtartása. A 6 és 18 év közöttiek számára más típusú maszk használata engedélyezett (orvosi maszk). Maszk nélkül viszont ajánlott a megfelelő távolság megtartása (1\,5 m).  \nA közösségi termeket 3G-vel lehet használni. Továbbá meg kell tartani azon előírásokat ezzel kapcsolatosan\, amelyek eddig is érvényben voltak. A gyakorlatban ez azt jelent\, hogy ágápé megtartására csak ezen előírások fényében van lehetőségünk. Ez minden miséző helyen saját szervezést és rendezést igényel.  \n* \nÁprilis 9-én\, szombaton\, Biberachban 16.30 órakor szentmise\, utána ágápé. \nMindenkit szeretettel vár a közösség és Tibor atya! \n * \n \n* \nBensőséges nagyböjti napokat\, jó munkát\, tartalmas beszélgetéseket és örömteli találkozásokat kívánunk minden Kedves Hívünknek! \n* \n„Legyen elég neked Krisztus\, a Megfeszített. – Vele szenvedj\, vele pihenj\, nála nélkül se ne szenvedj\, se ne pihenj. Ha arra vágyódsz\, hogy Krisztust valóban elnyerd\, sohase keres őt keresztje nélkül. Aki nem keresi Krisztus keresztjét\, az nem keresi dicsőségét sem.” \n(Keresztes Szent János – keresztény misztikus teológus – 1542 – 1591) \n(Kép forrása: Pixabay)
URL:https://stuttgarti-katolikusok.de/index.php/esemeny/szentmise-biberachban-50/
LOCATION:Dreifaltigkeitskirche\, Verdi Str. 13\, Heidenheim an der Brenz\, Baden-Würtenberg\, 89518\, Németország
CATEGORIES:Szentmise
ATTACH;FMTTYPE=image/jpeg:https://stuttgarti-katolikusok.de/wp-content/uploads/2020/05/dreifeltigskeit-bc.jpg
END:VEVENT
BEGIN:VEVENT
DTSTART;TZID=Europe/Berlin:20220410T120000
DTEND;TZID=Europe/Berlin:20220410T130000
DTSTAMP:20260421T135139
CREATED:20230208T071950Z
LAST-MODIFIED:20230208T072809Z
UID:25712-1649592000-1649595600@stuttgarti-katolikusok.de
SUMMARY:Weingarten Viragvasárnap - Hl. Geist!!! - óra változás
DESCRIPTION:
URL:https://stuttgarti-katolikusok.de/index.php/esemeny/weingarten-viragvasarnap-hl-geist-ora-valtozas-2/
LOCATION:Baden-Württemberg
CATEGORIES:Szentmisék helye és ideje
END:VEVENT
BEGIN:VEVENT
DTSTART;TZID=Europe/Berlin:20220410T130000
DTEND;TZID=Europe/Berlin:20220410T140000
DTSTAMP:20260421T135139
CREATED:20220404T205128Z
LAST-MODIFIED:20220404T205128Z
UID:23146-1649595600-1649599200@stuttgarti-katolikusok.de
SUMMARY:Szentmise Weingartenben
DESCRIPTION:Örömmel értesítünk benneteket\, hogy 2022. április 3-ai hatállyal a következő szabályozások léptek érvénybe:  \nSzentmisén az FFP2 maszk használata mellett megszűnik a kötelező távolság (1\,5 m) megtartása. A 6 és 18 év közöttiek számára más típusú maszk használata engedélyezett (orvosi maszk). Maszk nélkül viszont ajánlott a megfelelő távolság megtartása (1\,5 m).  \nA közösségi termeket 3G-vel lehet használni. Továbbá meg kell tartani azon előírásokat ezzel kapcsolatosan\, amelyek eddig is érvényben voltak. A gyakorlatban ez azt jelent\, hogy ágápé megtartására csak ezen előírások fényében van lehetőségünk. Ez minden miséző helyen saját szervezést és rendezést igényel.  \n* \nÁprilis 10-én\, Virágvasárnap\,  Weingartenben 13.00 órakor szentmise (Heilig Geist Kirche). \nMindenkit szeretettel vár a közösség és Tibor atya! \n * \n \n* \nBensőséges nagyböjti napokat\, jó munkát\, tartalmas beszélgetéseket és örömteli találkozásokat kívánunk minden Kedves Hívünknek! \n* \n„Legyen elég neked Krisztus\, a Megfeszített. – Vele szenvedj\, vele pihenj\, nála nélkül se ne szenvedj\, se ne pihenj. Ha arra vágyódsz\, hogy Krisztust valóban elnyerd\, sohase keres őt keresztje nélkül. Aki nem keresi Krisztus keresztjét\, az nem keresi dicsőségét sem.” \n(Keresztes Szent János – keresztény misztikus teológus – 1542 – 1591) \n(Kép forrása: Pixabay)
URL:https://stuttgarti-katolikusok.de/index.php/esemeny/szentmise-weingartenben-62/
LOCATION:Marienkirche\, St. Konrad Str. 28\, Weingarten\, Baden Württemberg\, 88250\, Németország
CATEGORIES:Szentmise
END:VEVENT
BEGIN:VEVENT
DTSTART;TZID=Europe/Berlin:20220410T140000
DTEND;TZID=Europe/Berlin:20220410T150000
DTSTAMP:20260421T135139
CREATED:20230208T071815Z
LAST-MODIFIED:20230208T072529Z
UID:25599-1649599200-1649602800@stuttgarti-katolikusok.de
SUMMARY:Ulm  Virágvasárnap
DESCRIPTION:
URL:https://stuttgarti-katolikusok.de/index.php/esemeny/ulm-viragvasarnap-2/
LOCATION:Baden-Württemberg
CATEGORIES:Szentmisék helye és ideje
END:VEVENT
BEGIN:VEVENT
DTSTART;TZID=Europe/Berlin:20220410T150000
DTEND;TZID=Europe/Berlin:20220410T160000
DTSTAMP:20260421T135139
CREATED:20220404T205339Z
LAST-MODIFIED:20220404T205339Z
UID:23148-1649602800-1649606400@stuttgarti-katolikusok.de
SUMMARY:Szentmise Ulmban
DESCRIPTION:Örömmel értesítünk benneteket\, hogy 2022. április 3-ai hatállyal a következő szabályozások léptek érvénybe:  \nSzentmisén az FFP2 maszk használata mellett megszűnik a kötelező távolság (1\,5 m) megtartása. A 6 és 18 év közöttiek számára más típusú maszk használata engedélyezett (orvosi maszk). Maszk nélkül viszont ajánlott a megfelelő távolság megtartása (1\,5 m).  \nA közösségi termeket 3G-vel lehet használni. Továbbá meg kell tartani azon előírásokat ezzel kapcsolatosan\, amelyek eddig is érvényben voltak. A gyakorlatban ez azt jelent\, hogy ágápé megtartására csak ezen előírások fényében van lehetőségünk. Ez minden miséző helyen saját szervezést és rendezést igényel.  \n* \nÁprilis 10-én\, Virágvasárnap\, Ulmban 15.00 órakor szentmise. \nMindenkit szeretettel vár a közösség és Tibor atya! \n * \n \n* \nBensőséges nagyböjti napokat\, jó munkát\, tartalmas beszélgetéseket és örömteli találkozásokat kívánunk minden Kedves Hívünknek! \n* \n„Legyen elég neked Krisztus\, a Megfeszített. – Vele szenvedj\, vele pihenj\, nála nélkül se ne szenvedj\, se ne pihenj. Ha arra vágyódsz\, hogy Krisztust valóban elnyerd\, sohase keres őt keresztje nélkül. Aki nem keresi Krisztus keresztjét\, az nem keresi dicsőségét sem.” \n(Keresztes Szent János – keresztény misztikus teológus – 1542 – 1591) \n(Kép forrása: Pixabay)
URL:https://stuttgarti-katolikusok.de/index.php/esemeny/szentmise-ulmban-77/
LOCATION:St. Michael zu den Wengen\, Wengengasse 6\, Ulm\, Baden-Württemberg\, 89073\, Németország
CATEGORIES:Szentmise
ATTACH;FMTTYPE=image/jpeg:https://stuttgarti-katolikusok.de/wp-content/uploads/2015/12/Wengenkirche1-e1483916551260.jpg
END:VEVENT
BEGIN:VEVENT
DTSTART;TZID=Europe/Berlin:20220414T180000
DTEND;TZID=Europe/Berlin:20220414T190000
DTSTAMP:20260421T135139
CREATED:20230208T072005Z
LAST-MODIFIED:20230208T072823Z
UID:25738-1649959200-1649962800@stuttgarti-katolikusok.de
SUMMARY:Stuttgart Nagycsütörtök
DESCRIPTION:
URL:https://stuttgarti-katolikusok.de/index.php/esemeny/stuttgart-nagycsutortok-3/
LOCATION:Baden-Württemberg
CATEGORIES:Szentmisék helye és ideje
END:VEVENT
BEGIN:VEVENT
DTSTART;TZID=Europe/Berlin:20220414T190000
DTEND;TZID=Europe/Berlin:20220414T200000
DTSTAMP:20260421T135139
CREATED:20220411T092058Z
LAST-MODIFIED:20220411T092137Z
UID:23188-1649962800-1649966400@stuttgarti-katolikusok.de
SUMMARY:Nagycsütörtök Stuttgartban
DESCRIPTION:Örömmel jelezzük\, hogy újra szabadon\, minden korlátozás nélkül látogathatjuk templomainkat.  \nNincs szükség távolság megtartására\, ellenben ajánlott az FFP2-es maszk használata. \n * \n \nÁprilis 14-én\, Nagycsütörtök\, Stuttgartban 19.00 órakor szentmise az Utolsó Vacsora emlékére. \nMinden helyen mindenkit szeretettel vár a közösség és Tibor atya! \n* \n \n* \nKegyelemteljes Húsvétot kívánunk minden Kedves Hívünknek! \n* \n„A Húsvét a legnagyobb mélységeket és legnagyobb magasságokat megélő ünnepünk.” (Jókai Anna – költőnő – 1932-2017) \n(Képek forrása: Pixabay.com)
URL:https://stuttgarti-katolikusok.de/index.php/esemeny/nagycsutortok-stuttgartban-6/
LOCATION:Bruder Klaus Kirche\, Albert-Schäffle-Straße 30\, Stuttgart\, Baden-Württemberg\, 70186\, Németország
CATEGORIES:Szent Három Nap
ATTACH;FMTTYPE=image/jpeg:https://stuttgarti-katolikusok.de/wp-content/uploads/2015/12/013__2_klaus.jpg
END:VEVENT
BEGIN:VEVENT
DTSTART;TZID=Europe/Berlin:20220415T140000
DTEND;TZID=Europe/Berlin:20220415T150000
DTSTAMP:20260421T135139
CREATED:20230208T072006Z
LAST-MODIFIED:20230208T072824Z
UID:25739-1650031200-1650034800@stuttgarti-katolikusok.de
SUMMARY:Weingarten - Nagypéntek - 14 Nothelfer Kapelle
DESCRIPTION:
URL:https://stuttgarti-katolikusok.de/index.php/esemeny/weingarten-nagypentek-14-nothelfer-kapelle-2/
LOCATION:Baden-Württemberg
CATEGORIES:Szentmisék helye és ideje
END:VEVENT
BEGIN:VEVENT
DTSTART;TZID=Europe/Berlin:20220415T150000
DTEND;TZID=Europe/Berlin:20220415T160000
DTSTAMP:20260421T135139
CREATED:20220411T092732Z
LAST-MODIFIED:20220411T092732Z
UID:23191-1650034800-1650038400@stuttgarti-katolikusok.de
SUMMARY:Nagypéntek Weingartenben
DESCRIPTION:Örömmel jelezzük\, hogy újra szabadon\, minden korlátozás nélkül látogathatjuk templomainkat.  \nNincs szükség távolság megtartására\, ellenben ajánlott az FFP2-es maszk használata. \n * \n \nÁprilis 15-én\, Nagypéntek\, Weingartenben 15.00 órakor Urunk szenvedésének ünneplése a 14 Nothelfer Kapelle-ben. \n  \nMinden helyen mindenkit szeretettel vár a közösség és Tibor atya! \n* \n \n* \nKegyelemteljes Húsvétot kívánunk minden Kedves Hívünknek! \n* \n„A Húsvét a legnagyobb mélységeket és legnagyobb magasságokat megélő ünnepünk.” (Jókai Anna – költőnő – 1932-2017) \n(Képek forrása: Pixabay.com)
URL:https://stuttgarti-katolikusok.de/index.php/esemeny/nagypentek-weingartenben-5/
LOCATION:14 Nothelfer  Kapelle\, Ravensburger Str. 39\, Weingarten\, Baden-Württemberg\, 88250\, Németország
CATEGORIES:Szent Három Nap
ATTACH;FMTTYPE=image/jpeg:https://stuttgarti-katolikusok.de/wp-content/uploads/2015/12/Weingarten_Kapelle_14_Nothelfer.jpg
END:VEVENT
BEGIN:VEVENT
DTSTART;TZID=Europe/Berlin:20220415T170000
DTEND;TZID=Europe/Berlin:20220415T180000
DTSTAMP:20260421T135139
CREATED:20230208T071816Z
LAST-MODIFIED:20230208T072530Z
UID:25600-1650042000-1650045600@stuttgarti-katolikusok.de
SUMMARY:Stuttgart Nagypéntek
DESCRIPTION:
URL:https://stuttgarti-katolikusok.de/index.php/esemeny/stuttgart-nagypentek-3/
LOCATION:Baden-Württemberg
CATEGORIES:Szentmisék helye és ideje
END:VEVENT
BEGIN:VEVENT
DTSTART;TZID=Europe/Berlin:20220415T180000
DTEND;TZID=Europe/Berlin:20220415T190000
DTSTAMP:20260421T135139
CREATED:20220411T093132Z
LAST-MODIFIED:20220411T093247Z
UID:23193-1650045600-1650049200@stuttgarti-katolikusok.de
SUMMARY:Nagypéntek Stuttgartban
DESCRIPTION:Örömmel jelezzük\, hogy újra szabadon\, minden korlátozás nélkül látogathatjuk templomainkat.  \nNincs szükség távolság megtartására\, ellenben ajánlott az FFP2-es maszk használata. \n * \n \nÁprilis 15-én\, Nagypéntek\,  Stuttgartban 18.00 órakor Urunk szenvedésének ünneplése.  \nMinden helyen mindenkit szeretettel vár a közösség és Tibor atya! \n* \n \n* \nKegyelemteljes Húsvétot kívánunk minden Kedves Hívünknek! \n* \n„A Húsvét a legnagyobb mélységeket és legnagyobb magasságokat megélő ünnepünk.” (Jókai Anna – költőnő – 1932-2017) \n(Képek forrása: Pixabay.com)
URL:https://stuttgarti-katolikusok.de/index.php/esemeny/nagypentek-stuttgartban-6/
LOCATION:Baden-Württemberg
CATEGORIES:Szent Három Nap
ATTACH;FMTTYPE=image/jpeg:https://stuttgarti-katolikusok.de/wp-content/uploads/2015/12/013__2_klaus.jpg
END:VEVENT
BEGIN:VEVENT
DTSTART;TZID=Europe/Berlin:20220416T190000
DTEND;TZID=Europe/Berlin:20220416T200000
DTSTAMP:20260421T135139
CREATED:20230208T071817Z
LAST-MODIFIED:20230208T072530Z
UID:25601-1650135600-1650139200@stuttgarti-katolikusok.de
SUMMARY:Stuttgart Húsvéti vigília
DESCRIPTION:
URL:https://stuttgarti-katolikusok.de/index.php/esemeny/stuttgart-husveti-vigilia-2/
LOCATION:Baden-Württemberg
CATEGORIES:Szentmisék helye és ideje
END:VEVENT
BEGIN:VEVENT
DTSTART;TZID=Europe/Berlin:20220416T200000
DTEND;TZID=Europe/Berlin:20220416T213000
DTSTAMP:20260421T135139
CREATED:20220411T093723Z
LAST-MODIFIED:20220411T093751Z
UID:23197-1650139200-1650144600@stuttgarti-katolikusok.de
SUMMARY:Húsvét vigília ünnepe Stuttgartban
DESCRIPTION:Örömmel jelezzük\, hogy újra szabadon\, minden korlátozás nélkül látogathatjuk templomainkat.  \nNincs szükség távolság megtartására\, ellenben ajánlott az FFP2-es maszk használata. \n * \n \nÁprilis 16-án\, Nagyszombat. Stuttgartban 20.00 órakor Húsvéti vigília\, feltámadási szertartás utána ételszentelés.  \nMinden helyen mindenkit szeretettel vár a közösség és Tibor atya! \n* \n \n* \nKegyelemteljes Húsvétot kívánunk minden Kedves Hívünknek! \n* \n„A Húsvét a legnagyobb mélységeket és legnagyobb magasságokat megélő ünnepünk.” (Jókai Anna – költőnő – 1932-2017) \n(Képek forrása: Pixabay.com)
URL:https://stuttgarti-katolikusok.de/index.php/esemeny/husvet-vigilia-unnepe-stuttgartban/
LOCATION:Bruder Klaus Kirche\, Albert-Schäffle-Straße 30\, Stuttgart\, Baden-Württemberg\, 70186\, Németország
CATEGORIES:Szent Három Nap
ATTACH;FMTTYPE=image/jpeg:https://stuttgarti-katolikusok.de/wp-content/uploads/2015/12/013__2_klaus.jpg
END:VEVENT
BEGIN:VEVENT
DTSTART;TZID=Europe/Berlin:20220417T083000
DTEND;TZID=Europe/Berlin:20220417T093000
DTSTAMP:20260421T135139
CREATED:20230208T071946Z
LAST-MODIFIED:20230208T072806Z
UID:25705-1650184200-1650187800@stuttgarti-katolikusok.de
SUMMARY:Ludwigsburg Húsvét
DESCRIPTION:
URL:https://stuttgarti-katolikusok.de/index.php/esemeny/ludwigsburg-husvet-2/
LOCATION:Baden-Württemberg
CATEGORIES:Szentmisék helye és ideje
END:VEVENT
BEGIN:VEVENT
DTSTART;TZID=Europe/Berlin:20220417T090000
DTEND;TZID=Europe/Berlin:20220417T100000
DTSTAMP:20260421T135139
CREATED:20220411T094759Z
LAST-MODIFIED:20220411T094823Z
UID:23200-1650186000-1650189600@stuttgarti-katolikusok.de
SUMMARY:Húsvét ünnepe Ludwigsburgban
DESCRIPTION:Örömmel jelezzük\, hogy újra szabadon\, minden korlátozás nélkül látogathatjuk templomainkat.  \nNincs szükség távolság megtartására\, ellenben ajánlott az FFP2-es maszk használata. \n * \n \nÁprilis 17-én\, Húsvétvasárnap\, Urunk feltámadása\, Ludwigsburgban 9.00 órakor ünnepi szentmise\, utána ételszentelés. \nMinden helyen mindenkit szeretettel vár a közösség és Tibor atya! \n* \n \n* \nKegyelemteljes Húsvétot kívánunk minden Kedves Hívünknek! \n* \n„A Húsvét a legnagyobb mélységeket és legnagyobb magasságokat megélő ünnepünk.” (Jókai Anna – költőnő – 1932-2017) \n(Képek forrása: Pixabay.com)
URL:https://stuttgarti-katolikusok.de/index.php/esemeny/husvet-unnepe-ludwigsburgban/
LOCATION:St. Josef Kirche\, Park Str. 30\, Ludwigsburg-Hoheneck\, Baden-Württemberg\, 71642
CATEGORIES:Szentmise
ATTACH;FMTTYPE=image/jpeg:https://stuttgarti-katolikusok.de/wp-content/uploads/2021/04/ludwigsburg.jpeg
END:VEVENT
BEGIN:VEVENT
DTSTART;TZID=Europe/Berlin:20220417T103000
DTEND;TZID=Europe/Berlin:20220417T113000
DTSTAMP:20260421T135139
CREATED:20230208T071938Z
LAST-MODIFIED:20230208T072759Z
UID:25692-1650191400-1650195000@stuttgarti-katolikusok.de
SUMMARY:Stuttgart Húsvét
DESCRIPTION:
URL:https://stuttgarti-katolikusok.de/index.php/esemeny/stuttgart-husvet-3/
LOCATION:Baden-Württemberg
CATEGORIES:Szentmisék helye és ideje
END:VEVENT
BEGIN:VEVENT
DTSTART;TZID=Europe/Berlin:20220417T113000
DTEND;TZID=Europe/Berlin:20220417T123000
DTSTAMP:20260421T135139
CREATED:20220411T095729Z
LAST-MODIFIED:20220411T101859Z
UID:23203-1650195000-1650198600@stuttgarti-katolikusok.de
SUMMARY:Húsvét ünnepe Stuttgartban
DESCRIPTION:Örömmel jelezzük\, hogy újra szabadon\, minden korlátozás nélkül látogathatjuk templomainkat.  \nNincs szükség távolság megtartására\, ellenben ajánlott az FFP2-es maszk használata. \n * \n \nÁprilis 17-én\, Húsvétvasárnap\, Urunk feltámadása\, Stuttgartban 11.30 órakor ünnepi szentmise\, utána ételszentelés. \nMinden helyen mindenkit szeretettel vár a közösség és Tibor atya! \n* \n \n* \nKegyelemteljes Húsvétot kívánunk minden Kedves Hívünknek! \n* \n„A Húsvét a legnagyobb mélységeket és legnagyobb magasságokat megélő ünnepünk.” (Jókai Anna – költőnő – 1932-2017) \n(Képek forrása: Pixabay.com)
URL:https://stuttgarti-katolikusok.de/index.php/esemeny/husvet-unnepe-stuttgartban-3/
LOCATION:Bruder Klaus Kirche\, Albert-Schäffle-Straße 30\, Stuttgart\, Baden-Württemberg\, 70186\, Németország
CATEGORIES:Szentmise
ATTACH;FMTTYPE=image/jpeg:https://stuttgarti-katolikusok.de/wp-content/uploads/2015/12/013__2_klaus.jpg
END:VEVENT
BEGIN:VEVENT
DTSTART;TZID=Europe/Berlin:20220417T150000
DTEND;TZID=Europe/Berlin:20220417T160000
DTSTAMP:20260421T135139
CREATED:20230208T071950Z
LAST-MODIFIED:20230208T072810Z
UID:25713-1650207600-1650211200@stuttgarti-katolikusok.de
SUMMARY:Weingarten  Húsvét - St. Maria
DESCRIPTION:
URL:https://stuttgarti-katolikusok.de/index.php/esemeny/weingarten-husvet-st-maria-2/
LOCATION:Baden-Württemberg
CATEGORIES:Szentmisék helye és ideje
END:VEVENT
BEGIN:VEVENT
DTSTART;TZID=Europe/Berlin:20220417T160000
DTEND;TZID=Europe/Berlin:20220417T170000
DTSTAMP:20260421T135139
CREATED:20220411T100712Z
LAST-MODIFIED:20220411T100712Z
UID:23205-1650211200-1650214800@stuttgarti-katolikusok.de
SUMMARY:Húsvét ünnepe Weingartenben
DESCRIPTION:Örömmel jelezzük\, hogy újra szabadon\, minden korlátozás nélkül látogathatjuk templomainkat.  \nNincs szükség távolság megtartására\, ellenben ajánlott az FFP2-es maszk használata. \n * \n \nÁprilis 17-én\, Húsvétvasárnap\, Urunk feltámadása\, Weingartenben 16.00 órakor a Marienkirche-ben ünnepi szentmise\, utána ételszentelés. \nMinden helyen mindenkit szeretettel vár a közösség és Tibor atya! \n* \n \n* \nKegyelemteljes Húsvétot kívánunk minden Kedves Hívünknek! \n* \n„A Húsvét a legnagyobb mélységeket és legnagyobb magasságokat megélő ünnepünk.” (Jókai Anna – költőnő – 1932-2017) \n(Képek forrása: Pixabay.com)
URL:https://stuttgarti-katolikusok.de/index.php/esemeny/husvet-unnepe-weingartenben-4/
LOCATION:Marienkirche\, St. Konrad Str. 28\, Weingarten\, Baden Württemberg\, 88250\, Németország
CATEGORIES:Szentmise
ATTACH;FMTTYPE=image/jpeg:https://stuttgarti-katolikusok.de/wp-content/uploads/2016/01/weingarten-marien-kirche.jpg
END:VEVENT
BEGIN:VEVENT
DTSTART;TZID=Europe/Berlin:20220418T083000
DTEND;TZID=Europe/Berlin:20220418T093000
DTSTAMP:20260421T135139
CREATED:20230208T071817Z
LAST-MODIFIED:20230208T072531Z
UID:25602-1650270600-1650274200@stuttgarti-katolikusok.de
SUMMARY:Stuttgart Húsvéthétfő német-magyar szentmise
DESCRIPTION:
URL:https://stuttgarti-katolikusok.de/index.php/esemeny/stuttgart-husvethetfo-nemet-magyar-szentmise-2/
LOCATION:Baden-Württemberg
CATEGORIES:Szentmisék helye és ideje
END:VEVENT
BEGIN:VEVENT
DTSTART;TZID=Europe/Berlin:20220418T093000
DTEND;TZID=Europe/Berlin:20220418T103000
DTSTAMP:20260421T135139
CREATED:20220411T101226Z
LAST-MODIFIED:20220411T101226Z
UID:23207-1650274200-1650277800@stuttgarti-katolikusok.de
SUMMARY:Húsvéthétfő ünnepe Stuttgartban
DESCRIPTION:Örömmel jelezzük\, hogy újra szabadon\, minden korlátozás nélkül látogathatjuk templomainkat.  \nNincs szükség távolság megtartására\, ellenben ajánlott az FFP2-es maszk használata. \n * \n \nÁprilis 18-án\, Húsvéthétfő\, Stuttgartban 9.30 órakor szentmise. \nMinden helyen mindenkit szeretettel vár a közösség és Tibor atya! \n* \n \n* \nKegyelemteljes Húsvétot kívánunk minden Kedves Hívünknek! \n* \n„A Húsvét a legnagyobb mélységeket és legnagyobb magasságokat megélő ünnepünk.” (Jókai Anna – költőnő – 1932-2017) \n(Képek forrása: Pixabay.com)
URL:https://stuttgarti-katolikusok.de/index.php/esemeny/husvethetfo-unnepe-stuttgartban/
LOCATION:Bruder Klaus Kirche\, Albert-Schäffle-Straße 30\, Stuttgart\, Baden-Württemberg\, 70186\, Németország
CATEGORIES:Szentmise
ATTACH;FMTTYPE=image/jpeg:https://stuttgarti-katolikusok.de/wp-content/uploads/2015/12/013__2_klaus.jpg
END:VEVENT
BEGIN:VEVENT
DTSTART;TZID=Europe/Berlin:20220418T120000
DTEND;TZID=Europe/Berlin:20220418T130000
DTSTAMP:20260421T135139
CREATED:20230208T072004Z
LAST-MODIFIED:20230208T072822Z
UID:25736-1650283200-1650286800@stuttgarti-katolikusok.de
SUMMARY:Ulm
DESCRIPTION:
URL:https://stuttgarti-katolikusok.de/index.php/esemeny/ulm-21/
LOCATION:Baden-Württemberg
CATEGORIES:Szentmisék helye és ideje
END:VEVENT
BEGIN:VEVENT
DTSTART;TZID=Europe/Berlin:20220418T130000
DTEND;TZID=Europe/Berlin:20220418T140000
DTSTAMP:20260421T135139
CREATED:20220411T101608Z
LAST-MODIFIED:20220411T101608Z
UID:23209-1650286800-1650290400@stuttgarti-katolikusok.de
SUMMARY:Húsvét ünnepe Ulmban
DESCRIPTION:Örömmel jelezzük\, hogy újra szabadon\, minden korlátozás nélkül látogathatjuk templomainkat.  \nNincs szükség távolság megtartására\, ellenben ajánlott az FFP2-es maszk használata. \n * \n \nÁprilis 18-án\, Húsvéthétfő\, Ulmban 13.00 órakor szentmise. \nMinden helyen mindenkit szeretettel vár a közösség és Tibor atya! \n* \n \n* \nKegyelemteljes Húsvétot kívánunk minden Kedves Hívünknek! \n* \n„A Húsvét a legnagyobb mélységeket és legnagyobb magasságokat megélő ünnepünk.” (Jókai Anna – költőnő – 1932-2017) \n(Képek forrása: Pixabay.com)
URL:https://stuttgarti-katolikusok.de/index.php/esemeny/husvet-unnepe-ulmban-3/
LOCATION:St. Michael zu den Wengen\, Wengengasse 6\, Ulm\, Baden-Württemberg\, 89073\, Németország
CATEGORIES:Szentmise
ATTACH;FMTTYPE=image/jpeg:https://stuttgarti-katolikusok.de/wp-content/uploads/2015/12/Wengenkirche1-e1483916551260.jpg
END:VEVENT
BEGIN:VEVENT
DTSTART;TZID=Europe/Berlin:20220423T150000
DTEND;TZID=Europe/Berlin:20220423T160000
DTSTAMP:20260421T135139
CREATED:20230208T071818Z
LAST-MODIFIED:20230208T072532Z
UID:25603-1650726000-1650729600@stuttgarti-katolikusok.de
SUMMARY:Tuttlingen
DESCRIPTION:
URL:https://stuttgarti-katolikusok.de/index.php/esemeny/tuttlingen-5/
LOCATION:Baden-Württemberg
CATEGORIES:Szentmisék helye és ideje
END:VEVENT
BEGIN:VEVENT
DTSTART;TZID=Europe/Berlin:20220423T160000
DTEND;TZID=Europe/Berlin:20220423T180000
DTSTAMP:20260421T135139
CREATED:20220419T192706Z
LAST-MODIFIED:20220419T192706Z
UID:23229-1650729600-1650736800@stuttgarti-katolikusok.de
SUMMARY:Szentmise Tuttlingenben
DESCRIPTION:Örömmel jelezzük\, hogy újra szabadon\, minden korlátozás nélkül látogathatjuk templomainkat.  \nNincs szükség távolság megtartására\, ellenben ajánlott az FFP2-es maszk használata. \n * \n \n * \nÁprilis 23-án\, szombaton\, Tuttlingenben 16.00 órakor szentmise\,  utána ágápáé. \nMindenkit szeretettel vár a közösség és Tibor atya! \n* \nKegyelemteljes Húsvétot kívánunk minden Kedves Hívünknek! \n* \n„A Húsvét a legnagyobb mélységeket és legnagyobb magasságokat megélő ünnepünk.” (Jókai Anna – költőnő – 1932-2017)
URL:https://stuttgarti-katolikusok.de/index.php/esemeny/szentmise-tuttlingenben-18/
LOCATION:St. Gallus Kirche\, Guttenbergstrasse 9\, Tuttlingen\, Baden-Württemberg\, 78532\, Németország
CATEGORIES:Szentmise
ATTACH;FMTTYPE=image/jpeg:https://stuttgarti-katolikusok.de/wp-content/uploads/2021/05/sankt-gallus-tuttlingen-1.jpg
END:VEVENT
BEGIN:VEVENT
DTSTART;TZID=Europe/Berlin:20220424T083000
DTEND;TZID=Europe/Berlin:20220424T093000
DTSTAMP:20260421T135139
CREATED:20230208T072004Z
LAST-MODIFIED:20230208T072822Z
UID:25737-1650789000-1650792600@stuttgarti-katolikusok.de
SUMMARY:Böblingen
DESCRIPTION:
URL:https://stuttgarti-katolikusok.de/index.php/esemeny/boblingen-11/
LOCATION:Baden-Württemberg
CATEGORIES:Szentmisék helye és ideje
END:VEVENT
BEGIN:VEVENT
DTSTART;TZID=Europe/Berlin:20220424T093000
DTEND;TZID=Europe/Berlin:20220424T113000
DTSTAMP:20260421T135139
CREATED:20220419T192946Z
LAST-MODIFIED:20220419T192946Z
UID:23231-1650792600-1650799800@stuttgarti-katolikusok.de
SUMMARY:Szentmise Böblingenben
DESCRIPTION:Örömmel jelezzük\, hogy újra szabadon\, minden korlátozás nélkül látogathatjuk templomainkat.  \nNincs szükség távolság megtartására\, ellenben ajánlott az FFP2-es maszk használata. \n * \n \n * \nÁprilis 24-én\, Fehérvasárnap\, Isteni irgalmasság vasárnapja\, Böblingenben\, 9.30 órakor szentmise\, utána ágápé. \nMindenkit szeretettel vár a közösség és Tibor atya! \n* \nKegyelemteljes Húsvétot kívánunk minden Kedves Hívünknek! \n* \n„A Húsvét a legnagyobb mélységeket és legnagyobb magasságokat megélő ünnepünk.” (Jókai Anna – költőnő – 1932-2017)
URL:https://stuttgarti-katolikusok.de/index.php/esemeny/szentmise-boblingenben-44/
LOCATION:St. Bonifatius Kirche\, Sindelfinger Str. 14\, Böblingen\, Baden-Württemberg\, 71032\, Németország
CATEGORIES:Szentmise
ATTACH;FMTTYPE=image/jpeg:https://stuttgarti-katolikusok.de/wp-content/uploads/2021/11/boblingen.jpeg
END:VEVENT
BEGIN:VEVENT
DTSTART;TZID=Europe/Berlin:20220424T143000
DTEND;TZID=Europe/Berlin:20220424T153000
DTSTAMP:20260421T135139
CREATED:20230208T071818Z
LAST-MODIFIED:20230208T072532Z
UID:25604-1650810600-1650814200@stuttgarti-katolikusok.de
SUMMARY:Heilbronn
DESCRIPTION:
URL:https://stuttgarti-katolikusok.de/index.php/esemeny/heilbronn-5/
LOCATION:Baden-Württemberg
CATEGORIES:Szentmisék helye és ideje
END:VEVENT
END:VCALENDAR