BEGIN:VCALENDAR
VERSION:2.0
PRODID:-//Stuttgarti Katolikusok - ECPv6.15.20//NONSGML v1.0//EN
CALSCALE:GREGORIAN
METHOD:PUBLISH
X-WR-CALNAME:Stuttgarti Katolikusok
X-ORIGINAL-URL:https://stuttgarti-katolikusok.de
X-WR-CALDESC:Események Stuttgarti Katolikusok
REFRESH-INTERVAL;VALUE=DURATION:PT1H
X-Robots-Tag:noindex
X-PUBLISHED-TTL:PT1H
BEGIN:VTIMEZONE
TZID:Europe/Berlin
BEGIN:DAYLIGHT
TZOFFSETFROM:+0100
TZOFFSETTO:+0200
TZNAME:CEST
DTSTART:20200329T010000
END:DAYLIGHT
BEGIN:STANDARD
TZOFFSETFROM:+0200
TZOFFSETTO:+0100
TZNAME:CET
DTSTART:20201025T010000
END:STANDARD
BEGIN:DAYLIGHT
TZOFFSETFROM:+0100
TZOFFSETTO:+0200
TZNAME:CEST
DTSTART:20210328T010000
END:DAYLIGHT
BEGIN:STANDARD
TZOFFSETFROM:+0200
TZOFFSETTO:+0100
TZNAME:CET
DTSTART:20211031T010000
END:STANDARD
BEGIN:DAYLIGHT
TZOFFSETFROM:+0100
TZOFFSETTO:+0200
TZNAME:CEST
DTSTART:20220327T010000
END:DAYLIGHT
BEGIN:STANDARD
TZOFFSETFROM:+0200
TZOFFSETTO:+0100
TZNAME:CET
DTSTART:20221030T010000
END:STANDARD
BEGIN:DAYLIGHT
TZOFFSETFROM:+0100
TZOFFSETTO:+0200
TZNAME:CEST
DTSTART:20230326T010000
END:DAYLIGHT
BEGIN:STANDARD
TZOFFSETFROM:+0200
TZOFFSETTO:+0100
TZNAME:CET
DTSTART:20231029T010000
END:STANDARD
END:VTIMEZONE
BEGIN:VEVENT
DTSTART;TZID=Europe/Berlin:20211031T090000
DTEND;TZID=Europe/Berlin:20211031T100000
DTSTAMP:20260422T005214
CREATED:20230208T071933Z
LAST-MODIFIED:20230208T072754Z
UID:25684-1635670800-1635674400@stuttgarti-katolikusok.de
SUMMARY:Munderkingen
DESCRIPTION:
URL:https://stuttgarti-katolikusok.de/index.php/esemeny/munderkingen-2/
LOCATION:Baden-Württemberg
CATEGORIES:Szentmisék helye és ideje
END:VEVENT
BEGIN:VEVENT
DTSTART;TZID=Europe/Berlin:20211223T131500
DTEND;TZID=Europe/Berlin:20211223T150000
DTSTAMP:20260422T005214
CREATED:20230208T072319Z
LAST-MODIFIED:20230208T073005Z
UID:25914-1640265300-1640271600@stuttgarti-katolikusok.de
SUMMARY:Flight to München (LH 1669)
DESCRIPTION:
URL:https://stuttgarti-katolikusok.de/index.php/esemeny/flight-to-munchen-lh-1669-2/
LOCATION:Baden-Württemberg
CATEGORIES:Szentmisék helye és ideje
END:VEVENT
BEGIN:VEVENT
DTSTART;TZID=Europe/Berlin:20211224T170000
DTEND;TZID=Europe/Berlin:20211224T180000
DTSTAMP:20260422T005214
CREATED:20230208T071952Z
LAST-MODIFIED:20230208T072811Z
UID:25716-1640365200-1640368800@stuttgarti-katolikusok.de
SUMMARY:Stuttgart - Szenteste
DESCRIPTION:
URL:https://stuttgarti-katolikusok.de/index.php/esemeny/stuttgart-szenteste-4/
LOCATION:Baden-Württemberg
CATEGORIES:Szentmisék helye és ideje
END:VEVENT
BEGIN:VEVENT
DTSTART;TZID=Europe/Berlin:20211224T190000
DTEND;TZID=Europe/Berlin:20211224T200000
DTSTAMP:20260422T005214
CREATED:20230208T071953Z
LAST-MODIFIED:20230208T072812Z
UID:25717-1640372400-1640376000@stuttgarti-katolikusok.de
SUMMARY:Stuttgart - Szenteste
DESCRIPTION:
URL:https://stuttgarti-katolikusok.de/index.php/esemeny/stuttgart-szenteste-5/
LOCATION:Baden-Württemberg
CATEGORIES:Szentmisék helye és ideje
END:VEVENT
BEGIN:VEVENT
DTSTART;TZID=Europe/Berlin:20211224T190000
DTEND;TZID=Europe/Berlin:20211224T200000
DTSTAMP:20260422T005214
CREATED:20230208T071953Z
LAST-MODIFIED:20230208T072812Z
UID:25718-1640372400-1640376000@stuttgarti-katolikusok.de
SUMMARY:Weingarten - Hl. Geist
DESCRIPTION:
URL:https://stuttgarti-katolikusok.de/index.php/esemeny/weingarten-hl-geist-6/
LOCATION:Baden-Württemberg
CATEGORIES:Szentmisék helye és ideje
END:VEVENT
BEGIN:VEVENT
DTSTART;TZID=Europe/Berlin:20211225T093000
DTEND;TZID=Europe/Berlin:20211225T103000
DTSTAMP:20260422T005214
CREATED:20230208T071954Z
LAST-MODIFIED:20230208T072813Z
UID:25719-1640424600-1640428200@stuttgarti-katolikusok.de
SUMMARY:Böblingen - Karácsony I.
DESCRIPTION:
URL:https://stuttgarti-katolikusok.de/index.php/esemeny/boblingen-karacsony-i-2/
LOCATION:Baden-Württemberg
CATEGORIES:Szentmisék helye és ideje
END:VEVENT
BEGIN:VEVENT
DTSTART;TZID=Europe/Berlin:20211225T110000
DTEND;TZID=Europe/Berlin:20211225T120000
DTSTAMP:20260422T005214
CREATED:20230208T071955Z
LAST-MODIFIED:20230208T072814Z
UID:25721-1640430000-1640433600@stuttgarti-katolikusok.de
SUMMARY:Weingarten -. Karácsony I.
DESCRIPTION:
URL:https://stuttgarti-katolikusok.de/index.php/esemeny/weingarten-karacsony-i-2/
LOCATION:Baden-Württemberg
CATEGORIES:Szentmisék helye és ideje
END:VEVENT
BEGIN:VEVENT
DTSTART;TZID=Europe/Berlin:20211225T120000
DTEND;TZID=Europe/Berlin:20211225T130000
DTSTAMP:20260422T005214
CREATED:20230208T071955Z
LAST-MODIFIED:20230208T072813Z
UID:25720-1640433600-1640437200@stuttgarti-katolikusok.de
SUMMARY:Stuttgart - Karácsony I.
DESCRIPTION:
URL:https://stuttgarti-katolikusok.de/index.php/esemeny/stuttgart-karacsony-i-2/
LOCATION:Baden-Württemberg
CATEGORIES:Szentmisék helye és ideje
END:VEVENT
BEGIN:VEVENT
DTSTART;TZID=Europe/Berlin:20211225T150000
DTEND;TZID=Europe/Berlin:20211225T160000
DTSTAMP:20260422T005214
CREATED:20230208T071956Z
LAST-MODIFIED:20230208T072814Z
UID:25722-1640444400-1640448000@stuttgarti-katolikusok.de
SUMMARY:Ulm - Karácsony I.
DESCRIPTION:
URL:https://stuttgarti-katolikusok.de/index.php/esemeny/ulm-karacsony-i-2/
LOCATION:Baden-Württemberg
CATEGORIES:Szentmisék helye és ideje
END:VEVENT
BEGIN:VEVENT
DTSTART;TZID=Europe/Berlin:20211225T153000
DTEND;TZID=Europe/Berlin:20211225T163000
DTSTAMP:20260422T005214
CREATED:20230208T071956Z
LAST-MODIFIED:20230208T072815Z
UID:25723-1640446200-1640449800@stuttgarti-katolikusok.de
SUMMARY:Heilbronn - Karácsony I.
DESCRIPTION:
URL:https://stuttgarti-katolikusok.de/index.php/esemeny/heilbronn-karacsony-i-2/
LOCATION:Baden-Württemberg
CATEGORIES:Szentmisék helye és ideje
END:VEVENT
BEGIN:VEVENT
DTSTART;TZID=Europe/Berlin:20211225T153000
DTEND;TZID=Europe/Berlin:20211225T163000
DTSTAMP:20260422T005214
CREATED:20230208T071957Z
LAST-MODIFIED:20230208T072815Z
UID:25724-1640446200-1640449800@stuttgarti-katolikusok.de
SUMMARY:Heidenheim - Karácsony - igeistentisztelet
DESCRIPTION:
URL:https://stuttgarti-katolikusok.de/index.php/esemeny/heidenheim-karacsony-igeistentisztelet-2/
LOCATION:Baden-Württemberg
CATEGORIES:Szentmisék helye és ideje
END:VEVENT
BEGIN:VEVENT
DTSTART;TZID=Europe/Berlin:20211226T093000
DTEND;TZID=Europe/Berlin:20211226T103000
DTSTAMP:20260422T005214
CREATED:20230208T071957Z
LAST-MODIFIED:20230208T072816Z
UID:25725-1640511000-1640514600@stuttgarti-katolikusok.de
SUMMARY:Schwäbisch-Gmünd - Karácsony II.
DESCRIPTION:
URL:https://stuttgarti-katolikusok.de/index.php/esemeny/schwabisch-gmund-karacsony-ii-2/
LOCATION:Baden-Württemberg
CATEGORIES:Szentmisék helye és ideje
END:VEVENT
BEGIN:VEVENT
DTSTART;TZID=Europe/Berlin:20211226T120000
DTEND;TZID=Europe/Berlin:20211226T130000
DTSTAMP:20260422T005214
CREATED:20230208T071958Z
LAST-MODIFIED:20230208T072817Z
UID:25726-1640520000-1640523600@stuttgarti-katolikusok.de
SUMMARY:Stuttgart - Karácsony II.
DESCRIPTION:
URL:https://stuttgarti-katolikusok.de/index.php/esemeny/stuttgart-karacsony-ii-2/
LOCATION:Baden-Württemberg
CATEGORIES:Szentmisék helye és ideje
END:VEVENT
BEGIN:VEVENT
DTSTART;TZID=Europe/Berlin:20211226T153000
DTEND;TZID=Europe/Berlin:20211226T163000
DTSTAMP:20260422T005214
CREATED:20230208T071958Z
LAST-MODIFIED:20230208T072817Z
UID:25727-1640532600-1640536200@stuttgarti-katolikusok.de
SUMMARY:Eislingen - Karácsony II.
DESCRIPTION:
URL:https://stuttgarti-katolikusok.de/index.php/esemeny/eislingen-karacsony-ii-2/
LOCATION:Baden-Württemberg
CATEGORIES:Szentmisék helye és ideje
END:VEVENT
BEGIN:VEVENT
DTSTART;TZID=Europe/Berlin:20211226T183000
DTEND;TZID=Europe/Berlin:20211226T193000
DTSTAMP:20260422T005214
CREATED:20230208T071959Z
LAST-MODIFIED:20230208T072818Z
UID:25728-1640543400-1640547000@stuttgarti-katolikusok.de
SUMMARY:Biberach - Karácsony II.
DESCRIPTION:
URL:https://stuttgarti-katolikusok.de/index.php/esemeny/biberach-karacsony-ii-2/
LOCATION:Baden-Württemberg
CATEGORIES:Szentmisék helye és ideje
END:VEVENT
BEGIN:VEVENT
DTSTART;TZID=Europe/Berlin:20211227T215500
DTEND;TZID=Europe/Berlin:20211227T233500
DTSTAMP:20260422T005214
CREATED:20230208T072320Z
LAST-MODIFIED:20230208T073005Z
UID:25915-1640642100-1640648100@stuttgarti-katolikusok.de
SUMMARY:Flight to Cluj-Napoca (LH 1670)
DESCRIPTION:
URL:https://stuttgarti-katolikusok.de/index.php/esemeny/flight-to-cluj-napoca-lh-1670-2/
LOCATION:Baden-Württemberg
CATEGORIES:Szentmisék helye és ideje
END:VEVENT
BEGIN:VEVENT
DTSTART;TZID=Europe/Berlin:20211231T150000
DTEND;TZID=Europe/Berlin:20211231T160000
DTSTAMP:20260422T005214
CREATED:20230208T071959Z
LAST-MODIFIED:20230208T072818Z
UID:25729-1640962800-1640966400@stuttgarti-katolikusok.de
SUMMARY:Weingarten - Szilveszter - 14 Nothelfer Kapelle
DESCRIPTION:
URL:https://stuttgarti-katolikusok.de/index.php/esemeny/weingarten-szilveszter-14-nothelfer-kapelle-2/
LOCATION:Baden-Württemberg
CATEGORIES:Szentmisék helye és ideje
END:VEVENT
BEGIN:VEVENT
DTSTART;TZID=Europe/Berlin:20211231T180000
DTEND;TZID=Europe/Berlin:20211231T190000
DTSTAMP:20260422T005214
CREATED:20230208T072000Z
LAST-MODIFIED:20230208T072819Z
UID:25730-1640973600-1640977200@stuttgarti-katolikusok.de
SUMMARY:Stuttgart - Szilveszter estéje
DESCRIPTION:
URL:https://stuttgarti-katolikusok.de/index.php/esemeny/stuttgart-szilveszter-esteje-2/
LOCATION:Baden-Württemberg
CATEGORIES:Szentmisék helye és ideje
END:VEVENT
BEGIN:VEVENT
DTSTART;TZID=Europe/Berlin:20220101T113000
DTEND;TZID=Europe/Berlin:20220101T123000
DTSTAMP:20260422T005214
CREATED:20230208T071935Z
LAST-MODIFIED:20230208T072756Z
UID:25688-1641036600-1641040200@stuttgarti-katolikusok.de
SUMMARY:Stuttgart
DESCRIPTION:
URL:https://stuttgarti-katolikusok.de/index.php/esemeny/stuttgart-35/
LOCATION:Baden-Württemberg
CATEGORIES:Szentmisék helye és ideje
END:VEVENT
BEGIN:VEVENT
DTSTART;TZID=Europe/Berlin:20220101T160000
DTEND;TZID=Europe/Berlin:20220101T170000
DTSTAMP:20260422T005214
CREATED:20230208T071803Z
LAST-MODIFIED:20230208T072518Z
UID:25578-1641052800-1641056400@stuttgarti-katolikusok.de
SUMMARY:Balingen
DESCRIPTION:
URL:https://stuttgarti-katolikusok.de/index.php/esemeny/balingen-20/
LOCATION:Baden-Württemberg
CATEGORIES:Szentmisék helye és ideje
END:VEVENT
BEGIN:VEVENT
DTSTART;TZID=Europe/Berlin:20220102T093000
DTEND;TZID=Europe/Berlin:20220102T103000
DTSTAMP:20260422T005214
CREATED:20230208T071803Z
LAST-MODIFIED:20230208T072519Z
UID:25579-1641115800-1641119400@stuttgarti-katolikusok.de
SUMMARY:Schwäbisch Gmünd
DESCRIPTION:
URL:https://stuttgarti-katolikusok.de/index.php/esemeny/schwabisch-gmund-21/
LOCATION:Baden-Württemberg
CATEGORIES:Szentmisék helye és ideje
END:VEVENT
BEGIN:VEVENT
DTSTART;TZID=Europe/Berlin:20220102T150000
DTEND;TZID=Europe/Berlin:20220102T160000
DTSTAMP:20260422T005214
CREATED:20230208T071804Z
LAST-MODIFIED:20230208T072519Z
UID:25580-1641135600-1641139200@stuttgarti-katolikusok.de
SUMMARY:Stuttgart
DESCRIPTION:
URL:https://stuttgarti-katolikusok.de/index.php/esemeny/stuttgart-25/
LOCATION:Baden-Württemberg
CATEGORIES:Szentmisék helye és ideje
END:VEVENT
BEGIN:VEVENT
DTSTART;TZID=Europe/Berlin:20220106T110000
DTEND;TZID=Europe/Berlin:20220106T120000
DTSTAMP:20260422T005214
CREATED:20230208T072250Z
LAST-MODIFIED:20230208T072956Z
UID:25898-1641466800-1641470400@stuttgarti-katolikusok.de
SUMMARY:Weingarten - 14 Nothelfer Kapelle
DESCRIPTION:
URL:https://stuttgarti-katolikusok.de/index.php/esemeny/weingarten-14-nothelfer-kapelle-4/
LOCATION:Baden-Württemberg
CATEGORIES:Szentmisék helye és ideje
END:VEVENT
BEGIN:VEVENT
DTSTART;TZID=Europe/Berlin:20220106T180000
DTEND;TZID=Europe/Berlin:20220106T190000
DTSTAMP:20260422T005214
CREATED:20230208T072002Z
LAST-MODIFIED:20230208T072820Z
UID:25733-1641492000-1641495600@stuttgarti-katolikusok.de
SUMMARY:Ulm - Vízkereszt ünnepe
DESCRIPTION:
URL:https://stuttgarti-katolikusok.de/index.php/esemeny/ulm-vizkereszt-unnepe-2/
LOCATION:Baden-Württemberg
CATEGORIES:Szentmisék helye és ideje
END:VEVENT
BEGIN:VEVENT
DTSTART;TZID=Europe/Berlin:20220107T180000
DTEND;TZID=Europe/Berlin:20220107T190000
DTSTAMP:20260422T005214
CREATED:20230208T072001Z
LAST-MODIFIED:20230208T072820Z
UID:25732-1641578400-1641582000@stuttgarti-katolikusok.de
SUMMARY:Stuttgart - Vízkereszt ünnepe
DESCRIPTION:
URL:https://stuttgarti-katolikusok.de/index.php/esemeny/stuttgart-vizkereszt-unnepe-2/
LOCATION:Baden-Württemberg
CATEGORIES:Szentmisék helye és ideje
END:VEVENT
BEGIN:VEVENT
DTSTART;TZID=Europe/Berlin:20220108T163000
DTEND;TZID=Europe/Berlin:20220108T173000
DTSTAMP:20260422T005214
CREATED:20230208T071805Z
LAST-MODIFIED:20230208T072520Z
UID:25581-1641659400-1641663000@stuttgarti-katolikusok.de
SUMMARY:Biberach
DESCRIPTION:
URL:https://stuttgarti-katolikusok.de/index.php/esemeny/biberach-15/
LOCATION:Baden-Württemberg
CATEGORIES:Szentmisék helye és ideje
END:VEVENT
BEGIN:VEVENT
DTSTART;TZID=Europe/Berlin:20220109T110000
DTEND;TZID=Europe/Berlin:20220109T120000
DTSTAMP:20260422T005214
CREATED:20230208T071948Z
LAST-MODIFIED:20230208T072808Z
UID:25709-1641726000-1641729600@stuttgarti-katolikusok.de
SUMMARY:Weingarten - Hl. Geist
DESCRIPTION:
URL:https://stuttgarti-katolikusok.de/index.php/esemeny/weingarten-hl-geist-4/
LOCATION:Baden-Württemberg
CATEGORIES:Szentmisék helye és ideje
END:VEVENT
BEGIN:VEVENT
DTSTART;TZID=Europe/Berlin:20220109T150000
DTEND;TZID=Europe/Berlin:20220109T160000
DTSTAMP:20260422T005214
CREATED:20230208T071924Z
LAST-MODIFIED:20230208T072653Z
UID:25670-1641740400-1641744000@stuttgarti-katolikusok.de
SUMMARY:Ulm ökumenikus istentisztelet
DESCRIPTION:
URL:https://stuttgarti-katolikusok.de/index.php/esemeny/ulm-okumenikus-istentisztelet-2/
LOCATION:Baden-Württemberg
CATEGORIES:Szentmisék helye és ideje
END:VEVENT
BEGIN:VEVENT
DTSTART;TZID=Europe/Berlin:20220115T153000
DTEND;TZID=Europe/Berlin:20220115T163000
DTSTAMP:20260422T005214
CREATED:20230208T071805Z
LAST-MODIFIED:20230208T072520Z
UID:25582-1642260600-1642264200@stuttgarti-katolikusok.de
SUMMARY:Heidenheim
DESCRIPTION:
URL:https://stuttgarti-katolikusok.de/index.php/esemeny/heidenheim-3/
LOCATION:Baden-Württemberg
CATEGORIES:Szentmisék helye és ideje
END:VEVENT
BEGIN:VEVENT
DTSTART;TZID=Europe/Berlin:20220116T090000
DTEND;TZID=Europe/Berlin:20220116T100000
DTSTAMP:20260422T005214
CREATED:20230208T071928Z
LAST-MODIFIED:20230208T072720Z
UID:25676-1642323600-1642327200@stuttgarti-katolikusok.de
SUMMARY:Ludwigsburg
DESCRIPTION:
URL:https://stuttgarti-katolikusok.de/index.php/esemeny/ludwigsburg-2/
LOCATION:Baden-Württemberg
CATEGORIES:Szentmisék helye és ideje
END:VEVENT
END:VCALENDAR