BEGIN:VCALENDAR
VERSION:2.0
PRODID:-//Stuttgarti Katolikusok - ECPv6.15.20//NONSGML v1.0//EN
CALSCALE:GREGORIAN
METHOD:PUBLISH
X-WR-CALNAME:Stuttgarti Katolikusok
X-ORIGINAL-URL:https://stuttgarti-katolikusok.de
X-WR-CALDESC:Események Stuttgarti Katolikusok
REFRESH-INTERVAL;VALUE=DURATION:PT1H
X-Robots-Tag:noindex
X-PUBLISHED-TTL:PT1H
BEGIN:VTIMEZONE
TZID:Europe/Berlin
BEGIN:DAYLIGHT
TZOFFSETFROM:+0100
TZOFFSETTO:+0200
TZNAME:CEST
DTSTART:20230326T010000
END:DAYLIGHT
BEGIN:STANDARD
TZOFFSETFROM:+0200
TZOFFSETTO:+0100
TZNAME:CET
DTSTART:20231029T010000
END:STANDARD
BEGIN:DAYLIGHT
TZOFFSETFROM:+0100
TZOFFSETTO:+0200
TZNAME:CEST
DTSTART:20240331T010000
END:DAYLIGHT
BEGIN:STANDARD
TZOFFSETFROM:+0200
TZOFFSETTO:+0100
TZNAME:CET
DTSTART:20241027T010000
END:STANDARD
BEGIN:DAYLIGHT
TZOFFSETFROM:+0100
TZOFFSETTO:+0200
TZNAME:CEST
DTSTART:20250330T010000
END:DAYLIGHT
BEGIN:STANDARD
TZOFFSETFROM:+0200
TZOFFSETTO:+0100
TZNAME:CET
DTSTART:20251026T010000
END:STANDARD
END:VTIMEZONE
BEGIN:VEVENT
DTSTART;TZID=Europe/Berlin:20240401T093000
DTEND;TZID=Europe/Berlin:20240401T103000
DTSTAMP:20260423T122910
CREATED:20240324T233953Z
LAST-MODIFIED:20240324T233953Z
UID:28600-1711963800-1711967400@stuttgarti-katolikusok.de
SUMMARY:Húsvéthétfő Stuttgartban
DESCRIPTION: * \nÁprilis 1-jén\, Húsvéthétfő\, Stuttgartban 9.30 órakor német-magyar nyelvű szentmise. \nMindenkit szeretettel vár a közösség és Tibor atya! \n* \n \n* \nKegyelemteljes Húsvétot kívánunk minden Kedves Hívünknek! \n* \n„A Húsvét a legnagyobb mélységeket és legnagyobb magasságokat megélő ünnepünk.” (Jókai Anna – költőnő – 1932-2017) \n(Képek forrása: Pixabay.com)
URL:https://stuttgarti-katolikusok.de/index.php/esemeny/husvethetfo-stuttgartban-2/
LOCATION:Bruder Klaus Kirche\, Albert-Schäffle-Straße 30\, Stuttgart\, Baden-Württemberg\, 70186\, Németország
CATEGORIES:Szentmise
ATTACH;FMTTYPE=image/jpeg:https://stuttgarti-katolikusok.de/wp-content/uploads/2015/12/013__2_klaus.jpg
END:VEVENT
BEGIN:VEVENT
DTSTART;TZID=Europe/Berlin:20240401T120000
DTEND;TZID=Europe/Berlin:20240401T130000
DTSTAMP:20260423T122910
CREATED:20240324T234311Z
LAST-MODIFIED:20240324T234311Z
UID:28602-1711972800-1711976400@stuttgarti-katolikusok.de
SUMMARY:Húsvét ünnepe Ulmban
DESCRIPTION: * \nÁprilis 1-jén\, Húsvéthétfő\,  Ulmban 12.00 órakor ünnepi szentmise.  \nMindenkit szeretettel vár a közösség és Tibor atya! \n* \n \n* \nKegyelemteljes Húsvétot kívánunk minden Kedves Hívünknek! \n* \n„A Húsvét a legnagyobb mélységeket és legnagyobb magasságokat megélő ünnepünk.” (Jókai Anna – költőnő – 1932-2017) \n(Képek forrása: Pixabay.com)
URL:https://stuttgarti-katolikusok.de/index.php/esemeny/husvet-unnepe-ulmban-2/
LOCATION:St. Michael zu den Wengen\, Wengengasse 6\, Ulm\, Baden-Württemberg\, 89073\, Németország
CATEGORIES:Szentmise
ATTACH;FMTTYPE=image/jpeg:https://stuttgarti-katolikusok.de/wp-content/uploads/2015/12/Wengenkirche1-e1483916551260.jpg
END:VEVENT
BEGIN:VEVENT
DTSTART;TZID=Europe/Berlin:20240401T163000
DTEND;TZID=Europe/Berlin:20240401T173000
DTSTAMP:20260423T122910
CREATED:20240324T234634Z
LAST-MODIFIED:20240324T234634Z
UID:28604-1711989000-1711992600@stuttgarti-katolikusok.de
SUMMARY:Húsvét ünnepe Reutlingenben
DESCRIPTION:* \nÁprilis 1-jén\, Húsvéthétfő\, Reutlingenben  16.30 órakor ünnepi szentmise. \nMindenkit szeretettel vár a közösség és Tibor atya! \n* \n \n* \nKegyelemteljes Húsvétot kívánunk minden Kedves Hívünknek! \n* \n„A Húsvét a legnagyobb mélységeket és legnagyobb magasságokat megélő ünnepünk.” (Jókai Anna – költőnő – 1932-2017) \n(Kép forrása: Pixabay.com)
URL:https://stuttgarti-katolikusok.de/index.php/esemeny/husvet-unnepe-reutlingenben/
LOCATION:St. Andreas Kirche\, Nürnberger Str. 184\, Reutlingen-Orschel-Hagen\, Baden-Württemberg\, 72760\, Németország
CATEGORIES:Szentmise
ATTACH;FMTTYPE=image/jpeg:https://stuttgarti-katolikusok.de/wp-content/uploads/2015/12/Reutlingen.jpg
END:VEVENT
BEGIN:VEVENT
DTSTART;TZID=Europe/Berlin:20240406T160000
DTEND;TZID=Europe/Berlin:20240406T180000
DTSTAMP:20260423T122910
CREATED:20240402T202843Z
LAST-MODIFIED:20240402T202853Z
UID:28732-1712419200-1712426400@stuttgarti-katolikusok.de
SUMMARY:Szentmise Balingenben
DESCRIPTION: * \n \n * \nÁprilis 6-án\, szombaton\, Balingenben 16.00 órakor szentmise\, ezt követően agapé. \nMindenkit szeretettel vár a közösség és Tibor atya! \n* \nKegyelemteljes Húsvétot kívánunk minden Kedves Hívünknek! \n* \n„A Húsvét a legnagyobb mélységeket és legnagyobb magasságokat megélő ünnepünk.” (Jókai Anna – költőnő – 1932-2017) \n(Húsvéti gyertya –  Ulm)
URL:https://stuttgarti-katolikusok.de/index.php/esemeny/szentmise-balingenben-9/
LOCATION:Sankt Paulus Kirche\, St. Paulus Str. 2\, Balingen-Frommern\, Baden-Württemberg\, 72336\, Németország
CATEGORIES:Szentmise
ATTACH;FMTTYPE=image/jpeg:https://stuttgarti-katolikusok.de/wp-content/uploads/2018/04/20180505_163840-e1764632638620.jpg
END:VEVENT
BEGIN:VEVENT
DTSTART;TZID=Europe/Berlin:20240407T093000
DTEND;TZID=Europe/Berlin:20240407T113000
DTSTAMP:20260423T122910
CREATED:20240402T203414Z
LAST-MODIFIED:20240402T203414Z
UID:28734-1712482200-1712489400@stuttgarti-katolikusok.de
SUMMARY:Szentmise Schwäbisch-Gmündben
DESCRIPTION: * \n \n * \nÁprilis 7-én\, Fehérvasárnap\, Isteni irgalmasság vasárnapja\, Schwäbisch-Gmündben\, 9.30 órakor szentmise\, utána agapé. \nMindenkit szeretettel vár a közösség és Tibor atya! \n* \nKegyelemteljes Húsvétot kívánunk minden Kedves Hívünknek! \n* \n„A Húsvét a legnagyobb mélységeket és legnagyobb magasságokat megélő ünnepünk.” (Jókai Anna – költőnő – 1932-2017) \n(Húsvéti gyertya – Ulm)
URL:https://stuttgarti-katolikusok.de/index.php/esemeny/szentmise-schwabisch-gmundben-11/
LOCATION:Sankt Franziskus Kirche\, Franziskaner Str. 3\, Schwäbisch-Gmünd\, Baden-Württemberg\, 73525\, Németország
CATEGORIES:Szentmise
ATTACH;FMTTYPE=image/jpeg:https://stuttgarti-katolikusok.de/wp-content/uploads/2018/03/st-franziskus-schw-gmund.jpg
END:VEVENT
BEGIN:VEVENT
DTSTART;TZID=Europe/Berlin:20240407T150000
DTEND;TZID=Europe/Berlin:20240407T180000
DTSTAMP:20260423T122910
CREATED:20240402T203900Z
LAST-MODIFIED:20240402T203900Z
UID:28737-1712502000-1712512800@stuttgarti-katolikusok.de
SUMMARY:Szentmise Stuttgartban
DESCRIPTION:* \n \n * \nÁprilis 7-én\, Fehérvasárnap\, Isteni irgalmasság vasárnapja\, Stuttgartban 15.00 órakor szentmise\, gyermek-istentisztelet\, utána agapé. Az elsőáldozásra készülő gyermekek számára felkészítő is lesz. \nMindenkit szeretettel vár a közösség és Tibor atya! \n* \nKegyelemteljes Húsvétot kívánunk minden Kedves Hívünknek! \n* \n„A Húsvét a legnagyobb mélységeket és legnagyobb magasságokat megélő ünnepünk.” (Jókai Anna – költőnő – 1932-2017) \n(Húsvéti gyertya – Ulm)
URL:https://stuttgarti-katolikusok.de/index.php/esemeny/szentmise-stuttgartban-14/
LOCATION:Bruder Klaus Kirche\, Albert-Schäffle-Straße 30\, Stuttgart\, Baden-Württemberg\, 70186\, Németország
CATEGORIES:Szentmise
ATTACH;FMTTYPE=image/jpeg:https://stuttgarti-katolikusok.de/wp-content/uploads/2015/12/013__2_klaus.jpg
END:VEVENT
BEGIN:VEVENT
DTSTART;TZID=Europe/Berlin:20240412T173000
DTEND;TZID=Europe/Berlin:20240412T190000
DTSTAMP:20260423T122910
CREATED:20240408T125523Z
LAST-MODIFIED:20240408T125523Z
UID:28748-1712943000-1712948400@stuttgarti-katolikusok.de
SUMMARY:Stuttgarti délután
DESCRIPTION:Április 12-én\, pénteken\, Stuttgarti délután\, 18.00 órakor szentmise\, előtte rózsafüzért imádkozunk. \nMindenkit szeretettel vár a közösség és Tibor atya! \n* \n \n(Eislingen – XV. állomás Krisztus feltámadása) \n* \nKegyelemteljes húsvéti napokat\, tartalmas beszélgetéseket és örömteli találkozásokat kívánunk minden Kedves Hívünknek! \n* \n„Isten Országában megszűnnek az egyén határvonalai. Mindazt\, amit eddig csak tükör által homályosan találgattunk\, immár látni és tudni fogjuk. Isten a világ lényegének az állandósága nem zaj\, hanem Csend.” (Csermely Péter – kutató\, biokémikus – 1958 -) \n *
URL:https://stuttgarti-katolikusok.de/index.php/esemeny/stuttgarti-delutan-40/
LOCATION:Bruder Klaus Kirche\, Albert-Schäffle-Straße 30\, Stuttgart\, Baden-Württemberg\, 70186\, Németország
CATEGORIES:Stuttgarti délután
ATTACH;FMTTYPE=image/jpeg:https://stuttgarti-katolikusok.de/wp-content/uploads/2015/12/013__2_klaus.jpg
END:VEVENT
BEGIN:VEVENT
DTSTART;TZID=Europe/Berlin:20240413T164500
DTEND;TZID=Europe/Berlin:20240413T190000
DTSTAMP:20260423T122911
CREATED:20240408T125756Z
LAST-MODIFIED:20240408T125756Z
UID:28750-1713026700-1713034800@stuttgarti-katolikusok.de
SUMMARY:Szentmise Biberachban
DESCRIPTION:Április 13-án\, szombaton\, Biberachban 16.45 órakor szentmise\, utána agapé. A szentmise keretében közösségünk legidősebb tagját\, Schlachter Feri bácsit köszöntjük 100. születésnapja alkalmából. \nMindenkit szeretettel vár a közösség és Tibor atya! \n* \n \n(Eislingen – XV. állomás Krisztus feltámadása) \n* \nKegyelemteljes húsvéti napokat\, tartalmas beszélgetéseket és örömteli találkozásokat kívánunk minden Kedves Hívünknek! \n* \n„Isten Országában megszűnnek az egyén határvonalai. Mindazt\, amit eddig csak tükör által homályosan találgattunk\, immár látni és tudni fogjuk. Isten a világ lényegének az állandósága nem zaj\, hanem Csend.” (Csermely Péter – kutató\, biokémikus – 1958 -) \n *
URL:https://stuttgarti-katolikusok.de/index.php/esemeny/szentmise-biberachban-11/
LOCATION:Dreifaltigkeitskirche Biberach\, Mittelbergstr. 29\, Biberach an der Riß\, Baden Württemberg\, 88400\, Németország
CATEGORIES:Szentmise
ATTACH;FMTTYPE=image/jpeg:https://stuttgarti-katolikusok.de/wp-content/uploads/2023/03/csm-dreifaltigkeitskirche-7285105d03.jpg
END:VEVENT
BEGIN:VEVENT
DTSTART;TZID=Europe/Berlin:20240414T100000
DTEND;TZID=Europe/Berlin:20240414T120000
DTSTAMP:20260423T122911
CREATED:20240408T130619Z
LAST-MODIFIED:20240408T130619Z
UID:28752-1713088800-1713096000@stuttgarti-katolikusok.de
SUMMARY:Szentmise Weingartenben
DESCRIPTION:Április 14-én\, Húsvét 3. vasárnapja\, Weingartenben 10.00 órakor szentmise a 14 Nothelfer Kapelle-ben\, utána agapé. \nMindenkit szeretettel vár a közösség és Tibor atya! \n* \n \n(Eislingen – XV. állomás Krisztus feltámadása) \n* \nKegyelemteljes húsvéti napokat\, tartalmas beszélgetéseket és örömteli találkozásokat kívánunk minden Kedves Hívünknek! \n* \n„Isten Országában megszűnnek az egyén határvonalai. Mindazt\, amit eddig csak tükör által homályosan találgattunk\, immár látni és tudni fogjuk. Isten a világ lényegének az állandósága nem zaj\, hanem Csend.” (Csermely Péter – kutató\, biokémikus – 1958 -) \n *
URL:https://stuttgarti-katolikusok.de/index.php/esemeny/szentmise-weingartenben-13/
LOCATION:14 Nothelfer  Kapelle\, Ravensburger Str. 39\, Weingarten\, Baden-Württemberg\, 88250\, Németország
CATEGORIES:Szentmise
ATTACH;FMTTYPE=image/jpeg:https://stuttgarti-katolikusok.de/wp-content/uploads/2015/12/Weingarten_Kapelle_14_Nothelfer.jpg
END:VEVENT
BEGIN:VEVENT
DTSTART;TZID=Europe/Berlin:20240414T150000
DTEND;TZID=Europe/Berlin:20240414T170000
DTSTAMP:20260423T122911
CREATED:20240408T130843Z
LAST-MODIFIED:20240408T130843Z
UID:28754-1713106800-1713114000@stuttgarti-katolikusok.de
SUMMARY:Szentmise Ulmban
DESCRIPTION:Április 14-én\, Húsvét 3. vasárnapja\, Ulmban 15.00 órakor szentmise\, utána agapé. \nMindenkit szeretettel vár a közösség és Tibor atya! \n* \n \n(Eislingen – XV. állomás Krisztus feltámadása) \n* \nKegyelemteljes húsvéti napokat\, tartalmas beszélgetéseket és örömteli találkozásokat kívánunk minden Kedves Hívünknek! \n* \n„Isten Országában megszűnnek az egyén határvonalai. Mindazt\, amit eddig csak tükör által homályosan találgattunk\, immár látni és tudni fogjuk. Isten a világ lényegének az állandósága nem zaj\, hanem Csend.” (Csermely Péter – kutató\, biokémikus – 1958 -) \n *
URL:https://stuttgarti-katolikusok.de/index.php/esemeny/szentmise-ulmban-9/
LOCATION:St. Michael zu den Wengen\, Wengengasse 6\, Ulm\, Baden-Württemberg\, 89073\, Németország
CATEGORIES:Szentmise
ATTACH;FMTTYPE=image/jpeg:https://stuttgarti-katolikusok.de/wp-content/uploads/2015/12/Wengenkirche1-e1483916551260.jpg
END:VEVENT
BEGIN:VEVENT
DTSTART;TZID=Europe/Berlin:20240418T173000
DTEND;TZID=Europe/Berlin:20240418T190000
DTSTAMP:20260423T122911
CREATED:20240415T215849Z
LAST-MODIFIED:20240415T215947Z
UID:28775-1713461400-1713466800@stuttgarti-katolikusok.de
SUMMARY:Weingarteni délután
DESCRIPTION:* \nÁprilis 18-án\, csütörtökön\, Weingarteni délután\, a 14 Nothelfer Kapelle-ben\, 17.30 órakor rózsafüzért imádkozunk\, ezt követően 18.00 órakor szentmise\, keretében katekézis. \nMindenkit szeretettel vár a közösség és Tibor atya! \n* \n \n* \nKegyelemteljes húsvéti napokat\, tartalmas beszélgetéseket és örömteli találkozásokat kívánunk minden Kedves Hívünknek! \n* \n„Hűség és bátorság csak olyan emberek körében tanyázik\, akik tiszta lelkiismerettel vannak egymás iránt: akiknek mosolyába nincs kés göngyölve\, szavaik pedig nem arra valók\, hogy a szándékaikat eltitkolják velük.” (Sütő András\, író 1927 – 2006) \n(Kép forrása: Pixabay)
URL:https://stuttgarti-katolikusok.de/index.php/esemeny/weingarteni-delutan-12/
LOCATION:14 Nothelfer  Kapelle\, Ravensburger Str. 39\, Weingarten\, Baden-Württemberg\, 88250\, Németország
CATEGORIES:Weingarteni délután
ATTACH;FMTTYPE=image/jpeg:https://stuttgarti-katolikusok.de/wp-content/uploads/2015/12/Weingarten_Kapelle_14_Nothelfer.jpg
END:VEVENT
BEGIN:VEVENT
DTSTART;TZID=Europe/Berlin:20240419T173000
DTEND;TZID=Europe/Berlin:20240419T203000
DTSTAMP:20260423T122911
CREATED:20240415T220310Z
LAST-MODIFIED:20240415T220310Z
UID:28778-1713547800-1713558600@stuttgarti-katolikusok.de
SUMMARY:Stuttgarti délután
DESCRIPTION: * \nÁprilis 19-én\, pénteken\, Stuttgarti délután\,  \n17.30 órakor rózsafüzért imádkozunk\,  \n18.00 órakor szentmise\, \n18.30 órakor Barátságklub. \nmuzsak - 25024. 04.19\n * \nMindenkit szeretettel vár a közösség és Tibor atya! \n* \n \n* \nKegyelemteljes húsvéti napokat\, tartalmas beszélgetéseket és örömteli találkozásokat kívánunk minden Kedves Hívünknek! \n* \n„Hűség és bátorság csak olyan emberek körében tanyázik\, akik tiszta lelkiismerettel vannak egymás iránt: akiknek mosolyába nincs kés göngyölve\, szavaik pedig nem arra valók\, hogy a szándékaikat eltitkolják velük.” (Sütő András\, író 1927 – 2006) \n(Kép forrása: Pixabay)
URL:https://stuttgarti-katolikusok.de/index.php/esemeny/stuttgarti-delutan-41/
LOCATION:Bruder Klaus Kirche\, Albert-Schäffle-Straße 30\, Stuttgart\, Baden-Württemberg\, 70186\, Németország
CATEGORIES:Barátságklub,Stuttgarti délután
ATTACH;FMTTYPE=image/jpeg:https://stuttgarti-katolikusok.de/wp-content/uploads/2015/12/013__2_klaus.jpg
END:VEVENT
BEGIN:VEVENT
DTSTART;TZID=Europe/Berlin:20240420T153000
DTEND;TZID=Europe/Berlin:20240420T173000
DTSTAMP:20260423T122911
CREATED:20240415T220800Z
LAST-MODIFIED:20240415T221016Z
UID:28780-1713627000-1713634200@stuttgarti-katolikusok.de
SUMMARY:Szentmise Heidenheimban
DESCRIPTION: * \nHúsvét 4. vasárnapja – Hivatások világnapja \nÁprilis 20-án\, szombaton\, Heidenheimban 15.30 órakor szentmise\, ezt követően agapé. \nMindenkit szeretettel vár a közösség és Tibor atya! \n* \n \n* \nKegyelemteljes húsvéti napokat\, tartalmas beszélgetéseket és örömteli találkozásokat kívánunk minden Kedves Hívünknek! \n* \n„Hűség és bátorság csak olyan emberek körében tanyázik\, akik tiszta lelkiismerettel vannak egymás iránt: akiknek mosolyába nincs kés göngyölve\, szavaik pedig nem arra valók\, hogy a szándékaikat eltitkolják velük.” (Sütő András\, író 1927 – 2006) \n(Kép forrása: Pixabay)
URL:https://stuttgarti-katolikusok.de/index.php/esemeny/szentmise-heidenheimban-9/
LOCATION:Dreifaltigkeitskirche\, Verdi Str. 13\, Heidenheim an der Brenz\, Baden-Würtenberg\, 89518\, Németország
CATEGORIES:Szentmise
ATTACH;FMTTYPE=image/jpeg:https://stuttgarti-katolikusok.de/wp-content/uploads/2020/11/heidenheim1.jpg
END:VEVENT
BEGIN:VEVENT
DTSTART;TZID=Europe/Berlin:20240421T113000
DTEND;TZID=Europe/Berlin:20240421T123000
DTSTAMP:20260423T122911
CREATED:20240415T221419Z
LAST-MODIFIED:20240415T221419Z
UID:28786-1713699000-1713702600@stuttgarti-katolikusok.de
SUMMARY:Szentmise Stuttgartban
DESCRIPTION: * \nÁprilis 21-én\, Húsvét 4. vasárnapja – Hivatások világnapja\, Stuttgartban 11.30 órakor szentmise\, utána elsőáldozásra előkészítő. \nMindenkit szeretettel vár a közösség és Tibor atya! \n* \n \n* \nKegyelemteljes húsvéti napokat\, tartalmas beszélgetéseket és örömteli találkozásokat kívánunk minden Kedves Hívünknek! \n* \n„Hűség és bátorság csak olyan emberek körében tanyázik\, akik tiszta lelkiismerettel vannak egymás iránt: akiknek mosolyába nincs kés göngyölve\, szavaik pedig nem arra valók\, hogy a szándékaikat eltitkolják velük.” (Sütő András\, író 1927 – 2006) \n(Kép forrása: Pixabay)
URL:https://stuttgarti-katolikusok.de/index.php/esemeny/szentmise-stuttgartban-15/
LOCATION:Bruder Klaus Kirche\, Albert-Schäffle-Straße 30\, Stuttgart\, Baden-Württemberg\, 70186\, Németország
CATEGORIES:Szentmise
ATTACH;FMTTYPE=image/jpeg:https://stuttgarti-katolikusok.de/wp-content/uploads/2015/12/013__2_klaus.jpg
END:VEVENT
BEGIN:VEVENT
DTSTART;TZID=Europe/Berlin:20240421T153000
DTEND;TZID=Europe/Berlin:20240421T180000
DTSTAMP:20260423T122911
CREATED:20240415T221756Z
LAST-MODIFIED:20240415T221916Z
UID:28788-1713713400-1713722400@stuttgarti-katolikusok.de
SUMMARY:Búcsús-szentmise Heilbronnban
DESCRIPTION: * \nÁprilis 21-én\, Húsvét 4. vasárnapja – Hivatások világnapja\, Heilbronnban 15.30 órakor búcsús-szentmise\, utána agapé. A közösség védőszentjét\, Szent Adalbert püspököt köszöntjük. \nMindenkit szeretettel vár a közösség és Tibor atya! \n \n* \n \n* \nKegyelemteljes húsvéti napokat\, tartalmas beszélgetéseket és örömteli találkozásokat kívánunk minden Kedves Hívünknek! \n* \n„Hűség és bátorság csak olyan emberek körében tanyázik\, akik tiszta lelkiismerettel vannak egymás iránt: akiknek mosolyába nincs kés göngyölve\, szavaik pedig nem arra valók\, hogy a szándékaikat eltitkolják velük.” (Sütő András\, író 1927 – 2006) \n(Kép forrása: Pixabay)
URL:https://stuttgarti-katolikusok.de/index.php/esemeny/bucsus-szentmise-heilbronnban-3/
LOCATION:Heilig Geist Kirche\, Heilbronner-Weg 17\, Heilbronn-Horkheim\, Baden-Württemberg\, 74081\, Németország
CATEGORIES:Szentmise
ATTACH;FMTTYPE=image/jpeg:https://stuttgarti-katolikusok.de/wp-content/uploads/2021/05/heiliggeist-aussenansicht.jpg
END:VEVENT
BEGIN:VEVENT
DTSTART;TZID=Europe/Berlin:20240426T173000
DTEND;TZID=Europe/Berlin:20240426T190000
DTSTAMP:20260423T122911
CREATED:20240422T200754Z
LAST-MODIFIED:20240422T200754Z
UID:28811-1714152600-1714158000@stuttgarti-katolikusok.de
SUMMARY:Stuttgarti délután
DESCRIPTION:* \nÁprilis 26-án\, pénteken\, Stuttgarti délután\, 17.30 órakor rózsafüzért imádkozunk\, utána 18.00 órakor szentmise. \nMindenkit szeretettel vár a közösség és Tibor atya! \n* \n \n* \nKegyelemteljes húsvéti napokat\, tartalmas beszélgetéseket és örömteli találkozásokat kívánunk minden Kedves Hívünknek! \n* \n„Isten azért teremtett minket és a világot\, mert szeret minket. \nMilyen szép és milyen nagyszerű\, hogy Istent megismerhetjük\, szerethetjük és őt szolgálhatjuk. \nEz a feladatunk ebben a világban. \nMinden más ezen kívül\, eltékozolt idő.” (Vianney Szent János\, 1786 – 1859) \n(Kép forrása: Pixabay)
URL:https://stuttgarti-katolikusok.de/index.php/esemeny/stuttgarti-delutan-42/
LOCATION:Bruder Klaus Kirche\, Albert-Schäffle-Straße 30\, Stuttgart\, Baden-Württemberg\, 70186\, Németország
CATEGORIES:Stuttgarti délután
ATTACH;FMTTYPE=image/jpeg:https://stuttgarti-katolikusok.de/wp-content/uploads/2015/12/013__2_klaus.jpg
END:VEVENT
BEGIN:VEVENT
DTSTART;TZID=Europe/Berlin:20240427T160000
DTEND;TZID=Europe/Berlin:20240427T180000
DTSTAMP:20260423T122911
CREATED:20240422T201035Z
LAST-MODIFIED:20240422T201155Z
UID:28813-1714233600-1714240800@stuttgarti-katolikusok.de
SUMMARY:Szentmise Tuttlingenben
DESCRIPTION:* \nHúsvét 5. vasárnapja \nÁprilis 27-én\, szombaton\, Tuttlingenben 16.00 órakor szentmise\, utána agapé. \nMindenkit szeretettel vár a közösség és Tibor atya! \n* \n \n* \nKegyelemteljes húsvéti napokat\, tartalmas beszélgetéseket és örömteli találkozásokat kívánunk minden Kedves Hívünknek! \n* \n„Isten azért teremtett minket és a világot\, mert szeret minket. \nMilyen szép és milyen nagyszerű\, hogy Istent megismerhetjük\, szerethetjük és őt szolgálhatjuk. \nEz a feladatunk ebben a világban. \nMinden más ezen kívül\, eltékozolt idő.” (Vianney Szent János\, 1786 – 1859) \n(Kép forrása: Pixabay)
URL:https://stuttgarti-katolikusok.de/index.php/esemeny/szentmise-tuttlingenben-11/
LOCATION:St. Gallus Kirche\, Guttenbergstrasse 9\, Tuttlingen\, Baden-Württemberg\, 78532\, Németország
CATEGORIES:Szentmise
ATTACH;FMTTYPE=image/jpeg:https://stuttgarti-katolikusok.de/wp-content/uploads/2021/05/sankt-gallus-tuttlingen-1.jpg
END:VEVENT
BEGIN:VEVENT
DTSTART;TZID=Europe/Berlin:20240428T093000
DTEND;TZID=Europe/Berlin:20240428T113000
DTSTAMP:20260423T122911
CREATED:20240422T201449Z
LAST-MODIFIED:20240422T201449Z
UID:28817-1714296600-1714303800@stuttgarti-katolikusok.de
SUMMARY:Szentmise Böblingenben
DESCRIPTION:* \nÁprilis 28-án\, Húsvét 5. vasárnapja\, Böblingenben 9.30 órakor szentmise\, utána agapé. \nMindenkit szeretettel vár a közösség és Tibor atya! \n* \n \n* \nKegyelemteljes húsvéti napokat\, tartalmas beszélgetéseket és örömteli találkozásokat kívánunk minden Kedves Hívünknek! \n* \n„Isten azért teremtett minket és a világot\, mert szeret minket. \nMilyen szép és milyen nagyszerű\, hogy Istent megismerhetjük\, szerethetjük és őt szolgálhatjuk. \nEz a feladatunk ebben a világban. \nMinden más ezen kívül\, eltékozolt idő.” (Vianney Szent János\, 1786 – 1859) \n(Kép forrása: Pixabay)
URL:https://stuttgarti-katolikusok.de/index.php/esemeny/szentmise-boblingenben-10/
LOCATION:St. Bonifatius Kirche\, Sindelfinger Str. 14\, Böblingen\, Baden-Württemberg\, 71032\, Németország
CATEGORIES:Szentmise
ATTACH;FMTTYPE=image/jpeg:https://stuttgarti-katolikusok.de/wp-content/uploads/2021/11/boblingen.jpeg
END:VEVENT
BEGIN:VEVENT
DTSTART;TZID=Europe/Berlin:20240428T150000
DTEND;TZID=Europe/Berlin:20240428T170000
DTSTAMP:20260423T122911
CREATED:20240422T201716Z
LAST-MODIFIED:20240422T201716Z
UID:28819-1714316400-1714323600@stuttgarti-katolikusok.de
SUMMARY:Szentmise Eislingenben
DESCRIPTION:* \nÁprilis 28-án\, Húsvét 5. vasárnapja\, Eislingenben 15.00 órakor szentmise\, utána agapé.  \nMindenkit szeretettel vár a közösség és Tibor atya! \n* \n \n* \nKegyelemteljes húsvéti napokat\, tartalmas beszélgetéseket és örömteli találkozásokat kívánunk minden Kedves Hívünknek! \n* \n„Isten azért teremtett minket és a világot\, mert szeret minket. \nMilyen szép és milyen nagyszerű\, hogy Istent megismerhetjük\, szerethetjük és őt szolgálhatjuk. \nEz a feladatunk ebben a világban. \nMinden más ezen kívül\, eltékozolt idő.” (Vianney Szent János\, 1786 – 1859) \n(Kép forrása: Pixabay)
URL:https://stuttgarti-katolikusok.de/index.php/esemeny/szentmise-eislingenben-11/
LOCATION:Liebfrauen-Kirche\, Eberhardt Str. 30\, Eislingen/Fils\, Baden-Württemberg\, 73054\, Németország
CATEGORIES:Szentmise
ATTACH;FMTTYPE=image/jpeg:https://stuttgarti-katolikusok.de/wp-content/uploads/2015/12/Eislingen.jpg
END:VEVENT
END:VCALENDAR