BEGIN:VCALENDAR
VERSION:2.0
PRODID:-//Stuttgarti Katolikusok - ECPv6.15.20//NONSGML v1.0//EN
CALSCALE:GREGORIAN
METHOD:PUBLISH
X-WR-CALNAME:Stuttgarti Katolikusok
X-ORIGINAL-URL:https://stuttgarti-katolikusok.de
X-WR-CALDESC:Események Stuttgarti Katolikusok
REFRESH-INTERVAL;VALUE=DURATION:PT1H
X-Robots-Tag:noindex
X-PUBLISHED-TTL:PT1H
BEGIN:VTIMEZONE
TZID:Europe/Berlin
BEGIN:DAYLIGHT
TZOFFSETFROM:+0100
TZOFFSETTO:+0200
TZNAME:CEST
DTSTART:20250330T010000
END:DAYLIGHT
BEGIN:STANDARD
TZOFFSETFROM:+0200
TZOFFSETTO:+0100
TZNAME:CET
DTSTART:20251026T010000
END:STANDARD
BEGIN:DAYLIGHT
TZOFFSETFROM:+0100
TZOFFSETTO:+0200
TZNAME:CEST
DTSTART:20260329T010000
END:DAYLIGHT
BEGIN:STANDARD
TZOFFSETFROM:+0200
TZOFFSETTO:+0100
TZNAME:CET
DTSTART:20261025T010000
END:STANDARD
BEGIN:DAYLIGHT
TZOFFSETFROM:+0100
TZOFFSETTO:+0200
TZNAME:CEST
DTSTART:20270328T010000
END:DAYLIGHT
BEGIN:STANDARD
TZOFFSETFROM:+0200
TZOFFSETTO:+0100
TZNAME:CET
DTSTART:20271031T010000
END:STANDARD
END:VTIMEZONE
BEGIN:VEVENT
DTSTART;TZID=Europe/Berlin:20260425T150000
DTEND;TZID=Europe/Berlin:20260425T170000
DTSTAMP:20260425T043006
CREATED:20260420T131452Z
LAST-MODIFIED:20260420T131452Z
UID:33159-1777129200-1777136400@stuttgarti-katolikusok.de
SUMMARY:Mustármagocska zene- és barkácskör
DESCRIPTION:* \nÁprilis 25-én\, szombaton\, Stuttgartban \n \n* \nMindenkit szeretettel vár a közösség és Bandean Andrea! \n* \n \n* \nKegyelemteljes húsvéti napokat\, tartalmas beszélgetéseket és örömteli találkozásokat kívánunk minden Kedves Hívünknek! \n* \n„Hűség és bátorság csak olyan emberek körében tanyázik\, akik tiszta lelkiismerettel vannak egymás iránt: akiknek mosolyába nincs kés göngyölve\, szavaik pedig nem arra valók\, hogy a szándékaikat eltitkolják velük.” (Sütő András\, író 1927 – 2006) \n(Kép forrása: Pixabay)
URL:https://stuttgarti-katolikusok.de/index.php/esemeny/mustarmagocska-zene-es-barkacskor-13/
LOCATION:Bruder Klaus Kirche\, Albert-Schäffle-Straße 30\, Stuttgart\, Baden-Württemberg\, 70186\, Németország
CATEGORIES:Mustármagocska zene- és barkácskör
ATTACH;FMTTYPE=image/jpeg:https://stuttgarti-katolikusok.de/wp-content/uploads/2015/12/013__2_klaus.jpg
END:VEVENT
BEGIN:VEVENT
DTSTART;TZID=Europe/Berlin:20260425T163000
DTEND;TZID=Europe/Berlin:20260425T190000
DTSTAMP:20260425T043006
CREATED:20260420T131839Z
LAST-MODIFIED:20260420T131839Z
UID:33161-1777134600-1777143600@stuttgarti-katolikusok.de
SUMMARY:Szentmise Reutlingenben
DESCRIPTION:* \nHúsvét 4. vasárnapja \nÁprilis 25-én\, szombaton\, Reutlingenben 16.30 órakor szentmise\, ezt követően agapé. \nMindenkit szeretettel vár a közösség és Tibor atya! \n* \n \n* \nKegyelemteljes húsvéti napokat\, tartalmas beszélgetéseket és örömteli találkozásokat kívánunk minden Kedves Hívünknek! \n* \n„Hűség és bátorság csak olyan emberek körében tanyázik\, akik tiszta lelkiismerettel vannak egymás iránt: akiknek mosolyába nincs kés göngyölve\, szavaik pedig nem arra valók\, hogy a szándékaikat eltitkolják velük.” (Sütő András\, író 1927 – 2006) \n(Kép forrása: Pixabay)
URL:https://stuttgarti-katolikusok.de/index.php/esemeny/szentmise-reutlingenben-8/
LOCATION:St. Andreas Kirche\, Nürnberger Str. 184\, Reutlingen-Orschel-Hagen\, Baden-Württemberg\, 72760\, Németország
CATEGORIES:Szentmise
ATTACH;FMTTYPE=image/jpeg:https://stuttgarti-katolikusok.de/wp-content/uploads/2015/12/Reutlingen.jpg
END:VEVENT
END:VCALENDAR