BEGIN:VCALENDAR
VERSION:2.0
PRODID:-//Stuttgarti Katolikusok - ECPv6.15.20//NONSGML v1.0//EN
CALSCALE:GREGORIAN
METHOD:PUBLISH
X-ORIGINAL-URL:https://stuttgarti-katolikusok.de
X-WR-CALDESC:Események Stuttgarti Katolikusok
REFRESH-INTERVAL;VALUE=DURATION:PT1H
X-Robots-Tag:noindex
X-PUBLISHED-TTL:PT1H
BEGIN:VTIMEZONE
TZID:Europe/Berlin
BEGIN:DAYLIGHT
TZOFFSETFROM:+0100
TZOFFSETTO:+0200
TZNAME:CEST
DTSTART:20230326T010000
END:DAYLIGHT
BEGIN:STANDARD
TZOFFSETFROM:+0200
TZOFFSETTO:+0100
TZNAME:CET
DTSTART:20231029T010000
END:STANDARD
BEGIN:DAYLIGHT
TZOFFSETFROM:+0100
TZOFFSETTO:+0200
TZNAME:CEST
DTSTART:20240331T010000
END:DAYLIGHT
BEGIN:STANDARD
TZOFFSETFROM:+0200
TZOFFSETTO:+0100
TZNAME:CET
DTSTART:20241027T010000
END:STANDARD
BEGIN:DAYLIGHT
TZOFFSETFROM:+0100
TZOFFSETTO:+0200
TZNAME:CEST
DTSTART:20250330T010000
END:DAYLIGHT
BEGIN:STANDARD
TZOFFSETFROM:+0200
TZOFFSETTO:+0100
TZNAME:CET
DTSTART:20251026T010000
END:STANDARD
END:VTIMEZONE
BEGIN:VEVENT
DTSTART;TZID=Europe/Berlin:20240908T100000
DTEND;TZID=Europe/Berlin:20240908T120000
DTSTAMP:20260424T022832
CREATED:20240903T082817Z
LAST-MODIFIED:20240903T082817Z
UID:29312-1725789600-1725796800@stuttgarti-katolikusok.de
SUMMARY:Szentmise Weingartenben
DESCRIPTION:* \nSzeptember 8-án\, Évközi 23. vasárnap\, Kisboldogasszony ünnepe\, Weingartenben 10.00 órakor szentmise a 14 Nothelfer Kapelle–ben\, utána agapé. \nMindenkit szeretettel vár a közösség és Tibor atya! \n* \n \n* \nKegyelemteljes napokat\, tartalmas beszélgetéseket és örömteli találkozásokat kívánunk minden Kedves Hívünknek! \n* \nMAGADNAK TEREMTETTÉL\, URAM \nÓ\, Istenem\, a magad számára teremtettél engem\, \nhogy a magam módján szolgáljak neked. \nHa beteg vagyok\, Uram\, szolgáljon téged betegségem\, \nha szorongatások vesznek körül\, szolgáljanak azok téged. \nAdhatsz nekem rövid vagy hosszú életet – \nTe tudod\, mire van szükségem\, \nTe tudod mindig mindenben\, mire lesz jó. \nÉn tehát neked adom és teljesen rád bízom magamat. \nBölcsebb vagy nálam és jobban szeretsz engem\, mint én magamat. \nNe engedj a saját utaimon járni\, Uram\, \nanélkül\, hogy rád gondolnék! \nEngedd\, hogy mindent elviseljek érted! \nMinden szándékomhoz a Te beleegyezésedet kérem\, \nés minden cselekvésemhez a Te áldásodat. \nMiként a napóra a Nap szerint igazodik\, \núgy akarok én igazodni utánad. \nFogadj el és vezess engem!
URL:https://stuttgarti-katolikusok.de/index.php/esemeny/szentmise-weingartenben-17/
LOCATION:14 Nothelfer  Kapelle\, Ravensburger Str. 39\, Weingarten\, Baden-Württemberg\, 88250\, Németország
CATEGORIES:Szentmise
ATTACH;FMTTYPE=image/jpeg:https://stuttgarti-katolikusok.de/wp-content/uploads/2015/12/Weingarten_Kapelle_14_Nothelfer.jpg
END:VEVENT
BEGIN:VEVENT
DTSTART;TZID=Europe/Berlin:20240908T150000
DTEND;TZID=Europe/Berlin:20240908T170000
DTSTAMP:20260424T022832
CREATED:20240903T083110Z
LAST-MODIFIED:20240903T083110Z
UID:29314-1725807600-1725814800@stuttgarti-katolikusok.de
SUMMARY:Szentmise Ulmban
DESCRIPTION:* \nSzeptember 8-án\, Évközi 23. vasárnap\, Kisboldogasszony ünnepe\, Ulmban 15.00 órakor szentmise\, utána agapé. \nMindenkit szeretettel vár a közösség és Tibor atya! \n* \n \n* \nKegyelemteljes napokat\, tartalmas beszélgetéseket és örömteli találkozásokat kívánunk minden Kedves Hívünknek! \n* \nMAGADNAK TEREMTETTÉL\, URAM \nÓ\, Istenem\, a magad számára teremtettél engem\, \nhogy a magam módján szolgáljak neked. \nHa beteg vagyok\, Uram\, szolgáljon téged betegségem\, \nha szorongatások vesznek körül\, szolgáljanak azok téged. \nAdhatsz nekem rövid vagy hosszú életet – \nTe tudod\, mire van szükségem\, \nTe tudod mindig mindenben\, mire lesz jó. \nÉn tehát neked adom és teljesen rád bízom magamat. \nBölcsebb vagy nálam és jobban szeretsz engem\, mint én magamat. \nNe engedj a saját utaimon járni\, Uram\, \nanélkül\, hogy rád gondolnék! \nEngedd\, hogy mindent elviseljek érted! \nMinden szándékomhoz a Te beleegyezésedet kérem\, \nés minden cselekvésemhez a Te áldásodat. \nMiként a napóra a Nap szerint igazodik\, \núgy akarok én igazodni utánad. \nFogadj el és vezess engem!
URL:https://stuttgarti-katolikusok.de/index.php/esemeny/szentmise-ulmban-12/
LOCATION:St. Michael zu den Wengen\, Wengengasse 6\, Ulm\, Baden-Württemberg\, 89073\, Németország
CATEGORIES:Szentmise
ATTACH;FMTTYPE=image/jpeg:https://stuttgarti-katolikusok.de/wp-content/uploads/2015/12/Wengenkirche1-e1483916551260.jpg
END:VEVENT
END:VCALENDAR