BEGIN:VCALENDAR
VERSION:2.0
PRODID:-//Stuttgarti Katolikusok - ECPv6.15.20//NONSGML v1.0//EN
CALSCALE:GREGORIAN
METHOD:PUBLISH
X-WR-CALNAME:Stuttgarti Katolikusok
X-ORIGINAL-URL:https://stuttgarti-katolikusok.de
X-WR-CALDESC:Események Stuttgarti Katolikusok
REFRESH-INTERVAL;VALUE=DURATION:PT1H
X-Robots-Tag:noindex
X-PUBLISHED-TTL:PT1H
BEGIN:VTIMEZONE
TZID:Europe/Berlin
BEGIN:DAYLIGHT
TZOFFSETFROM:+0100
TZOFFSETTO:+0200
TZNAME:CEST
DTSTART:20230326T010000
END:DAYLIGHT
BEGIN:STANDARD
TZOFFSETFROM:+0200
TZOFFSETTO:+0100
TZNAME:CET
DTSTART:20231029T010000
END:STANDARD
BEGIN:DAYLIGHT
TZOFFSETFROM:+0100
TZOFFSETTO:+0200
TZNAME:CEST
DTSTART:20240331T010000
END:DAYLIGHT
BEGIN:STANDARD
TZOFFSETFROM:+0200
TZOFFSETTO:+0100
TZNAME:CET
DTSTART:20241027T010000
END:STANDARD
BEGIN:DAYLIGHT
TZOFFSETFROM:+0100
TZOFFSETTO:+0200
TZNAME:CEST
DTSTART:20250330T010000
END:DAYLIGHT
BEGIN:STANDARD
TZOFFSETFROM:+0200
TZOFFSETTO:+0100
TZNAME:CET
DTSTART:20251026T010000
END:STANDARD
END:VTIMEZONE
BEGIN:VEVENT
DTSTART;TZID=Europe/Berlin:20240906T173000
DTEND;TZID=Europe/Berlin:20240906T190000
DTSTAMP:20260423T214617
CREATED:20240903T081923Z
LAST-MODIFIED:20240903T081923Z
UID:29308-1725643800-1725649200@stuttgarti-katolikusok.de
SUMMARY:Stuttgarti délután
DESCRIPTION:* \nSzeptember 6-án\, pénteken\, Stuttgarti délután\, 18.00 órakor szentmise\, előtte rózsafüzért imádkozunk. Egyben elsőpéntek\, szentmise végén elsőpénteki ájtatosság. \nMindenkit szeretettel vár a közösség és Tibor atya! \n* \n \n* \nKegyelemteljes napokat\, tartalmas beszélgetéseket és örömteli találkozásokat kívánunk minden Kedves Hívünknek! \n* \nMAGADNAK TEREMTETTÉL\, URAM \nÓ\, Istenem\, a magad számára teremtettél engem\, \nhogy a magam módján szolgáljak neked. \nHa beteg vagyok\, Uram\, szolgáljon téged betegségem\, \nha szorongatások vesznek körül\, szolgáljanak azok téged. \nAdhatsz nekem rövid vagy hosszú életet – \nTe tudod\, mire van szükségem\, \nTe tudod mindig mindenben\, mire lesz jó. \nÉn tehát neked adom és teljesen rád bízom magamat. \nBölcsebb vagy nálam és jobban szeretsz engem\, mint én magamat. \nNe engedj a saját utaimon járni\, Uram\, \nanélkül\, hogy rád gondolnék! \nEngedd\, hogy mindent elviseljek érted! \nMinden szándékomhoz a Te beleegyezésedet kérem\, \nés minden cselekvésemhez a Te áldásodat. \nMiként a napóra a Nap szerint igazodik\, \núgy akarok én igazodni utánad. \nFogadj el és vezess engem!
URL:https://stuttgarti-katolikusok.de/index.php/esemeny/stuttgarti-delutan-52/
LOCATION:Bruder Klaus Kirche\, Albert-Schäffle-Straße 30\, Stuttgart\, Baden-Württemberg\, 70186\, Németország
CATEGORIES:Stuttgarti délután
ATTACH;FMTTYPE=image/jpeg:https://stuttgarti-katolikusok.de/wp-content/uploads/2015/12/013__2_klaus.jpg
END:VEVENT
END:VCALENDAR