BEGIN:VCALENDAR
VERSION:2.0
PRODID:-//Stuttgarti Katolikusok - ECPv6.15.20//NONSGML v1.0//EN
CALSCALE:GREGORIAN
METHOD:PUBLISH
X-WR-CALNAME:Stuttgarti Katolikusok
X-ORIGINAL-URL:https://stuttgarti-katolikusok.de
X-WR-CALDESC:Események Stuttgarti Katolikusok
REFRESH-INTERVAL;VALUE=DURATION:PT1H
X-Robots-Tag:noindex
X-PUBLISHED-TTL:PT1H
BEGIN:VTIMEZONE
TZID:Europe/Berlin
BEGIN:DAYLIGHT
TZOFFSETFROM:+0100
TZOFFSETTO:+0200
TZNAME:CEST
DTSTART:20230326T010000
END:DAYLIGHT
BEGIN:STANDARD
TZOFFSETFROM:+0200
TZOFFSETTO:+0100
TZNAME:CET
DTSTART:20231029T010000
END:STANDARD
BEGIN:DAYLIGHT
TZOFFSETFROM:+0100
TZOFFSETTO:+0200
TZNAME:CEST
DTSTART:20240331T010000
END:DAYLIGHT
BEGIN:STANDARD
TZOFFSETFROM:+0200
TZOFFSETTO:+0100
TZNAME:CET
DTSTART:20241027T010000
END:STANDARD
BEGIN:DAYLIGHT
TZOFFSETFROM:+0100
TZOFFSETTO:+0200
TZNAME:CEST
DTSTART:20250330T010000
END:DAYLIGHT
BEGIN:STANDARD
TZOFFSETFROM:+0200
TZOFFSETTO:+0100
TZNAME:CET
DTSTART:20251026T010000
END:STANDARD
END:VTIMEZONE
BEGIN:VEVENT
DTSTART;TZID=Europe/Berlin:20240621T173000
DTEND;TZID=Europe/Berlin:20240621T190000
DTSTAMP:20260423T153540
CREATED:20240617T232336Z
LAST-MODIFIED:20240617T232336Z
UID:29113-1718991000-1718996400@stuttgarti-katolikusok.de
SUMMARY:Stuttgarti délután
DESCRIPTION:* \nJúnius 21-én\, pénteken\, Stuttgarti délután\, 17.30 órakor rózsafüzért imádkozunk\, 18.00 órakor szentmise\, keretében katekézis.  \nMindenkit szeretettel vár a közösség és Tibor atya! \n* \n \n* \nKegyelemteljes napokat\, tartalmas beszélgetéseket és örömteli találkozásokat kívánunk minden Kedves Hívünknek! \n* \n„A jó Isten eddig is gondoskodott\, ezután sem fog elhagyni… Életem nem önálló érték\, csak amennyiben Neki használhat még. Ha igen\, Ő fenntartja; ha nem kívánja megtartani\, az annak a jele\, hogy már nem óhajtja szolgálatomat. Ez esetben nekem is jobb Nála. Áldott legyen szent neve mindenért… Örök elvek szerint éljenek. Mindenkivel találkozni óhajtok Otthon. Csak azért érdemes élni.” (Boldog Scheffler János – szatmári püspök – 1887 – 1952)
URL:https://stuttgarti-katolikusok.de/index.php/esemeny/stuttgarti-delutan-50/
LOCATION:Bruder Klaus Kirche\, Albert-Schäffle-Straße 30\, Stuttgart\, Baden-Württemberg\, 70186\, Németország
CATEGORIES:Stuttgarti délután
ATTACH;FMTTYPE=image/jpeg:https://stuttgarti-katolikusok.de/wp-content/uploads/2015/12/013__2_klaus.jpg
END:VEVENT
END:VCALENDAR