BEGIN:VCALENDAR
VERSION:2.0
PRODID:-//Stuttgarti Katolikusok - ECPv6.15.20//NONSGML v1.0//EN
CALSCALE:GREGORIAN
METHOD:PUBLISH
X-WR-CALNAME:Stuttgarti Katolikusok
X-ORIGINAL-URL:https://stuttgarti-katolikusok.de
X-WR-CALDESC:Események Stuttgarti Katolikusok
REFRESH-INTERVAL;VALUE=DURATION:PT1H
X-Robots-Tag:noindex
X-PUBLISHED-TTL:PT1H
BEGIN:VTIMEZONE
TZID:Europe/Berlin
BEGIN:DAYLIGHT
TZOFFSETFROM:+0100
TZOFFSETTO:+0200
TZNAME:CEST
DTSTART:20230326T010000
END:DAYLIGHT
BEGIN:STANDARD
TZOFFSETFROM:+0200
TZOFFSETTO:+0100
TZNAME:CET
DTSTART:20231029T010000
END:STANDARD
BEGIN:DAYLIGHT
TZOFFSETFROM:+0100
TZOFFSETTO:+0200
TZNAME:CEST
DTSTART:20240331T010000
END:DAYLIGHT
BEGIN:STANDARD
TZOFFSETFROM:+0200
TZOFFSETTO:+0100
TZNAME:CET
DTSTART:20241027T010000
END:STANDARD
BEGIN:DAYLIGHT
TZOFFSETFROM:+0100
TZOFFSETTO:+0200
TZNAME:CEST
DTSTART:20250330T010000
END:DAYLIGHT
BEGIN:STANDARD
TZOFFSETFROM:+0200
TZOFFSETTO:+0100
TZNAME:CET
DTSTART:20251026T010000
END:STANDARD
END:VTIMEZONE
BEGIN:VEVENT
DTSTART;TZID=Europe/Berlin:20240616T113000
DTEND;TZID=Europe/Berlin:20240616T130000
DTSTAMP:20260423T153534
CREATED:20240610T133826Z
LAST-MODIFIED:20240610T133826Z
UID:29085-1718537400-1718542800@stuttgarti-katolikusok.de
SUMMARY:Elsőáldozási szentmise Stuttgartban
DESCRIPTION: * \nJúnius 16-án\, Évközi 11. vasárnap\, Stuttgartban 11.30 órakor szentmise\, keretében elsőáldozási ünnep. \nMindenkit szeretettel vár a közösség és Tibor atya! \n* \n \n  \n* \nKegyelemteljes napokat\, tartalmas beszélgetéseket és örömteli találkozásokat kívánunk minden Kedves Hívünknek! \n* \n„Nagy vagy te\, Uram\, Istenem\, \nminden dicséret téged illet! \nDicsőítenek mind az emberek\, \nteremtésed parányi művei. \nTe magad rendelted\, hogy így legyen: \nte teremtettél magad számára minket\, \nés nyugtalan mindvégig a szívünk\, \nmíg meg nem nyugszik benned\, Istenem.” \n(Szent Ágoston – hippói püspök\, egyházatya\, filozófus – 354 – 430)
URL:https://stuttgarti-katolikusok.de/index.php/esemeny/elsoaldozasi-szentmise-stuttgartban/
LOCATION:Bruder Klaus Kirche\, Albert-Schäffle-Straße 30\, Stuttgart\, Baden-Württemberg\, 70186\, Németország
CATEGORIES:Szentmise
ATTACH;FMTTYPE=image/jpeg:https://stuttgarti-katolikusok.de/wp-content/uploads/2015/12/013__2_klaus.jpg
END:VEVENT
BEGIN:VEVENT
DTSTART;TZID=Europe/Berlin:20240616T153000
DTEND;TZID=Europe/Berlin:20240616T173000
DTSTAMP:20260423T153534
CREATED:20240610T134311Z
LAST-MODIFIED:20240610T134311Z
UID:29088-1718551800-1718559000@stuttgarti-katolikusok.de
SUMMARY:Szentmise Heilbronnban
DESCRIPTION: * \nJúnius 16-án\, Évközi 11. vasárnap\, Heilbronnban 15.30 órakor szentmise\, utána agapé. \nMindenkit szeretettel vár a közösség és Tibor atya! \n* \n \n* \nKegyelemteljes napokat\, tartalmas beszélgetéseket és örömteli találkozásokat kívánunk minden Kedves Hívünknek! \n* \n„Nagy vagy te\, Uram\, Istenem\, \nminden dicséret téged illet! \nDicsőítenek mind az emberek\, \nteremtésed parányi művei. \nTe magad rendelted\, hogy így legyen: \nte teremtettél magad számára minket\, \nés nyugtalan mindvégig a szívünk\, \nmíg meg nem nyugszik benned\, Istenem.” \n(Szent Ágoston – hippói püspök\, egyházatya\, filozófus – 354 – 430)
URL:https://stuttgarti-katolikusok.de/index.php/esemeny/szentmise-heilbronnban-10/
LOCATION:Heilig Geist Kirche\, Heilbronner-Weg 17\, Heilbronn-Horkheim\, Baden-Württemberg\, 74081\, Németország
CATEGORIES:Szentmise
ATTACH;FMTTYPE=image/jpeg:https://stuttgarti-katolikusok.de/wp-content/uploads/2021/05/heiliggeist-aussenansicht.jpg
END:VEVENT
END:VCALENDAR