BEGIN:VCALENDAR
VERSION:2.0
PRODID:-//Stuttgarti Katolikusok - ECPv6.15.20//NONSGML v1.0//EN
CALSCALE:GREGORIAN
METHOD:PUBLISH
X-ORIGINAL-URL:https://stuttgarti-katolikusok.de
X-WR-CALDESC:Események Stuttgarti Katolikusok
REFRESH-INTERVAL;VALUE=DURATION:PT1H
X-Robots-Tag:noindex
X-PUBLISHED-TTL:PT1H
BEGIN:VTIMEZONE
TZID:Europe/Berlin
BEGIN:DAYLIGHT
TZOFFSETFROM:+0100
TZOFFSETTO:+0200
TZNAME:CEST
DTSTART:20230326T010000
END:DAYLIGHT
BEGIN:STANDARD
TZOFFSETFROM:+0200
TZOFFSETTO:+0100
TZNAME:CET
DTSTART:20231029T010000
END:STANDARD
BEGIN:DAYLIGHT
TZOFFSETFROM:+0100
TZOFFSETTO:+0200
TZNAME:CEST
DTSTART:20240331T010000
END:DAYLIGHT
BEGIN:STANDARD
TZOFFSETFROM:+0200
TZOFFSETTO:+0100
TZNAME:CET
DTSTART:20241027T010000
END:STANDARD
BEGIN:DAYLIGHT
TZOFFSETFROM:+0100
TZOFFSETTO:+0200
TZNAME:CEST
DTSTART:20250330T010000
END:DAYLIGHT
BEGIN:STANDARD
TZOFFSETFROM:+0200
TZOFFSETTO:+0100
TZNAME:CET
DTSTART:20251026T010000
END:STANDARD
END:VTIMEZONE
BEGIN:VEVENT
DTSTART;TZID=Europe/Berlin:20240614T170000
DTEND;TZID=Europe/Berlin:20240614T210000
DTSTAMP:20260423T153555
CREATED:20240610T131647Z
LAST-MODIFIED:20240610T131647Z
UID:29079-1718384400-1718398800@stuttgarti-katolikusok.de
SUMMARY:Stuttgarti délután
DESCRIPTION:* \nJúnius 14-én\, pénteken\, Stuttgarti délután. \n– Az elsőáldozásra készülő gyermekekkel és szülőkkel 17.00 órakor találkozó. A közös készületet követően első gyónás\, illetve gyónási lehetőség a gyermekek szülei és hozzátartozói számára. \n– A szentmise ezen a délutánon ELMARAD! \n– A Barátságklub tagjaival kellemes délutánt tölthetünk el. Amennyiben még valaki nem jelentkezett\, de szeretne velünk tartani\, jelezze szándékát szerdáid irodánkon\, hogy helyet tudjunk még biztosítani. \nMindenkit szeretettel vár a közösség és Tibor atya! \n* \n \n* \n \n* \nKegyelemteljes napokat\, tartalmas beszélgetéseket és örömteli találkozásokat kívánunk minden Kedves Hívünknek! \n* \n„Nagy vagy te\, Uram\, Istenem\, \nminden dicséret téged illet! \nDicsőítenek mind az emberek\, \nteremtésed parányi művei. \nTe magad rendelted\, hogy így legyen: \nte teremtettél magad számára minket\, \nés nyugtalan mindvégig a szívünk\, \nmíg meg nem nyugszik benned\, Istenem.” \n(Szent Ágoston – hippói püspök\, egyházatya\, filozófus – 354 – 430)
URL:https://stuttgarti-katolikusok.de/index.php/esemeny/stuttgarti-delutan-49/
LOCATION:Bruder Klaus Kirche\, Albert-Schäffle-Straße 30\, Stuttgart\, Baden-Württemberg\, 70186\, Németország
CATEGORIES:Stuttgarti délután
ATTACH;FMTTYPE=image/jpeg:https://stuttgarti-katolikusok.de/wp-content/uploads/2015/12/013__2_klaus.jpg
END:VEVENT
END:VCALENDAR