BEGIN:VCALENDAR
VERSION:2.0
PRODID:-//Stuttgarti Katolikusok - ECPv6.15.20//NONSGML v1.0//EN
CALSCALE:GREGORIAN
METHOD:PUBLISH
X-ORIGINAL-URL:https://stuttgarti-katolikusok.de
X-WR-CALDESC:Események Stuttgarti Katolikusok
REFRESH-INTERVAL;VALUE=DURATION:PT1H
X-Robots-Tag:noindex
X-PUBLISHED-TTL:PT1H
BEGIN:VTIMEZONE
TZID:Europe/Berlin
BEGIN:DAYLIGHT
TZOFFSETFROM:+0100
TZOFFSETTO:+0200
TZNAME:CEST
DTSTART:20230326T010000
END:DAYLIGHT
BEGIN:STANDARD
TZOFFSETFROM:+0200
TZOFFSETTO:+0100
TZNAME:CET
DTSTART:20231029T010000
END:STANDARD
BEGIN:DAYLIGHT
TZOFFSETFROM:+0100
TZOFFSETTO:+0200
TZNAME:CEST
DTSTART:20240331T010000
END:DAYLIGHT
BEGIN:STANDARD
TZOFFSETFROM:+0200
TZOFFSETTO:+0100
TZNAME:CET
DTSTART:20241027T010000
END:STANDARD
BEGIN:DAYLIGHT
TZOFFSETFROM:+0100
TZOFFSETTO:+0200
TZNAME:CEST
DTSTART:20250330T010000
END:DAYLIGHT
BEGIN:STANDARD
TZOFFSETFROM:+0200
TZOFFSETTO:+0100
TZNAME:CET
DTSTART:20251026T010000
END:STANDARD
END:VTIMEZONE
BEGIN:VEVENT
DTSTART;TZID=Europe/Berlin:20240608T160000
DTEND;TZID=Europe/Berlin:20240608T210000
DTSTAMP:20260423T153539
CREATED:20240603T230729Z
LAST-MODIFIED:20240603T231848Z
UID:29033-1717862400-1717880400@stuttgarti-katolikusok.de
SUMMARY:Árpád-házi Szent Kinga búcsús-szentmise Biberachban
DESCRIPTION:* \nJúnius 8-án\, szombaton\, Biberachban\, 16.00 órakor búcsús-szentmise\, utána agapé. Árpád-házi Szent Kingát köszöntjük. \nEz alkalommal a szentmise a Spitalkirche-ben (Museumgasse 2-4) lesz!!! \nSzentmise végeztével pedig az agapé és baráti együttlét a közelben lévő St. Martin Gemendezentrum-ban (Kirchplatz 3-4) lesz. \nMindenkit szeretettel vár a közösség és Tibor atya! \n* \n \n* \nKegyelemteljes napokat\, tartalmas beszélgetéseket és örömteli találkozásokat kívánunk minden Kedves Hívünknek! \n* \n„A bölcs ember többet tanul ellenségeitől\, mint a bolond barátaitól.” \n(Baltasar Gracian – jezsuita szerzetes\, spanyol barokk prózaíró -1601-1958)
URL:https://stuttgarti-katolikusok.de/index.php/esemeny/arpad-hazi-szent-kinga-bucsus-szentmise-biberachban/
LOCATION:Spitalkirche\, Museumgasse 2-4\, Biberach an der Riss\, Baden-Württemberg\, 88400\, Németország
CATEGORIES:Szentmise
ATTACH;FMTTYPE=image/jpeg:https://stuttgarti-katolikusok.de/wp-content/uploads/2015/12/Biberach_Kath_Spitalkirche.jpg
END:VEVENT
END:VCALENDAR