BEGIN:VCALENDAR
VERSION:2.0
PRODID:-//Stuttgarti Katolikusok - ECPv6.15.20//NONSGML v1.0//EN
CALSCALE:GREGORIAN
METHOD:PUBLISH
X-WR-CALNAME:Stuttgarti Katolikusok
X-ORIGINAL-URL:https://stuttgarti-katolikusok.de
X-WR-CALDESC:Események Stuttgarti Katolikusok
REFRESH-INTERVAL;VALUE=DURATION:PT1H
X-Robots-Tag:noindex
X-PUBLISHED-TTL:PT1H
BEGIN:VTIMEZONE
TZID:Europe/Berlin
BEGIN:DAYLIGHT
TZOFFSETFROM:+0100
TZOFFSETTO:+0200
TZNAME:CEST
DTSTART:20230326T010000
END:DAYLIGHT
BEGIN:STANDARD
TZOFFSETFROM:+0200
TZOFFSETTO:+0100
TZNAME:CET
DTSTART:20231029T010000
END:STANDARD
BEGIN:DAYLIGHT
TZOFFSETFROM:+0100
TZOFFSETTO:+0200
TZNAME:CEST
DTSTART:20240331T010000
END:DAYLIGHT
BEGIN:STANDARD
TZOFFSETFROM:+0200
TZOFFSETTO:+0100
TZNAME:CET
DTSTART:20241027T010000
END:STANDARD
BEGIN:DAYLIGHT
TZOFFSETFROM:+0100
TZOFFSETTO:+0200
TZNAME:CEST
DTSTART:20250330T010000
END:DAYLIGHT
BEGIN:STANDARD
TZOFFSETFROM:+0200
TZOFFSETTO:+0100
TZNAME:CET
DTSTART:20251026T010000
END:STANDARD
END:VTIMEZONE
BEGIN:VEVENT
DTSTART;TZID=Europe/Berlin:20240602T093000
DTEND;TZID=Europe/Berlin:20240602T120000
DTSTAMP:20260423T140523
CREATED:20240528T001333Z
LAST-MODIFIED:20240528T001333Z
UID:28994-1717320600-1717329600@stuttgarti-katolikusok.de
SUMMARY:Szentmise Schwäbisch-Gmündben
DESCRIPTION:Június 2-án\, Évközi 9. vasárnap\, Schwäbisch-Gmündben 9.30 órakor szentmise\, utána agapé. \n* \nMindenkit szeretettel vár a közösség és Tibor atya! \n \n* \nKegyelemteljes napokat\, tartalmas beszélgetéseket és örömteli találkozásokat kívánunk minden Kedves Hívünknek! \n* \n„Győzelemről énekeljen Napkelet és Napnyugat\,\nMillió szív összecsengjen\, magasztalja az Urat!\nKrisztus újra földre szállott\, vándorlásunk társa lett\,\nMert szerette a világot\, kenyérszínbe rejtezett.\nKrisztus kenyér s bor színében Úr s Király a föld felett\,\nForrassz eggyé békességben minden népet s nemzetet! \n  \nEgykor értünk testet öltött\, kisgyermekként jött közénk\,\nA keresztfán vére ömlött váltságunknak béreként.\nMost az oltár Golgotáján újra itt a drága vér\,\nÁldozat az Isten-Bárány\, Krisztus teste a kenyér.\nKrisztus kenyér s bor színében Úr s Király a föld felett\,\nForrassz eggyé békességben minden népet s nemzetet! \n  \nZúgjon hát a hálaének\, szálljon völgyön\, tengeren\,\nA szeretet Istenének dicsőség és üdv legyen.\nAz egész föld legyen oltár\, virág rajta a szívünk\,\nMinden dalunk zengő zsoltár\, tömjénillat a hitünk.\nKrisztus kenyér s bor színében Úr s Király a föld felett\,\nForrassz eggyé békességben minden népet s nemzetet! \n  \nIstván király árva népe\, te is hajtsd meg homlokod\,\nBorulj térdre\, szórd elébe minden gondod\, bánatod!\nA kereszt volt ezer éven reménységed oszlopa\,\nMost is Krisztus jele légyen jobb jövődnek záloga.\nKrisztus kenyér s bor színében Úr s Király a föld felett\,\nForrassz eggyé békességben minden népet s nemzetet!” \n(A 34. és 52. Nemzetközi Eucharisztikus Kongresszus himnusza)
URL:https://stuttgarti-katolikusok.de/index.php/esemeny/szentmise-schwabisch-gmundben-12/
LOCATION:Sankt Franziskus Kirche\, Franziskaner Str. 3\, Schwäbisch-Gmünd\, Baden-Württemberg\, 73525\, Németország
CATEGORIES:Szentmise
ATTACH;FMTTYPE=image/jpeg:https://stuttgarti-katolikusok.de/wp-content/uploads/2018/03/st-franziskus-schw-gmund.jpg
END:VEVENT
BEGIN:VEVENT
DTSTART;TZID=Europe/Berlin:20240602T150000
DTEND;TZID=Europe/Berlin:20240602T180000
DTSTAMP:20260423T140523
CREATED:20240528T002000Z
LAST-MODIFIED:20240528T002000Z
UID:28998-1717340400-1717351200@stuttgarti-katolikusok.de
SUMMARY:Szentmise Stuttgartban
DESCRIPTION: * \nJúnius 2-án\, Évközi 9. vasárnap\, Stuttgartban – Nemzeti Összetartozás Napja  \n15.00 órakor szentmise\, melyet megemlékezés\, koszorúzás és baráti együttlét\, agapé követ. \n \n* \nMindenkit szeretettel vár a közösség és Tibor atya! \n \n* \nKegyelemteljes napokat\, tartalmas beszélgetéseket és örömteli találkozásokat kívánunk minden Kedves Hívünknek! \n* \n„Győzelemről énekeljen Napkelet és Napnyugat\,\nMillió szív összecsengjen\, magasztalja az Urat!\nKrisztus újra földre szállott\, vándorlásunk társa lett\,\nMert szerette a világot\, kenyérszínbe rejtezett.\nKrisztus kenyér s bor színében Úr s Király a föld felett\,\nForrassz eggyé békességben minden népet s nemzetet! \n  \nEgykor értünk testet öltött\, kisgyermekként jött közénk\,\nA keresztfán vére ömlött váltságunknak béreként.\nMost az oltár Golgotáján újra itt a drága vér\,\nÁldozat az Isten-Bárány\, Krisztus teste a kenyér.\nKrisztus kenyér s bor színében Úr s Király a föld felett\,\nForrassz eggyé békességben minden népet s nemzetet! \n  \nZúgjon hát a hálaének\, szálljon völgyön\, tengeren\,\nA szeretet Istenének dicsőség és üdv legyen.\nAz egész föld legyen oltár\, virág rajta a szívünk\,\nMinden dalunk zengő zsoltár\, tömjénillat a hitünk.\nKrisztus kenyér s bor színében Úr s Király a föld felett\,\nForrassz eggyé békességben minden népet s nemzetet! \n  \nIstván király árva népe\, te is hajtsd meg homlokod\,\nBorulj térdre\, szórd elébe minden gondod\, bánatod!\nA kereszt volt ezer éven reménységed oszlopa\,\nMost is Krisztus jele légyen jobb jövődnek záloga.\nKrisztus kenyér s bor színében Úr s Király a föld felett\,\nForrassz eggyé békességben minden népet s nemzetet!” \n(A 34. és 52. Nemzetközi Eucharisztikus Kongresszus himnusza)
URL:https://stuttgarti-katolikusok.de/index.php/esemeny/szentmise-stuttgartban-17/
LOCATION:Bruder Klaus Kirche\, Albert-Schäffle-Straße 30\, Stuttgart\, Baden-Württemberg\, 70186\, Németország
CATEGORIES:Szentmise
ATTACH;FMTTYPE=image/jpeg:https://stuttgarti-katolikusok.de/wp-content/uploads/2015/12/013__2_klaus.jpg
END:VEVENT
END:VCALENDAR