BEGIN:VCALENDAR
VERSION:2.0
PRODID:-//Stuttgarti Katolikusok - ECPv6.15.20//NONSGML v1.0//EN
CALSCALE:GREGORIAN
METHOD:PUBLISH
X-WR-CALNAME:Stuttgarti Katolikusok
X-ORIGINAL-URL:https://stuttgarti-katolikusok.de
X-WR-CALDESC:Események Stuttgarti Katolikusok
REFRESH-INTERVAL;VALUE=DURATION:PT1H
X-Robots-Tag:noindex
X-PUBLISHED-TTL:PT1H
BEGIN:VTIMEZONE
TZID:Europe/Berlin
BEGIN:DAYLIGHT
TZOFFSETFROM:+0100
TZOFFSETTO:+0200
TZNAME:CEST
DTSTART:20230326T010000
END:DAYLIGHT
BEGIN:STANDARD
TZOFFSETFROM:+0200
TZOFFSETTO:+0100
TZNAME:CET
DTSTART:20231029T010000
END:STANDARD
BEGIN:DAYLIGHT
TZOFFSETFROM:+0100
TZOFFSETTO:+0200
TZNAME:CEST
DTSTART:20240331T010000
END:DAYLIGHT
BEGIN:STANDARD
TZOFFSETFROM:+0200
TZOFFSETTO:+0100
TZNAME:CET
DTSTART:20241027T010000
END:STANDARD
BEGIN:DAYLIGHT
TZOFFSETFROM:+0100
TZOFFSETTO:+0200
TZNAME:CEST
DTSTART:20250330T010000
END:DAYLIGHT
BEGIN:STANDARD
TZOFFSETFROM:+0200
TZOFFSETTO:+0100
TZNAME:CET
DTSTART:20251026T010000
END:STANDARD
END:VTIMEZONE
BEGIN:VEVENT
DTSTART;TZID=Europe/Berlin:20240526T093000
DTEND;TZID=Europe/Berlin:20240526T103000
DTSTAMP:20260423T140522
CREATED:20240104T090932Z
LAST-MODIFIED:20240104T090932Z
UID:27988-1716715800-1716719400@stuttgarti-katolikusok.de
SUMMARY:Böblingen szentmise
DESCRIPTION:
URL:https://stuttgarti-katolikusok.de/index.php/esemeny/boblingen-szentmise-4/
LOCATION:Baden-Württemberg
CATEGORIES:Szentmisék helye és ideje
END:VEVENT
BEGIN:VEVENT
DTSTART;TZID=Europe/Berlin:20240526T093000
DTEND;TZID=Europe/Berlin:20240526T120000
DTSTAMP:20260423T140522
CREATED:20240520T141825Z
LAST-MODIFIED:20240520T141825Z
UID:28954-1716715800-1716724800@stuttgarti-katolikusok.de
SUMMARY:Szentmise Böblingenben
DESCRIPTION: * \nMájus 26-án\, Szentháromság vasárnapja\, Böblingenben 9.30 órakor szentmise\, utána agapé. \nMindenkit szeretettel vár a közösség és Tibor atya! \n* \n \n* \nKegyelemteljes napokat\, tartalmas beszélgetéseket és örömteli találkozásokat kívánunk minden Kedves Hívünknek! \n* \n„A hamisság mindenképp önzésből fakad\, sorsa is szükségszerűen véges. Vele szemben az igazság csak ideiglenesen veszíthet\, sorsa viszont szükségszerűen torkollik a végtelenbe. Az igazság ezért sose lehet türelmetlen vagy támadó\, és sose irányulhat senki ellen. Tartalmára hogyan is cáfolhatna rá természete? Győzelme a szelídekre vár\, és a türelmesekre.” (Pilinszky János\, költő – 1921 – 1981) \n(Kép forrása: pixabay.com)
URL:https://stuttgarti-katolikusok.de/index.php/esemeny/szentmise-boblingenben-11/
LOCATION:St. Bonifatius Kirche\, Sindelfinger Str. 14\, Böblingen\, Baden-Württemberg\, 71032\, Németország
CATEGORIES:Szentmise
ATTACH;FMTTYPE=image/jpeg:https://stuttgarti-katolikusok.de/wp-content/uploads/2021/11/boblingen.jpeg
END:VEVENT
BEGIN:VEVENT
DTSTART;TZID=Europe/Berlin:20240526T150000
DTEND;TZID=Europe/Berlin:20240526T160000
DTSTAMP:20260423T140522
CREATED:20240104T090933Z
LAST-MODIFIED:20240104T090933Z
UID:27989-1716735600-1716739200@stuttgarti-katolikusok.de
SUMMARY:Eislingen szentmise
DESCRIPTION:
URL:https://stuttgarti-katolikusok.de/index.php/esemeny/eislingen-szentmise-5/
LOCATION:Baden-Württemberg
CATEGORIES:Szentmisék helye és ideje
END:VEVENT
BEGIN:VEVENT
DTSTART;TZID=Europe/Berlin:20240526T150000
DTEND;TZID=Europe/Berlin:20240526T170000
DTSTAMP:20260423T140522
CREATED:20240520T142549Z
LAST-MODIFIED:20240520T142549Z
UID:28958-1716735600-1716742800@stuttgarti-katolikusok.de
SUMMARY:Szentmise Eislingenben
DESCRIPTION: * \nMájus 26-án\, Szentháromság vasárnapja\, Eislingenben 15.00 órakor szentmise\, utána agapé.    \n* \nMindenkit szeretettel vár a közösség és Tibor atya! \n* \n \n* \nKegyelemteljes napokat\, tartalmas beszélgetéseket és örömteli találkozásokat kívánunk minden Kedves Hívünknek! \n* \n„A hamisság mindenképp önzésből fakad\, sorsa is szükségszerűen véges. Vele szemben az igazság csak ideiglenesen veszíthet\, sorsa viszont szükségszerűen torkollik a végtelenbe. Az igazság ezért sose lehet türelmetlen vagy támadó\, és sose irányulhat senki ellen. Tartalmára hogyan is cáfolhatna rá természete? Győzelme a szelídekre vár\, és a türelmesekre.” (Pilinszky János\, költő – 1921 – 1981) \n(Kép forrása: pixabay.com)
URL:https://stuttgarti-katolikusok.de/index.php/esemeny/szentmise-eislingenben-12/
LOCATION:Liebfrauen-Kirche\, Eberhardt Str. 30\, Eislingen/Fils\, Baden-Württemberg\, 73054\, Németország
CATEGORIES:Szentmise
ATTACH;FMTTYPE=image/jpeg:https://stuttgarti-katolikusok.de/wp-content/uploads/2015/12/Eislingen.jpg
END:VEVENT
END:VCALENDAR