BEGIN:VCALENDAR
VERSION:2.0
PRODID:-//Stuttgarti Katolikusok - ECPv6.15.20//NONSGML v1.0//EN
CALSCALE:GREGORIAN
METHOD:PUBLISH
X-ORIGINAL-URL:https://stuttgarti-katolikusok.de
X-WR-CALDESC:Események Stuttgarti Katolikusok
REFRESH-INTERVAL;VALUE=DURATION:PT1H
X-Robots-Tag:noindex
X-PUBLISHED-TTL:PT1H
BEGIN:VTIMEZONE
TZID:Europe/Berlin
BEGIN:DAYLIGHT
TZOFFSETFROM:+0100
TZOFFSETTO:+0200
TZNAME:CEST
DTSTART:20230326T010000
END:DAYLIGHT
BEGIN:STANDARD
TZOFFSETFROM:+0200
TZOFFSETTO:+0100
TZNAME:CET
DTSTART:20231029T010000
END:STANDARD
BEGIN:DAYLIGHT
TZOFFSETFROM:+0100
TZOFFSETTO:+0200
TZNAME:CEST
DTSTART:20240331T010000
END:DAYLIGHT
BEGIN:STANDARD
TZOFFSETFROM:+0200
TZOFFSETTO:+0100
TZNAME:CET
DTSTART:20241027T010000
END:STANDARD
BEGIN:DAYLIGHT
TZOFFSETFROM:+0100
TZOFFSETTO:+0200
TZNAME:CEST
DTSTART:20250330T010000
END:DAYLIGHT
BEGIN:STANDARD
TZOFFSETFROM:+0200
TZOFFSETTO:+0100
TZNAME:CET
DTSTART:20251026T010000
END:STANDARD
END:VTIMEZONE
BEGIN:VEVENT
DTSTART;TZID=Europe/Berlin:20240517T173000
DTEND;TZID=Europe/Berlin:20240517T190000
DTSTAMP:20260423T153144
CREATED:20240513T170116Z
LAST-MODIFIED:20240513T170116Z
UID:28913-1715967000-1715972400@stuttgarti-katolikusok.de
SUMMARY:Stuttgarti délután
DESCRIPTION: * \nMájus 17-én\, pénteken\, Stuttgarti délután\, 17.30 órakor rózsafüzér imádság\, szentmise és májusi ájtatosság. \nMindenkit szeretettel vár a közösség és Tibor atya! \n* \n \n* \nKegyelemteljes húsvéti napokat\, tartalmas beszélgetéseket és örömteli találkozásokat kívánunk minden Kedves Hívünknek! \n* \nHrabanus Maurus: PÜNKÖSD HIMNUSZA \n(Babits Mihály fordítása)  \nTeremtő Lélek\, légy velünk!\nLátogasd híveid szívét!\nTöltsd malaszttal a kebleket\,\nmelyeknek alkotója vagy. \nTe kit Védőnknek mondanak\,\ns mellénk a magas Ég adott!\nTűz\, élő forrás\, szeretet!\nTe lelkek lelki olaja! \nAjándékoddal hétszeres!\nTe ujj az Isten jobbkezén!\nTe\, ki az Atya megigért\nszavával áldod torkaink! \nGyújts fényt érzékeinkbe! Öntsd\nszívünkbe szent szerelmedet!\nS mi bennünk testi gyöngeség\,\nörök erőddel izmosítsd! \nEllenségünket űzzed el!\nS a Békét tüstént hozd közel\,\nelőttünk járva\, mint vezér!\nS kerüljünk mindent\, ami árt. \nÁltalad tudjuk az Atyát\,\ns ismerjük\, adjad\, a Fiút!\nTebenned higyjük Szellemét\nmindakettőnek végtelen. \nEzt teljesítse az Atya\,\ns vele egylényű Egyfia\,\naki veled uralkodik\,\nóh Lélek\, minden századig! \n(Kép forrása: Szentlélek templom – Szatmárnémeti – Paulovics László grafikus\, festőművész alkotása)
URL:https://stuttgarti-katolikusok.de/index.php/esemeny/stuttgarti-delutan-45/
LOCATION:Bruder Klaus Kirche\, Albert-Schäffle-Straße 30\, Stuttgart\, Baden-Württemberg\, 70186\, Németország
CATEGORIES:Stuttgarti délután
ATTACH;FMTTYPE=image/jpeg:https://stuttgarti-katolikusok.de/wp-content/uploads/2015/12/013__2_klaus.jpg
END:VEVENT
END:VCALENDAR