BEGIN:VCALENDAR
VERSION:2.0
PRODID:-//Stuttgarti Katolikusok - ECPv6.15.20//NONSGML v1.0//EN
CALSCALE:GREGORIAN
METHOD:PUBLISH
X-WR-CALNAME:Stuttgarti Katolikusok
X-ORIGINAL-URL:https://stuttgarti-katolikusok.de
X-WR-CALDESC:Események Stuttgarti Katolikusok
REFRESH-INTERVAL;VALUE=DURATION:PT1H
X-Robots-Tag:noindex
X-PUBLISHED-TTL:PT1H
BEGIN:VTIMEZONE
TZID:Europe/Berlin
BEGIN:DAYLIGHT
TZOFFSETFROM:+0100
TZOFFSETTO:+0200
TZNAME:CEST
DTSTART:20230326T010000
END:DAYLIGHT
BEGIN:STANDARD
TZOFFSETFROM:+0200
TZOFFSETTO:+0100
TZNAME:CET
DTSTART:20231029T010000
END:STANDARD
BEGIN:DAYLIGHT
TZOFFSETFROM:+0100
TZOFFSETTO:+0200
TZNAME:CEST
DTSTART:20240331T010000
END:DAYLIGHT
BEGIN:STANDARD
TZOFFSETFROM:+0200
TZOFFSETTO:+0100
TZNAME:CET
DTSTART:20241027T010000
END:STANDARD
BEGIN:DAYLIGHT
TZOFFSETFROM:+0100
TZOFFSETTO:+0200
TZNAME:CEST
DTSTART:20250330T010000
END:DAYLIGHT
BEGIN:STANDARD
TZOFFSETFROM:+0200
TZOFFSETTO:+0100
TZNAME:CET
DTSTART:20251026T010000
END:STANDARD
END:VTIMEZONE
BEGIN:VEVENT
DTSTART;TZID=Europe/Berlin:20240509T090000
DTEND;TZID=Europe/Berlin:20240509T170000
DTSTAMP:20260423T140520
CREATED:20240506T071057Z
LAST-MODIFIED:20240506T071057Z
UID:28882-1715245200-1715274000@stuttgarti-katolikusok.de
SUMMARY:Családi Nap Heidenheimban
DESCRIPTION:Május 9-én\, csütörtökön\, Urunk mennybemenetelének főünnepe\, Heidenheimban Családi Nap  – keretében 11.00 órakor ige-istentisztelet. \nHelyszín: \n– jó idő esetén – Suppenkopf – https://goo.gl/maps/TLFYR3Fc4ogeAFRr6 \n– rossz idő esetén: 89518 Heidenheim an der Brenz\, Verdi Str. 13 – Dreifaltigkeitskirche közösségi terme. \n \n* \nMindenkit szeretettel vár a közösség és Tibor atya! \n* \n \n* \nKegyelemteljes húsvéti napokat\, tartalmas beszélgetéseket és örömteli találkozásokat kívánunk minden Kedves Hívünknek! \n* \n„Akár óriások építik a kastélyokat\, akár emberek a kunyhókat: kastélyok\, kunyhók mind mulandó dolgok. Csupán a hegyek\, a völgyek\, a folyók és a népek örökkévalók\, mert azokat Isten teremtette!” (Wass Albert\, erdélyi magyar író és költő – 1908 – 1998) \n(Kép forrása: pixabay.com)
URL:https://stuttgarti-katolikusok.de/index.php/esemeny/csaladi-nap-heidenheimban/
LOCATION:Heidenheim Suppenkopf\, Giengenerstarsse\, Heidenheim an der Brenz\, Németország
CATEGORIES:Családi Nap
ATTACH;FMTTYPE=image/jpeg:https://stuttgarti-katolikusok.de/wp-content/uploads/2024/05/csaladi-nap-heidenheim-2023.jpg
END:VEVENT
END:VCALENDAR