BEGIN:VCALENDAR
VERSION:2.0
PRODID:-//Stuttgarti Katolikusok - ECPv6.15.20//NONSGML v1.0//EN
CALSCALE:GREGORIAN
METHOD:PUBLISH
X-ORIGINAL-URL:https://stuttgarti-katolikusok.de
X-WR-CALDESC:Események Stuttgarti Katolikusok
REFRESH-INTERVAL;VALUE=DURATION:PT1H
X-Robots-Tag:noindex
X-PUBLISHED-TTL:PT1H
BEGIN:VTIMEZONE
TZID:Europe/Berlin
BEGIN:DAYLIGHT
TZOFFSETFROM:+0100
TZOFFSETTO:+0200
TZNAME:CEST
DTSTART:20230326T010000
END:DAYLIGHT
BEGIN:STANDARD
TZOFFSETFROM:+0200
TZOFFSETTO:+0100
TZNAME:CET
DTSTART:20231029T010000
END:STANDARD
BEGIN:DAYLIGHT
TZOFFSETFROM:+0100
TZOFFSETTO:+0200
TZNAME:CEST
DTSTART:20240331T010000
END:DAYLIGHT
BEGIN:STANDARD
TZOFFSETFROM:+0200
TZOFFSETTO:+0100
TZNAME:CET
DTSTART:20241027T010000
END:STANDARD
BEGIN:DAYLIGHT
TZOFFSETFROM:+0100
TZOFFSETTO:+0200
TZNAME:CEST
DTSTART:20250330T010000
END:DAYLIGHT
BEGIN:STANDARD
TZOFFSETFROM:+0200
TZOFFSETTO:+0100
TZNAME:CET
DTSTART:20251026T010000
END:STANDARD
END:VTIMEZONE
BEGIN:VEVENT
DTSTART;TZID=Europe/Berlin:20240505T093000
DTEND;TZID=Europe/Berlin:20240505T120000
DTSTAMP:20260423T123720
CREATED:20240429T235255Z
LAST-MODIFIED:20240429T235255Z
UID:28852-1714901400-1714910400@stuttgarti-katolikusok.de
SUMMARY:Búcsús-szentmise Schwäbisch-Gmündben
DESCRIPTION:* \nMájus 5-én\, Húsvét 6. vasárnapja\, Schwäbisch-Gmündben 9.30 órakor Boldog Bajor Gizella búcsús-szentmise\, keretében az Édesanyákat köszöntjük\, utána agapé. \n \n * \nMindenkit szeretettel vár a közösség és Tibor atya! \n* \n \n* \nKegyelemteljes húsvéti napokat\, tartalmas beszélgetéseket és örömteli találkozásokat kívánunk minden Kedves Hívünknek! \n* \n„Nekünk\, keresztényeknek nem csak meghallgatni kell a Szót\, hogy aztán egy következő pillanatban megpróbáljuk majd életre váltani. Az Eucharisztia ünneplésének kezdetén mi\, keresztények meghallgatjuk a Szót\, amelyet aztán mint megtestesült ételt veszünk magunkhoz. A Test és a Vér\, mint táplálék adatik meg nekünk\, pontosan azért\, mert a Szó már megtestesült olyan módon\, hogy mi is azzá lehessünk\, amit befogadunk\, amit megeszünk.” (P. Marko Ivan Rupnik SJ\, 1954 – ) \n(Kép forrása: Pixabay)
URL:https://stuttgarti-katolikusok.de/index.php/esemeny/bucsus-szentmise-schwabisch-gmundben-2/
LOCATION:Sankt Franziskus Kirche\, Franziskaner Str. 3\, Schwäbisch-Gmünd\, Baden-Württemberg\, 73525\, Németország
CATEGORIES:Szentmise
ATTACH;FMTTYPE=image/jpeg:https://stuttgarti-katolikusok.de/wp-content/uploads/2018/03/st-franziskus-schw-gmund.jpg
END:VEVENT
BEGIN:VEVENT
DTSTART;TZID=Europe/Berlin:20240505T150000
DTEND;TZID=Europe/Berlin:20240505T180000
DTSTAMP:20260423T123720
CREATED:20240429T235532Z
LAST-MODIFIED:20240429T235532Z
UID:28854-1714921200-1714932000@stuttgarti-katolikusok.de
SUMMARY:Szentmise Stuttgartban
DESCRIPTION: * \nMájus 5-én\, Húsvét 6. vasárnapja\,  Stuttgartban 15.00 órakor szentmise\, keretében az Édesanyákat köszöntjük\, utána agapé. \nMindenkit szeretettel vár a közösség és Tibor atya! \n* \n \n* \nKegyelemteljes húsvéti napokat\, tartalmas beszélgetéseket és örömteli találkozásokat kívánunk minden Kedves Hívünknek! \n* \n„Nekünk\, keresztényeknek nem csak meghallgatni kell a Szót\, hogy aztán egy következő pillanatban megpróbáljuk majd életre váltani. Az Eucharisztia ünneplésének kezdetén mi\, keresztények meghallgatjuk a Szót\, amelyet aztán mint megtestesült ételt veszünk magunkhoz. A Test és a Vér\, mint táplálék adatik meg nekünk\, pontosan azért\, mert a Szó már megtestesült olyan módon\, hogy mi is azzá lehessünk\, amit befogadunk\, amit megeszünk.” (P. Marko Ivan Rupnik SJ\, 1954 – ) \n(Kép forrása: Pixabay)
URL:https://stuttgarti-katolikusok.de/index.php/esemeny/szentmise-stuttgartban-16/
LOCATION:Bruder Klaus Kirche\, Albert-Schäffle-Straße 30\, Stuttgart\, Baden-Württemberg\, 70186\, Németország
CATEGORIES:Szentmise
ATTACH;FMTTYPE=image/jpeg:https://stuttgarti-katolikusok.de/wp-content/uploads/2015/12/013__2_klaus.jpg
END:VEVENT
END:VCALENDAR