BEGIN:VCALENDAR
VERSION:2.0
PRODID:-//Stuttgarti Katolikusok - ECPv6.15.20//NONSGML v1.0//EN
CALSCALE:GREGORIAN
METHOD:PUBLISH
X-WR-CALNAME:Stuttgarti Katolikusok
X-ORIGINAL-URL:https://stuttgarti-katolikusok.de
X-WR-CALDESC:Események Stuttgarti Katolikusok
REFRESH-INTERVAL;VALUE=DURATION:PT1H
X-Robots-Tag:noindex
X-PUBLISHED-TTL:PT1H
BEGIN:VTIMEZONE
TZID:Europe/Berlin
BEGIN:DAYLIGHT
TZOFFSETFROM:+0100
TZOFFSETTO:+0200
TZNAME:CEST
DTSTART:20230326T010000
END:DAYLIGHT
BEGIN:STANDARD
TZOFFSETFROM:+0200
TZOFFSETTO:+0100
TZNAME:CET
DTSTART:20231029T010000
END:STANDARD
BEGIN:DAYLIGHT
TZOFFSETFROM:+0100
TZOFFSETTO:+0200
TZNAME:CEST
DTSTART:20240331T010000
END:DAYLIGHT
BEGIN:STANDARD
TZOFFSETFROM:+0200
TZOFFSETTO:+0100
TZNAME:CET
DTSTART:20241027T010000
END:STANDARD
BEGIN:DAYLIGHT
TZOFFSETFROM:+0100
TZOFFSETTO:+0200
TZNAME:CEST
DTSTART:20250330T010000
END:DAYLIGHT
BEGIN:STANDARD
TZOFFSETFROM:+0200
TZOFFSETTO:+0100
TZNAME:CET
DTSTART:20251026T010000
END:STANDARD
END:VTIMEZONE
BEGIN:VEVENT
DTSTART;TZID=Europe/Berlin:20240414T100000
DTEND;TZID=Europe/Berlin:20240414T120000
DTSTAMP:20260423T123639
CREATED:20240408T130619Z
LAST-MODIFIED:20240408T130619Z
UID:28752-1713088800-1713096000@stuttgarti-katolikusok.de
SUMMARY:Szentmise Weingartenben
DESCRIPTION:Április 14-én\, Húsvét 3. vasárnapja\, Weingartenben 10.00 órakor szentmise a 14 Nothelfer Kapelle-ben\, utána agapé. \nMindenkit szeretettel vár a közösség és Tibor atya! \n* \n \n(Eislingen – XV. állomás Krisztus feltámadása) \n* \nKegyelemteljes húsvéti napokat\, tartalmas beszélgetéseket és örömteli találkozásokat kívánunk minden Kedves Hívünknek! \n* \n„Isten Országában megszűnnek az egyén határvonalai. Mindazt\, amit eddig csak tükör által homályosan találgattunk\, immár látni és tudni fogjuk. Isten a világ lényegének az állandósága nem zaj\, hanem Csend.” (Csermely Péter – kutató\, biokémikus – 1958 -) \n *
URL:https://stuttgarti-katolikusok.de/index.php/esemeny/szentmise-weingartenben-13/
LOCATION:14 Nothelfer  Kapelle\, Ravensburger Str. 39\, Weingarten\, Baden-Württemberg\, 88250\, Németország
CATEGORIES:Szentmise
ATTACH;FMTTYPE=image/jpeg:https://stuttgarti-katolikusok.de/wp-content/uploads/2015/12/Weingarten_Kapelle_14_Nothelfer.jpg
END:VEVENT
BEGIN:VEVENT
DTSTART;TZID=Europe/Berlin:20240414T150000
DTEND;TZID=Europe/Berlin:20240414T170000
DTSTAMP:20260423T123639
CREATED:20240408T130843Z
LAST-MODIFIED:20240408T130843Z
UID:28754-1713106800-1713114000@stuttgarti-katolikusok.de
SUMMARY:Szentmise Ulmban
DESCRIPTION:Április 14-én\, Húsvét 3. vasárnapja\, Ulmban 15.00 órakor szentmise\, utána agapé. \nMindenkit szeretettel vár a közösség és Tibor atya! \n* \n \n(Eislingen – XV. állomás Krisztus feltámadása) \n* \nKegyelemteljes húsvéti napokat\, tartalmas beszélgetéseket és örömteli találkozásokat kívánunk minden Kedves Hívünknek! \n* \n„Isten Országában megszűnnek az egyén határvonalai. Mindazt\, amit eddig csak tükör által homályosan találgattunk\, immár látni és tudni fogjuk. Isten a világ lényegének az állandósága nem zaj\, hanem Csend.” (Csermely Péter – kutató\, biokémikus – 1958 -) \n *
URL:https://stuttgarti-katolikusok.de/index.php/esemeny/szentmise-ulmban-9/
LOCATION:St. Michael zu den Wengen\, Wengengasse 6\, Ulm\, Baden-Württemberg\, 89073\, Németország
CATEGORIES:Szentmise
ATTACH;FMTTYPE=image/jpeg:https://stuttgarti-katolikusok.de/wp-content/uploads/2015/12/Wengenkirche1-e1483916551260.jpg
END:VEVENT
END:VCALENDAR