BEGIN:VCALENDAR
VERSION:2.0
PRODID:-//Stuttgarti Katolikusok - ECPv6.15.20//NONSGML v1.0//EN
CALSCALE:GREGORIAN
METHOD:PUBLISH
X-ORIGINAL-URL:https://stuttgarti-katolikusok.de
X-WR-CALDESC:Események Stuttgarti Katolikusok
REFRESH-INTERVAL;VALUE=DURATION:PT1H
X-Robots-Tag:noindex
X-PUBLISHED-TTL:PT1H
BEGIN:VTIMEZONE
TZID:Europe/Berlin
BEGIN:DAYLIGHT
TZOFFSETFROM:+0100
TZOFFSETTO:+0200
TZNAME:CEST
DTSTART:20230326T010000
END:DAYLIGHT
BEGIN:STANDARD
TZOFFSETFROM:+0200
TZOFFSETTO:+0100
TZNAME:CET
DTSTART:20231029T010000
END:STANDARD
BEGIN:DAYLIGHT
TZOFFSETFROM:+0100
TZOFFSETTO:+0200
TZNAME:CEST
DTSTART:20240331T010000
END:DAYLIGHT
BEGIN:STANDARD
TZOFFSETFROM:+0200
TZOFFSETTO:+0100
TZNAME:CET
DTSTART:20241027T010000
END:STANDARD
BEGIN:DAYLIGHT
TZOFFSETFROM:+0100
TZOFFSETTO:+0200
TZNAME:CEST
DTSTART:20250330T010000
END:DAYLIGHT
BEGIN:STANDARD
TZOFFSETFROM:+0200
TZOFFSETTO:+0100
TZNAME:CET
DTSTART:20251026T010000
END:STANDARD
END:VTIMEZONE
BEGIN:VEVENT
DTSTART;TZID=Europe/Berlin:20240329T143000
DTEND;TZID=Europe/Berlin:20240329T160000
DTSTAMP:20260423T110959
CREATED:20240324T230419Z
LAST-MODIFIED:20240326T110806Z
UID:28587-1711722600-1711728000@stuttgarti-katolikusok.de
SUMMARY:Nagypéntek Weingartenben
DESCRIPTION: * \n \nMárcius 29-én\, Nagypéntek. \nWeingartenben \n14.30 órakor keresztúti ájtatosság\, \n15.00 órakor Urunk szenvedésének ünneplése a 14 Nothelfer Kapelle-ben.  \nMindenkit szeretettel vár a közösség és Tibor atya! \n* \nKegyelemteljes Húsvétot kívánunk minden Kedves Hívünknek! \n* \n„A Húsvét a legnagyobb mélységeket és legnagyobb magasságokat megélő ünnepünk.” (Jókai Anna – költőnő – 1932-2017) \n(Kép forrása: Pixabay.com)
URL:https://stuttgarti-katolikusok.de/index.php/esemeny/nagypentek-weingartenben-2/
LOCATION:14 Nothelfer  Kapelle\, Ravensburger Str. 39\, Weingarten\, Baden-Württemberg\, 88250\, Németország
CATEGORIES:Szent Három Nap
ATTACH;FMTTYPE=image/jpeg:https://stuttgarti-katolikusok.de/wp-content/uploads/2015/12/Weingarten_Kapelle_14_Nothelfer.jpg
END:VEVENT
BEGIN:VEVENT
DTSTART;TZID=Europe/Berlin:20240329T173000
DTEND;TZID=Europe/Berlin:20240329T190000
DTSTAMP:20260423T110959
CREATED:20240324T230817Z
LAST-MODIFIED:20240325T003857Z
UID:28589-1711733400-1711738800@stuttgarti-katolikusok.de
SUMMARY:Nagypéntek Stuttgartban
DESCRIPTION: * \n \nMárcius 29-én\, Nagypéntek. \nStuttgartban  \n17.30 órakor keresztúti ájtatosság\, \n18.00 órakor Urunk szenvedésének ünneplése. \nMindenkit szeretettel vár a közösség és Tibor atya! \n* \nKegyelemteljes Húsvétot kívánunk minden Kedves Hívünknek! \n* \n„A Húsvét a legnagyobb mélységeket és legnagyobb magasságokat megélő ünnepünk.” (Jókai Anna – költőnő – 1932-2017) \n(Kép forrása: Pixabay.com)
URL:https://stuttgarti-katolikusok.de/index.php/esemeny/nagypentek-stuttgartban-2/
LOCATION:Bruder Klaus Kirche\, Albert-Schäffle-Straße 30\, Stuttgart\, Baden-Württemberg\, 70186\, Németország
CATEGORIES:Szent Három Nap
ATTACH;FMTTYPE=image/jpeg:https://stuttgarti-katolikusok.de/wp-content/uploads/2015/12/013__2_klaus.jpg
END:VEVENT
END:VCALENDAR