BEGIN:VCALENDAR
VERSION:2.0
PRODID:-//Stuttgarti Katolikusok - ECPv6.15.20//NONSGML v1.0//EN
CALSCALE:GREGORIAN
METHOD:PUBLISH
X-ORIGINAL-URL:https://stuttgarti-katolikusok.de
X-WR-CALDESC:Események Stuttgarti Katolikusok
REFRESH-INTERVAL;VALUE=DURATION:PT1H
X-Robots-Tag:noindex
X-PUBLISHED-TTL:PT1H
BEGIN:VTIMEZONE
TZID:Europe/Berlin
BEGIN:DAYLIGHT
TZOFFSETFROM:+0100
TZOFFSETTO:+0200
TZNAME:CEST
DTSTART:20230326T010000
END:DAYLIGHT
BEGIN:STANDARD
TZOFFSETFROM:+0200
TZOFFSETTO:+0100
TZNAME:CET
DTSTART:20231029T010000
END:STANDARD
BEGIN:DAYLIGHT
TZOFFSETFROM:+0100
TZOFFSETTO:+0200
TZNAME:CEST
DTSTART:20240331T010000
END:DAYLIGHT
BEGIN:STANDARD
TZOFFSETFROM:+0200
TZOFFSETTO:+0100
TZNAME:CET
DTSTART:20241027T010000
END:STANDARD
BEGIN:DAYLIGHT
TZOFFSETFROM:+0100
TZOFFSETTO:+0200
TZNAME:CEST
DTSTART:20250330T010000
END:DAYLIGHT
BEGIN:STANDARD
TZOFFSETFROM:+0200
TZOFFSETTO:+0100
TZNAME:CET
DTSTART:20251026T010000
END:STANDARD
END:VTIMEZONE
BEGIN:VEVENT
DTSTART;TZID=Europe/Berlin:20240317T113000
DTEND;TZID=Europe/Berlin:20240317T130000
DTSTAMP:20260423T110916
CREATED:20240311T084214Z
LAST-MODIFIED:20240311T084214Z
UID:28524-1710675000-1710680400@stuttgarti-katolikusok.de
SUMMARY:Szentmise Stuttgartban
DESCRIPTION:Március 17-én\, Nagyböjt 5. vasárnapja\,  Stuttgartban 11.30 órakor szentmise\, keretében a szentkenet szentségének kiszolgáltatása. Ezt követően az elsőáldozásra készülő gyermekekkel rövid hittanóra lesz. \nMindenkit szeretettel vár a közösség és Tibor atya! \n * \n \n* \nBensőséges nagyböjti napokat\, jó munkát\, tartalmas beszélgetéseket és örömteli találkozásokat kívánunk minden Kedves Hívünknek! \n* \n„Szent Pál arra figyelmeztet\, hogy amikor Jézus testét magunkhoz vesszük – az Úr halálát hirdetjük. A mi keresztény életünk tápláléka tehát Jézus Krisztus halálából fakad. De nekünk is meg kell halnunk Krisztussal\, hogy isteni életünk legyen” (Mindszenty József – bíboros-hercegprímás – 1892 – 1975) \n(Kép forrása: Pixabay)
URL:https://stuttgarti-katolikusok.de/index.php/esemeny/szentmise-stuttgartban-13/
LOCATION:Bruder Klaus Kirche\, Albert-Schäffle-Straße 30\, Stuttgart\, Baden-Württemberg\, 70186\, Németország
CATEGORIES:Szentmise
ATTACH;FMTTYPE=image/jpeg:https://stuttgarti-katolikusok.de/wp-content/uploads/2015/12/013__2_klaus.jpg
END:VEVENT
BEGIN:VEVENT
DTSTART;TZID=Europe/Berlin:20240317T153000
DTEND;TZID=Europe/Berlin:20240317T173000
DTSTAMP:20260423T110916
CREATED:20240311T084738Z
LAST-MODIFIED:20240311T085159Z
UID:28527-1710689400-1710696600@stuttgarti-katolikusok.de
SUMMARY:Szentmise Heilbronnban
DESCRIPTION:Március 17-én\, Nagyböjt 5. vasárnapja\, Heilbronnban 15.30 órakor szentmise\, keretében a szentkenet szentségének kiszolgáltatása\, utána agapé. \nMindenkit szeretettel vár a közösség és Tibor atya! \n * \n \n* \nBensőséges nagyböjti napokat\, jó munkát\, tartalmas beszélgetéseket és örömteli találkozásokat kívánunk minden Kedves Hívünknek! \n* \n„Szent Pál arra figyelmeztet\, hogy amikor Jézus testét magunkhoz vesszük – az Úr halálát hirdetjük. A mi keresztény életünk tápláléka tehát Jézus Krisztus halálából fakad. De nekünk is meg kell halnunk Krisztussal\, hogy isteni életünk legyen” (Mindszenty József – bíboros-hercegprímás – 1892 – 1975) \n(Kép forrása: Pixabay)
URL:https://stuttgarti-katolikusok.de/index.php/esemeny/szentmise-heilbronnban-9/
LOCATION:Heilig Geist Kirche\, Heilbronner-Weg 17\, Heilbronn-Horkheim\, Baden-Württemberg\, 74081\, Németország
CATEGORIES:Szentmise
ATTACH;FMTTYPE=image/jpeg:https://stuttgarti-katolikusok.de/wp-content/uploads/2021/05/heiliggeist-aussenansicht.jpg
END:VEVENT
END:VCALENDAR