BEGIN:VCALENDAR
VERSION:2.0
PRODID:-//Stuttgarti Katolikusok - ECPv6.15.20//NONSGML v1.0//EN
CALSCALE:GREGORIAN
METHOD:PUBLISH
X-ORIGINAL-URL:https://stuttgarti-katolikusok.de
X-WR-CALDESC:Események Stuttgarti Katolikusok
REFRESH-INTERVAL;VALUE=DURATION:PT1H
X-Robots-Tag:noindex
X-PUBLISHED-TTL:PT1H
BEGIN:VTIMEZONE
TZID:Europe/Berlin
BEGIN:DAYLIGHT
TZOFFSETFROM:+0100
TZOFFSETTO:+0200
TZNAME:CEST
DTSTART:20230326T010000
END:DAYLIGHT
BEGIN:STANDARD
TZOFFSETFROM:+0200
TZOFFSETTO:+0100
TZNAME:CET
DTSTART:20231029T010000
END:STANDARD
BEGIN:DAYLIGHT
TZOFFSETFROM:+0100
TZOFFSETTO:+0200
TZNAME:CEST
DTSTART:20240331T010000
END:DAYLIGHT
BEGIN:STANDARD
TZOFFSETFROM:+0200
TZOFFSETTO:+0100
TZNAME:CET
DTSTART:20241027T010000
END:STANDARD
BEGIN:DAYLIGHT
TZOFFSETFROM:+0100
TZOFFSETTO:+0200
TZNAME:CEST
DTSTART:20250330T010000
END:DAYLIGHT
BEGIN:STANDARD
TZOFFSETFROM:+0200
TZOFFSETTO:+0100
TZNAME:CET
DTSTART:20251026T010000
END:STANDARD
END:VTIMEZONE
BEGIN:VEVENT
DTSTART;TZID=Europe/Berlin:20240309T164500
DTEND;TZID=Europe/Berlin:20240309T180000
DTSTAMP:20260423T111012
CREATED:20240305T065249Z
LAST-MODIFIED:20240305T065328Z
UID:28474-1710002700-1710007200@stuttgarti-katolikusok.de
SUMMARY:Szentmise Biberachban
DESCRIPTION:Március 9-én\, szombaton\, Biberachban 16.45 órakor szentmise\, keretében kiszolgáltatom a szentkenet szentségét. Nincs agapé!!! \nMindenkit szeretettel vár a közösség és Tibor atya! \n * \n \n* \nBensőséges nagyböjti napokat\, jó munkát\, tartalmas beszélgetéseket és örömteli találkozásokat kívánunk minden Kedves Hívünknek! \n* \n„Nem büntethetné Isten érzékenyebben az embert\, mint ha megengedné\, hogy minden kívánsága szerint történjen. \nJózsefnek testvérei sohasem használhattak volna annyit szeretetükkel\, mint amennyit használtak gonoszságukkal és gyűlöletükkel. \nUram\, adj nekem humorérzéket. Add meg a kegyelmet\, hogy értsem a tréfát\, hogy így az életben egy kis boldogságom legyen\, és másnak is továbbadjak belőle” (Morus Szent Tamás – angol humanista – 1478 – 1535) \n(Kép forrása: Pixabay)
URL:https://stuttgarti-katolikusok.de/index.php/esemeny/szentmise-biberachban-10/
LOCATION:Dreifaltigkeitskirche Biberach\, Mittelbergstr. 29\, Biberach an der Riß\, Baden Württemberg\, 88400\, Németország
CATEGORIES:Szentmise
ATTACH;FMTTYPE=image/jpeg:https://stuttgarti-katolikusok.de/wp-content/uploads/2023/03/csm-dreifaltigkeitskirche-7285105d03.jpg
END:VEVENT
END:VCALENDAR