BEGIN:VCALENDAR
VERSION:2.0
PRODID:-//Stuttgarti Katolikusok - ECPv6.15.20//NONSGML v1.0//EN
CALSCALE:GREGORIAN
METHOD:PUBLISH
X-WR-CALNAME:Stuttgarti Katolikusok
X-ORIGINAL-URL:https://stuttgarti-katolikusok.de
X-WR-CALDESC:Események Stuttgarti Katolikusok
REFRESH-INTERVAL;VALUE=DURATION:PT1H
X-Robots-Tag:noindex
X-PUBLISHED-TTL:PT1H
BEGIN:VTIMEZONE
TZID:Europe/Berlin
BEGIN:DAYLIGHT
TZOFFSETFROM:+0100
TZOFFSETTO:+0200
TZNAME:CEST
DTSTART:20230326T010000
END:DAYLIGHT
BEGIN:STANDARD
TZOFFSETFROM:+0200
TZOFFSETTO:+0100
TZNAME:CET
DTSTART:20231029T010000
END:STANDARD
BEGIN:DAYLIGHT
TZOFFSETFROM:+0100
TZOFFSETTO:+0200
TZNAME:CEST
DTSTART:20240331T010000
END:DAYLIGHT
BEGIN:STANDARD
TZOFFSETFROM:+0200
TZOFFSETTO:+0100
TZNAME:CET
DTSTART:20241027T010000
END:STANDARD
BEGIN:DAYLIGHT
TZOFFSETFROM:+0100
TZOFFSETTO:+0200
TZNAME:CEST
DTSTART:20250330T010000
END:DAYLIGHT
BEGIN:STANDARD
TZOFFSETFROM:+0200
TZOFFSETTO:+0100
TZNAME:CET
DTSTART:20251026T010000
END:STANDARD
END:VTIMEZONE
BEGIN:VEVENT
DTSTART;TZID=Europe/Berlin:20240210T100000
DTEND;TZID=Europe/Berlin:20240211T110000
DTSTAMP:20260423T094127
CREATED:20240205T141821Z
LAST-MODIFIED:20240205T161134Z
UID:28324-1707559200-1707649200@stuttgarti-katolikusok.de
SUMMARY:Farsangi est és szentmise Weingartenben
DESCRIPTION:Február 10-én\, szombaton\, 18.00 órai kezdettel Farsangi Jótékonysági Ünnep lesz. \nFebruár 11-én\, Évközi 6. vasárnap\, Weingartenben a 14 Nothelfer Kapelle-ben\, 10.00 órakor szentmise\, keretében balázsolás. \nMindenkit szeretettel vár a közösség és Tibor atya! \n* \n \n* \n  \n* \nBensőséges és kellemes farsangi napokat\, jó találkozásokat és sok örömet kívánok minden kedves Hívemnek. \n* \n„A testi betegségekre ott vannak a gyógyszerek\, de a magányt\, kétségbeesést és reménytelenséget egyedül a szeretet képes meggyógyítani. Sokan vannak a világban\, akik egy darabka kenyérre éheznek\, de még többen olyanok\, akik csak egy kis szeretetre.” (Kalkuttai Szent Teréz\, 1910 – 1997) \n (Kép forrása: Pixabay)
URL:https://stuttgarti-katolikusok.de/index.php/esemeny/farsangi-est-es-szentmise-weingartenben/
LOCATION:Baden-Württemberg
CATEGORIES:Farsang,Szentmise
ATTACH;FMTTYPE=image/jpeg:https://stuttgarti-katolikusok.de/wp-content/uploads/2015/12/Weingarten_Kapelle_14_Nothelfer.jpg
END:VEVENT
BEGIN:VEVENT
DTSTART;TZID=Europe/Berlin:20240210T190100
DTEND;TZID=Europe/Berlin:20240211T015900
DTSTAMP:20260423T094127
CREATED:20240205T145642Z
LAST-MODIFIED:20240205T145642Z
UID:28334-1707591660-1707616740@stuttgarti-katolikusok.de
SUMMARY:Farsangi est Fellbachban
DESCRIPTION:Közösségünk hívei\, Szegi Oszkár és Hajnalka\, mintegy 30 esztendeje szerveznek többek közt Farsangi estet. Természetesen sokan részt vesznek híveink közül is\, jómagam is\, amikor csak tehetem. Ebben az esztendőben azonban nem leszek jelen. Szombat délután Biberachban van szentmise\, utána pedig Weingartenben leszek jelen az ottani közösség farsangi estjén. \nAzért az időbeli egybeesés\, mert az idei farsangi idő eléggé rövid. \nE helyen még vannak szabad helyek. Jelentkezzetek bátran! \nTibor atya \n***** \n \n*****
URL:https://stuttgarti-katolikusok.de/index.php/esemeny/farsangi-est-fellbachban/
LOCATION:Restaurant „La Perla”\, Schlüsseläcker 7\, Fellbach\, Baden Württemberg\, 70736\, Németország
CATEGORIES:Farsang
ATTACH;FMTTYPE=image/jpeg:https://stuttgarti-katolikusok.de/wp-content/uploads/2024/02/la-perla-fellbach.jpg
END:VEVENT
BEGIN:VEVENT
DTSTART;TZID=Europe/Berlin:20240211T150000
DTEND;TZID=Europe/Berlin:20240211T170000
DTSTAMP:20260423T094127
CREATED:20240205T142352Z
LAST-MODIFIED:20240205T142352Z
UID:28329-1707663600-1707670800@stuttgarti-katolikusok.de
SUMMARY:Szentmise Ulmban
DESCRIPTION:Február 11-én\, Évközi 6. vasárnap\, Ulmban 15.00 órakor szentmise\, keretében balázsolás\, utána agapé. \nMindenkit szeretettel vár a közösség és Tibor atya! \n* \n  \n* \nBensőséges és kellemes farsangi napokat\, jó találkozásokat és sok örömet kívánok minden kedves Hívemnek. \n* \n„A testi betegségekre ott vannak a gyógyszerek\, de a magányt\, kétségbeesést és reménytelenséget egyedül a szeretet képes meggyógyítani. Sokan vannak a világban\, akik egy darabka kenyérre éheznek\, de még többen olyanok\, akik csak egy kis szeretetre.” (Kalkuttai Szent Teréz\, 1910 – 1997) \n (Kép forrása: Pixabay)
URL:https://stuttgarti-katolikusok.de/index.php/esemeny/szentmise-ulmban-7/
LOCATION:St. Michael zu den Wengen\, Wengengasse 6\, Ulm\, Baden-Württemberg\, 89073\, Németország
CATEGORIES:Szentmise
ATTACH;FMTTYPE=image/jpeg:https://stuttgarti-katolikusok.de/wp-content/uploads/2015/12/Wengenkirche1-e1483916551260.jpg
END:VEVENT
END:VCALENDAR