BEGIN:VCALENDAR
VERSION:2.0
PRODID:-//Stuttgarti Katolikusok - ECPv6.15.20//NONSGML v1.0//EN
CALSCALE:GREGORIAN
METHOD:PUBLISH
X-ORIGINAL-URL:https://stuttgarti-katolikusok.de
X-WR-CALDESC:Események Stuttgarti Katolikusok
REFRESH-INTERVAL;VALUE=DURATION:PT1H
X-Robots-Tag:noindex
X-PUBLISHED-TTL:PT1H
BEGIN:VTIMEZONE
TZID:Europe/Berlin
BEGIN:DAYLIGHT
TZOFFSETFROM:+0100
TZOFFSETTO:+0200
TZNAME:CEST
DTSTART:20230326T010000
END:DAYLIGHT
BEGIN:STANDARD
TZOFFSETFROM:+0200
TZOFFSETTO:+0100
TZNAME:CET
DTSTART:20231029T010000
END:STANDARD
BEGIN:DAYLIGHT
TZOFFSETFROM:+0100
TZOFFSETTO:+0200
TZNAME:CEST
DTSTART:20240331T010000
END:DAYLIGHT
BEGIN:STANDARD
TZOFFSETFROM:+0200
TZOFFSETTO:+0100
TZNAME:CET
DTSTART:20241027T010000
END:STANDARD
BEGIN:DAYLIGHT
TZOFFSETFROM:+0100
TZOFFSETTO:+0200
TZNAME:CEST
DTSTART:20250330T010000
END:DAYLIGHT
BEGIN:STANDARD
TZOFFSETFROM:+0200
TZOFFSETTO:+0100
TZNAME:CET
DTSTART:20251026T010000
END:STANDARD
END:VTIMEZONE
BEGIN:VEVENT
DTSTART;TZID=Europe/Berlin:20240204T093000
DTEND;TZID=Europe/Berlin:20240204T113000
DTSTAMP:20260423T081003
CREATED:20240130T002807Z
LAST-MODIFIED:20240130T002807Z
UID:28292-1707039000-1707046200@stuttgarti-katolikusok.de
SUMMARY:Szentmise Schwäbisch-Gmündben
DESCRIPTION:Február 4-én\, Évközi 5. vasárnap\, Schwäbisch-Gmündben 9.30 órakor szentmise\, gyertyaszentelés és Balázs-áldás\, utána agapé. \nMindenkit szeretettel vár a közösség és Tibor atya! \n* \n \nBensőséges és kellemes farsangi napokat\, jó találkozásokat és sok örömet kívánok minden kedves Hívemnek. \n* \n„Az emberi lény ugyanis el tud viselni egy hét szomjazást\, két hét éhezést\, és akár évekig elviseli\, hogy nincs fedél a feje fölött\, de a magányt nem viseli el. Minden kín és minden szenvedés közül a magány a legrosszabb.” (Paulo Coelho\, brazil író\, 1947 – ) \n(Kép forrása: pixabay.com)
URL:https://stuttgarti-katolikusok.de/index.php/esemeny/szentmise-schwabisch-gmundben-9/
LOCATION:Sankt Franziskus Kirche\, Franziskaner Str. 3\, Schwäbisch-Gmünd\, Baden-Württemberg\, 73525\, Németország
CATEGORIES:Szentmise
ATTACH;FMTTYPE=image/jpeg:https://stuttgarti-katolikusok.de/wp-content/uploads/2018/03/st-franziskus-schw-gmund.jpg
END:VEVENT
BEGIN:VEVENT
DTSTART;TZID=Europe/Berlin:20240204T150000
DTEND;TZID=Europe/Berlin:20240204T180000
DTSTAMP:20260423T081003
CREATED:20240130T003055Z
LAST-MODIFIED:20240130T003055Z
UID:28294-1707058800-1707069600@stuttgarti-katolikusok.de
SUMMARY:Szentmise Stuttgartban
DESCRIPTION:Február 4-én\, Évközi 5. vasárnap\, Stuttgartban 15.00 órakor gyermek-istentisztelet\, szentmise\, gyertyaszentelés\, Balázs-áldás\, utána közös farsang a közösségi teremben. \nVendégünk érkezik Ft. Paskó Csaba atya személyében. Stuttgartban február hónap elején nemzetközi főző versenyen  vesz részt csapatával együtt. \n \n1975-ben született Szabadkán.  A Pécsi Hittudományi Főiskolán  1999-ben lelkipásztorként végzett. 2000 óta a Szabadkai Egyházmegye felszentelt papja. 1999 őszétől a Grazi Zeneművészeti Egyetem Egyházzenei Tanszakon tanult\, ahol 2003-ban diplomázott vezénylésből és orgonából. Ugyanott 2005-ben  sikeresen befejezte posztgraduális képzését  gergelykorális és vezénylés témakörökben. 2001-től tagja a Nemzetközi Himnológiai Társaságnak (IAH). 2003-tól a szabadkai bazilika karnagya és zenei koordinátora\, valamint a Pro Musica Kamarakórus karnagya. 2005-től tagja a Nemzetközi Gregorián társaságnak. Ugyanabban az évben nevezték ki a szabadkai székesegyház Regens Chorijává\, az egyházmegye zenei igazgatójává. A régió egyetlen gregorián énekegyüttesének alapítója. Több alkalommal is vezényelte a Szabadkai Filharmóniát. \n2008-tól a szabadkai Zeneiskola tanára. \n2014-től a Magyar Nemzeti Tanács és a Végrehajtó Bizottságának tagja.\nA Vajdasági Pax Romana civil szervezet\, valamint a kelebiai Gaál Ferenc Magyar Művelődési Egyesület elnöke\, 2013 óta az egyházmegye Caritas jótékonysági szervezetének elnöke. \nPapi\, zenei\, zenepedagógiai tevékenységén túl fontos szerepet játszik életében a gasztronómia. 2014-ben okleveles szakács lett. Két szakácskönyv\, mesterkurzus\, továbbképzés és elismerés jellemzi tevékenységét. \n2016-ban tiszteletbeli tagja lett a Nádor István Borlovagrendnek\, a gasztronómiában és a finom borok népszerűsítésében elért eredményeiért. \n2015-ben megkapta az Arany Bárány rendfokozatot\, a magyar gasztronómia nagykövete címet\, a gasztronómiában végzett tevékenységéért. \n2018-ban a Magyar Nemzeti Gasztronómiai Szövetség nevezi és küldi Luxenburgba a Culinary World Cup\, szakácsok világbajnokságára. \nZenei munkásságát számos díjjal értékelték: Szabadkán 2006-ban megkapta a Dr. Bodrogvári Ferenc-díjat; Belgrádban 2007-ben a Horovi Među Freskama egyházzeni fesztiválon a karnagyoknak járó külön díjat\, a Vojislav Ilić-díjat nyerte el; Kragujevácon a 8. Nemzetközi Kamarakórusok Fesztiválján külön díjjal jutalmazza a zsűri karnagyi munkáját; 2017-ben a Szabadka Pro Urbe-díjban részesítette.\nEzen kívül számos díjban\, elismerésben részesült a Pro Musica Kamarkórussal\, amelynek 2003-tól 2011-ig volt a karnagya\, művészeti vezetője. Számos nemzetközi\, hazai fesztiválon szerzett elismerést\, kitüntetés és díjat: Talán a legjelentősebb a 2006-ban Salzburgban Mozart születésének 250. jubileuma alkalmából Szerbiát képviselhették; 2008-ban a Pécsi Nemzetközi Kamarakórus Fesztiválon a belgák után ezüst érmet szereztek Paskó Csaba vezetése alatt. \n* \nMindenkit szeretettel vár a közösség és Tibor atya! \n* \n \nBensőséges és kellemes farsangi napokat\, jó találkozásokat és sok örömet kívánok minden kedves Hívemnek. \n* \n„Az emberi lény ugyanis el tud viselni egy hét szomjazást\, két hét éhezést\, és akár évekig elviseli\, hogy nincs fedél a feje fölött\, de a magányt nem viseli el. Minden kín és minden szenvedés közül a magány a legrosszabb.” (Paulo Coelho\, brazil író\, 1947 – ) \n(Kép forrása: pixabay.com)
URL:https://stuttgarti-katolikusok.de/index.php/esemeny/szentmise-stuttgartban-11/
LOCATION:Bruder Klaus Kirche\, Albert-Schäffle-Straße 30\, Stuttgart\, Baden-Württemberg\, 70186\, Németország
CATEGORIES:Szentmise
ATTACH;FMTTYPE=image/jpeg:https://stuttgarti-katolikusok.de/wp-content/uploads/2015/12/013__2_klaus.jpg
END:VEVENT
END:VCALENDAR