BEGIN:VCALENDAR
VERSION:2.0
PRODID:-//Stuttgarti Katolikusok - ECPv6.15.20//NONSGML v1.0//EN
CALSCALE:GREGORIAN
METHOD:PUBLISH
X-WR-CALNAME:Stuttgarti Katolikusok
X-ORIGINAL-URL:https://stuttgarti-katolikusok.de
X-WR-CALDESC:Események Stuttgarti Katolikusok
REFRESH-INTERVAL;VALUE=DURATION:PT1H
X-Robots-Tag:noindex
X-PUBLISHED-TTL:PT1H
BEGIN:VTIMEZONE
TZID:Europe/Berlin
BEGIN:DAYLIGHT
TZOFFSETFROM:+0100
TZOFFSETTO:+0200
TZNAME:CEST
DTSTART:20230326T010000
END:DAYLIGHT
BEGIN:STANDARD
TZOFFSETFROM:+0200
TZOFFSETTO:+0100
TZNAME:CET
DTSTART:20231029T010000
END:STANDARD
BEGIN:DAYLIGHT
TZOFFSETFROM:+0100
TZOFFSETTO:+0200
TZNAME:CEST
DTSTART:20240331T010000
END:DAYLIGHT
BEGIN:STANDARD
TZOFFSETFROM:+0200
TZOFFSETTO:+0100
TZNAME:CET
DTSTART:20241027T010000
END:STANDARD
BEGIN:DAYLIGHT
TZOFFSETFROM:+0100
TZOFFSETTO:+0200
TZNAME:CEST
DTSTART:20250330T010000
END:DAYLIGHT
BEGIN:STANDARD
TZOFFSETFROM:+0200
TZOFFSETTO:+0100
TZNAME:CET
DTSTART:20251026T010000
END:STANDARD
END:VTIMEZONE
BEGIN:VEVENT
DTSTART;TZID=Europe/Berlin:20240127T180000
DTEND;TZID=Europe/Berlin:20240128T030000
DTSTAMP:20260423T081302
CREATED:20240123T072130Z
LAST-MODIFIED:20240123T072206Z
UID:28224-1706378400-1706410800@stuttgarti-katolikusok.de
SUMMARY:49. STUTTGARTI MAGYAR KATOLIKUS JÓTÉKONYSÁGI BÁL
DESCRIPTION:Január 27-én\, szombaton\, 18.00 órai teremnyitással és 19.00 órai kezdéssel a 49. Stuttgarti Magyar Katolikus Jótékonysági Bál. \nMinden részletes információ az alábbi meghívóban megtalálható. \nMeghívó - Magyar Bál - 2024  \n* \nMinden kedves meghívott és  belépő jegyet vásárolt barátunkat és vendégünket szeretettel várjuk! \n \nBensőséges és kellemes újévi napokat\, jó találkozásokat és sok örömet kívánok minden kedves Hívemnek. \n* \n„Az érzelmek nem a lélekben zajlanak le. Más pályájuk van. De áthaladnak a lelken is\, mint az áradás az árterületen.” (Márai Sándor – 1900-1989)
URL:https://stuttgarti-katolikusok.de/index.php/esemeny/49-stuttgarti-magyar-katolikus-jotekonysagi-bal-2/
LOCATION:Schwabenlandhalle\, Tainerstraße 7\, Fellbach\, Baden-Württemberg\, 70734\, Németország
CATEGORIES:Stuttgarti Magyar Bál
ATTACH;FMTTYPE=image/jpeg:https://stuttgarti-katolikusok.de/wp-content/uploads/2023/12/dok1.jpg
END:VEVENT
BEGIN:VEVENT
DTSTART;TZID=Europe/Berlin:20240128T093000
DTEND;TZID=Europe/Berlin:20240128T113000
DTSTAMP:20260423T081302
CREATED:20240123T072638Z
LAST-MODIFIED:20240123T072638Z
UID:28226-1706434200-1706441400@stuttgarti-katolikusok.de
SUMMARY:Szentmise Böblingenben
DESCRIPTION:Január 28-án\, Évközi 4. vasárnap\, Böblingenben 9.30 órakor szentmise\, utána agapé. \nMindenkit szeretettel vár a közösség és Tibor atya! \n* \n \nBensőséges és kellemes újévi napokat\, jó találkozásokat és sok örömet kívánok minden kedves Hívemnek. \n* \n„Az érzelmek nem a lélekben zajlanak le. Más pályájuk van. De áthaladnak a lelken is\, mint az áradás az árterületen.” (Márai Sándor – 1900-1989)
URL:https://stuttgarti-katolikusok.de/index.php/esemeny/szentmise-boblingenben-7/
LOCATION:St. Bonifatius Kirche\, Sindelfinger Str. 14\, Böblingen\, Baden-Württemberg\, 71032\, Németország
CATEGORIES:Szentmise
ATTACH;FMTTYPE=image/jpeg:https://stuttgarti-katolikusok.de/wp-content/uploads/2021/11/boblingen.jpeg
END:VEVENT
BEGIN:VEVENT
DTSTART;TZID=Europe/Berlin:20240128T150000
DTEND;TZID=Europe/Berlin:20240128T170000
DTSTAMP:20260423T081302
CREATED:20240123T073001Z
LAST-MODIFIED:20240123T073001Z
UID:28228-1706454000-1706461200@stuttgarti-katolikusok.de
SUMMARY:Szentmise Eislingenben
DESCRIPTION:Január 28-án\, Évközi 4. vasárnap\, Eislingenben 15.00 órakor szentmise\, utána agapé.  \nMindenkit szeretettel vár a közösség és Tibor atya! \n* \n \nBensőséges és kellemes újévi napokat\, jó találkozásokat és sok örömet kívánok minden kedves Hívemnek. \n* \n„Az érzelmek nem a lélekben zajlanak le. Más pályájuk van. De áthaladnak a lelken is\, mint az áradás az árterületen.” (Márai Sándor – 1900-1989)
URL:https://stuttgarti-katolikusok.de/index.php/esemeny/szentmise-eislingenben-8/
LOCATION:Liebfrauen-Kirche\, Eberhardt Str. 30\, Eislingen/Fils\, Baden-Württemberg\, 73054\, Németország
CATEGORIES:Szentmise
ATTACH;FMTTYPE=image/jpeg:https://stuttgarti-katolikusok.de/wp-content/uploads/2015/12/Eislingen.jpg
END:VEVENT
END:VCALENDAR