BEGIN:VCALENDAR
VERSION:2.0
PRODID:-//Stuttgarti Katolikusok - ECPv6.15.20//NONSGML v1.0//EN
CALSCALE:GREGORIAN
METHOD:PUBLISH
X-ORIGINAL-URL:https://stuttgarti-katolikusok.de
X-WR-CALDESC:Események Stuttgarti Katolikusok
REFRESH-INTERVAL;VALUE=DURATION:PT1H
X-Robots-Tag:noindex
X-PUBLISHED-TTL:PT1H
BEGIN:VTIMEZONE
TZID:Europe/Berlin
BEGIN:DAYLIGHT
TZOFFSETFROM:+0100
TZOFFSETTO:+0200
TZNAME:CEST
DTSTART:20230326T010000
END:DAYLIGHT
BEGIN:STANDARD
TZOFFSETFROM:+0200
TZOFFSETTO:+0100
TZNAME:CET
DTSTART:20231029T010000
END:STANDARD
BEGIN:DAYLIGHT
TZOFFSETFROM:+0100
TZOFFSETTO:+0200
TZNAME:CEST
DTSTART:20240331T010000
END:DAYLIGHT
BEGIN:STANDARD
TZOFFSETFROM:+0200
TZOFFSETTO:+0100
TZNAME:CET
DTSTART:20241027T010000
END:STANDARD
BEGIN:DAYLIGHT
TZOFFSETFROM:+0100
TZOFFSETTO:+0200
TZNAME:CEST
DTSTART:20250330T010000
END:DAYLIGHT
BEGIN:STANDARD
TZOFFSETFROM:+0200
TZOFFSETTO:+0100
TZNAME:CET
DTSTART:20251026T010000
END:STANDARD
END:VTIMEZONE
BEGIN:VEVENT
DTSTART;TZID=Europe/Berlin:20240106T100000
DTEND;TZID=Europe/Berlin:20240106T110000
DTSTAMP:20260423T081337
CREATED:20240102T213629Z
LAST-MODIFIED:20240102T213629Z
UID:27758-1704535200-1704538800@stuttgarti-katolikusok.de
SUMMARY:Vízkereszt ünnepe Weingartenben
DESCRIPTION:Január 6-án\, szombaton\, Vízkereszt ünnepe\, Weingartenben 10.00 órakor szentmise a 14 Nothelfer Kapelle-ben. \n * \n \n* \nMindenkit szeretettel vár a közösség és Tibor atya! \nBensőséges és kellemes újévi napokat\, jó találkozásokat és sok örömet kívánok minden kedves Hívemnek. \n* \n„A növény virágot bont\, hogy a méhek rászálljanak és megtermékenyítsék. A gyümölcs elszórja magvait\, hogy új növények bújjanak elő a földből\, amelyek aztán újra virágba borulnak\, hogy odacsalják a méheket\, amelyek megtermékenyítik\, hogy újra gyümölcsöt hozzanak\, és így tovább\, a végtelenségig.” (Paulo Coelho – író – 1947-)
URL:https://stuttgarti-katolikusok.de/index.php/esemeny/vizkereszt-unnepe-weingartenben/
LOCATION:14 Nothelfer  Kapelle\, Ravensburger Str. 39\, Weingarten\, Baden-Württemberg\, 88250\, Németország
CATEGORIES:Szentmise
ATTACH;FMTTYPE=image/jpeg:https://stuttgarti-katolikusok.de/wp-content/uploads/2015/12/Weingarten_Kapelle_14_Nothelfer.jpg
END:VEVENT
BEGIN:VEVENT
DTSTART;TZID=Europe/Berlin:20240106T160000
DTEND;TZID=Europe/Berlin:20240106T180000
DTSTAMP:20260423T081337
CREATED:20240102T215816Z
LAST-MODIFIED:20240102T221000Z
UID:27760-1704556800-1704564000@stuttgarti-katolikusok.de
SUMMARY:Vízkereszt ünnepe Balingenben
DESCRIPTION:Január 6-án\, szombaton\, Vízkereszt ünnepe\, Balingenben/Roßwangen 16.00 órakor szentmise\, utána agapé. \n(Tekintettel arra\, hogy a megszokott templomunkban – St. Paulus – 17.00 órától koncert lesz\, a német közösség Roßwangen-ben a St. Johannes Baptist Kirche-t ajánlotta fel. Cím: Weilstetter Str. 54\, 72336 Balingen). \n  * \n \n* \nMindenkit szeretettel vár a közösség és Tibor atya! \nBensőséges és kellemes újévi napokat\, jó találkozásokat és sok örömet kívánok minden kedves Hívemnek. \n* \n„A növény virágot bont\, hogy a méhek rászálljanak és megtermékenyítsék. A gyümölcs elszórja magvait\, hogy új növények bújjanak elő a földből\, amelyek aztán újra virágba borulnak\, hogy odacsalják a méheket\, amelyek megtermékenyítik\, hogy újra gyümölcsöt hozzanak\, és így tovább\, a végtelenségig.” (Paulo Coelho – író – 1947-)
URL:https://stuttgarti-katolikusok.de/index.php/esemeny/vizkereszt-unnepe-balingenben/
LOCATION:Roßwangen\, Weilstetter Str. 54\, Balingen\, Baden-Württemberg\, 72336\, Németország
CATEGORIES:Szentmise
ATTACH;FMTTYPE=image/jpeg:https://stuttgarti-katolikusok.de/wp-content/uploads/2024/01/kirche-rosswangen.jpg
END:VEVENT
END:VCALENDAR