BEGIN:VCALENDAR
VERSION:2.0
PRODID:-//Stuttgarti Katolikusok - ECPv6.15.20//NONSGML v1.0//EN
CALSCALE:GREGORIAN
METHOD:PUBLISH
X-WR-CALNAME:Stuttgarti Katolikusok
X-ORIGINAL-URL:https://stuttgarti-katolikusok.de
X-WR-CALDESC:Események Stuttgarti Katolikusok
REFRESH-INTERVAL;VALUE=DURATION:PT1H
X-Robots-Tag:noindex
X-PUBLISHED-TTL:PT1H
BEGIN:VTIMEZONE
TZID:Europe/Berlin
BEGIN:DAYLIGHT
TZOFFSETFROM:+0100
TZOFFSETTO:+0200
TZNAME:CEST
DTSTART:20220327T010000
END:DAYLIGHT
BEGIN:STANDARD
TZOFFSETFROM:+0200
TZOFFSETTO:+0100
TZNAME:CET
DTSTART:20221030T010000
END:STANDARD
BEGIN:DAYLIGHT
TZOFFSETFROM:+0100
TZOFFSETTO:+0200
TZNAME:CEST
DTSTART:20230326T010000
END:DAYLIGHT
BEGIN:STANDARD
TZOFFSETFROM:+0200
TZOFFSETTO:+0100
TZNAME:CET
DTSTART:20231029T010000
END:STANDARD
BEGIN:DAYLIGHT
TZOFFSETFROM:+0100
TZOFFSETTO:+0200
TZNAME:CEST
DTSTART:20240331T010000
END:DAYLIGHT
BEGIN:STANDARD
TZOFFSETFROM:+0200
TZOFFSETTO:+0100
TZNAME:CET
DTSTART:20241027T010000
END:STANDARD
END:VTIMEZONE
BEGIN:VEVENT
DTSTART;TZID=Europe/Berlin:20231231T100000
DTEND;TZID=Europe/Berlin:20231231T110000
DTSTAMP:20260423T063954
CREATED:20231228T231851Z
LAST-MODIFIED:20231228T232802Z
UID:27715-1704016800-1704020400@stuttgarti-katolikusok.de
SUMMARY:Szent Család ünnepe Weingartenben
DESCRIPTION:* \n  \n* \nDecember 31-én\, vasárnap\, Szent Család vasárnapja\, Szilveszter napja\, Weingartenben 10.00 órakor év végi hálaadó szentmise a 14 Nothelfer Kapelle-ben. \nMindenkit szeretettel vár a közösség és Tibor atya! \n *  \n \n *  \nJuhász Gyula: Karácsony felé \nSzép Tündérország támad föl szívemben\nIlyenkor decemberben.\nA szeretetnek csillagára nézek\,\nMegszáll egy titkos\, gyönyörű igézet\,\nIlyenkor decemberben. \n…Bizalmas szívvel járom a világot\,\nS amit az élet vágott\,\nBehegesztem a sebet a szívemben\,\nÉs hiszek újra égi szeretetben\,\nIlyenkor decemberben. \n…És valahol csak kétkedő beszédet\nHallok\, szomorún nézek\,\nA kis Jézuska itt van a közelben\,\nLegyünk hát jobbak\, s higgyünk rendületlen\,\nS ne csak így decemberben. \n* \n„Egész életünk a szeretet isteni „túlkapásainak” a drámája. Ennek a drámának áll mintegy centrumában a megtestesülés titka az isteni ártatlanság makulátlan tiszta jegyeivel. Így – a teremtő lemondás jegyében – a karácsony egyszerre az egész teremtés elfogadásának és szeretetben való fölülmúlásának az ünnepe. Isten szeretete és szabadsága a valóságos helye: innét univerzitása…Isten is csak szinte észrevétlenül léphetett közénk. Igaz\, kicsiny\, mérhetetlenül kicsiny fény ez – de reális. Ugyanaz a szelídség\, mely engedelmességre bírta a teremtett univerzumot\, és gyengédségének erejével a kereszt verésén túl meggyőzte a világot.” (Pilinszky János – költő – 1921 – 1981) \n* \nSzeretetteljes Karácsonyt\, és áldott\, békés\, boldog\, reményteli új évet kívánok minden kedves Hívemnek! \nLelkipásztori szeretettel\, \nTibor atya \nStuttgart\, 2023 Karácsonyán
URL:https://stuttgarti-katolikusok.de/index.php/esemeny/szent-csalad-unnepe-weingartenben/
LOCATION:14 Nothelfer  Kapelle\, Ravensburger Str. 39\, Weingarten\, Baden-Württemberg\, 88250\, Németország
CATEGORIES:Szentmise
ATTACH;FMTTYPE=image/jpeg:https://stuttgarti-katolikusok.de/wp-content/uploads/2015/12/Weingarten_Kapelle_14_Nothelfer.jpg
END:VEVENT
BEGIN:VEVENT
DTSTART;TZID=Europe/Berlin:20231231T110000
DTEND;TZID=Europe/Berlin:20231231T120000
DTSTAMP:20260423T063954
CREATED:20240104T090917Z
LAST-MODIFIED:20240104T090917Z
UID:27887-1704020400-1704024000@stuttgarti-katolikusok.de
SUMMARY:Weingarten
DESCRIPTION:
URL:https://stuttgarti-katolikusok.de/index.php/esemeny/weingarten-13/
LOCATION:Baden-Württemberg
CATEGORIES:Szentmisék helye és ideje
END:VEVENT
BEGIN:VEVENT
DTSTART;TZID=Europe/Berlin:20231231T180000
DTEND;TZID=Europe/Berlin:20231231T190000
DTSTAMP:20260423T063954
CREATED:20231228T232532Z
LAST-MODIFIED:20231228T232826Z
UID:27717-1704045600-1704049200@stuttgarti-katolikusok.de
SUMMARY:Szent Család ünnepe és év végi hálaadó szentmise Stuttgartban
DESCRIPTION:* \n  \n* \nDecember 31-én\, vasárnap\, Szent Család vasárnapja\, Szilveszter napja\, Stuttgartban 18.00 órakor év végi hálaadó szentmise. \nMindenkit szeretettel vár a közösség és Tibor atya! \n *  \n \n *  \nJuhász Gyula: Karácsony felé \nSzép Tündérország támad föl szívemben\nIlyenkor decemberben.\nA szeretetnek csillagára nézek\,\nMegszáll egy titkos\, gyönyörű igézet\,\nIlyenkor decemberben. \n…Bizalmas szívvel járom a világot\,\nS amit az élet vágott\,\nBehegesztem a sebet a szívemben\,\nÉs hiszek újra égi szeretetben\,\nIlyenkor decemberben. \n…És valahol csak kétkedő beszédet\nHallok\, szomorún nézek\,\nA kis Jézuska itt van a közelben\,\nLegyünk hát jobbak\, s higgyünk rendületlen\,\nS ne csak így decemberben. \n* \n„Egész életünk a szeretet isteni „túlkapásainak” a drámája. Ennek a drámának áll mintegy centrumában a megtestesülés titka az isteni ártatlanság makulátlan tiszta jegyeivel. Így – a teremtő lemondás jegyében – a karácsony egyszerre az egész teremtés elfogadásának és szeretetben való fölülmúlásának az ünnepe. Isten szeretete és szabadsága a valóságos helye: innét univerzitása…Isten is csak szinte észrevétlenül léphetett közénk. Igaz\, kicsiny\, mérhetetlenül kicsiny fény ez – de reális. Ugyanaz a szelídség\, mely engedelmességre bírta a teremtett univerzumot\, és gyengédségének erejével a kereszt verésén túl meggyőzte a világot.” (Pilinszky János – költő – 1921 – 1981) \n* \nSzeretetteljes Karácsonyt\, és áldott\, békés\, boldog\, reményteli új évet kívánok minden kedves Hívemnek! \nLelkipásztori szeretettel\, \nTibor atya \nStuttgart\, 2023 Karácsonyán
URL:https://stuttgarti-katolikusok.de/index.php/esemeny/szent-csalad-unnepe-es-ev-vegi-halaado-szentmise-stuttgartban/
LOCATION:Bruder Klaus Kirche\, Albert-Schäffle-Straße 30\, Stuttgart\, Baden-Württemberg\, 70186\, Németország
CATEGORIES:Szentmise
ATTACH;FMTTYPE=image/jpeg:https://stuttgarti-katolikusok.de/wp-content/uploads/2015/12/013__2_klaus.jpg
END:VEVENT
BEGIN:VEVENT
DTSTART;TZID=Europe/Berlin:20231231T180000
DTEND;TZID=Europe/Berlin:20231231T190000
DTSTAMP:20260423T063954
CREATED:20240104T090917Z
LAST-MODIFIED:20240104T090917Z
UID:27888-1704045600-1704049200@stuttgarti-katolikusok.de
SUMMARY:Stuttgart
DESCRIPTION:
URL:https://stuttgarti-katolikusok.de/index.php/esemeny/stuttgart-58/
LOCATION:Baden-Württemberg
CATEGORIES:Szentmisék helye és ideje
END:VEVENT
END:VCALENDAR