BEGIN:VCALENDAR
VERSION:2.0
PRODID:-//Stuttgarti Katolikusok - ECPv6.15.20//NONSGML v1.0//EN
CALSCALE:GREGORIAN
METHOD:PUBLISH
X-WR-CALNAME:Stuttgarti Katolikusok
X-ORIGINAL-URL:https://stuttgarti-katolikusok.de
X-WR-CALDESC:Események Stuttgarti Katolikusok
REFRESH-INTERVAL;VALUE=DURATION:PT1H
X-Robots-Tag:noindex
X-PUBLISHED-TTL:PT1H
BEGIN:VTIMEZONE
TZID:Europe/Berlin
BEGIN:DAYLIGHT
TZOFFSETFROM:+0100
TZOFFSETTO:+0200
TZNAME:CEST
DTSTART:20220327T010000
END:DAYLIGHT
BEGIN:STANDARD
TZOFFSETFROM:+0200
TZOFFSETTO:+0100
TZNAME:CET
DTSTART:20221030T010000
END:STANDARD
BEGIN:DAYLIGHT
TZOFFSETFROM:+0100
TZOFFSETTO:+0200
TZNAME:CEST
DTSTART:20230326T010000
END:DAYLIGHT
BEGIN:STANDARD
TZOFFSETFROM:+0200
TZOFFSETTO:+0100
TZNAME:CET
DTSTART:20231029T010000
END:STANDARD
BEGIN:DAYLIGHT
TZOFFSETFROM:+0100
TZOFFSETTO:+0200
TZNAME:CEST
DTSTART:20240331T010000
END:DAYLIGHT
BEGIN:STANDARD
TZOFFSETFROM:+0200
TZOFFSETTO:+0100
TZNAME:CET
DTSTART:20241027T010000
END:STANDARD
END:VTIMEZONE
BEGIN:VEVENT
DTSTART;TZID=Europe/Berlin:20231217T090000
DTEND;TZID=Europe/Berlin:20231217T110000
DTSTAMP:20260423T063956
CREATED:20231211T220610Z
LAST-MODIFIED:20231211T222137Z
UID:27624-1702803600-1702810800@stuttgarti-katolikusok.de
SUMMARY:Szentmise Ludwigsburgban
DESCRIPTION:December 17-én\, Advent III. vasárnapján\, Ludwigsburgban 9.00 órakor szentmise\, keretében a 3. adventi gyertya meggyújtása\, ezt követően agapé. \n  \nStuttgartban 11.30 órai kezdettel: Ökumenikus istentisztelet – „Együtt jónak lenni még jobb!” \n„Jónak lenni jó – 2023” – A közmédia karitatív műsorába kapcsolódunk be itt Stuttgartban. Ennek részleteit találjátok meg az alábbi képeken. \n * \n  \n* \nMindkét helyen mindenkit szeretettel vár a közösség és Tibor atya! \nBensőséges adventi napokat\, jó találkozásokat és sok örömet kívánunk minden Kedves Hívünknek! \n* \n„Az ádventi várakozás lényege szerint: várakozás arra\, Aki van; ahogy a szeretet misztériuma sem egyéb\, mint vágyakozás az után\, aki van\, aki a miénk.” (Pilinszky János – költő – 1921-1981)
URL:https://stuttgarti-katolikusok.de/index.php/esemeny/szentmise-ludwigsburgban-5/
LOCATION:St. Josef Kirche\, Park Str. 30\, Ludwigsburg-Hoheneck\, Baden-Württemberg\, 71642
CATEGORIES:Szentmise
ATTACH;FMTTYPE=image/jpeg:https://stuttgarti-katolikusok.de/wp-content/uploads/2021/04/ludwigsburg.jpeg
END:VEVENT
BEGIN:VEVENT
DTSTART;TZID=Europe/Berlin:20231217T113000
DTEND;TZID=Europe/Berlin:20231217T123000
DTSTAMP:20260423T063956
CREATED:20240104T090916Z
LAST-MODIFIED:20240104T090916Z
UID:27877-1702812600-1702816200@stuttgarti-katolikusok.de
SUMMARY:Stuttgart - cserkész-advent
DESCRIPTION:
URL:https://stuttgarti-katolikusok.de/index.php/esemeny/stuttgart-cserkesz-advent-4/
LOCATION:Baden-Württemberg
CATEGORIES:Szentmisék helye és ideje
END:VEVENT
BEGIN:VEVENT
DTSTART;TZID=Europe/Berlin:20231217T113000
DTEND;TZID=Europe/Berlin:20231217T163000
DTSTAMP:20260423T063956
CREATED:20231211T221259Z
LAST-MODIFIED:20231211T221259Z
UID:27626-1702812600-1702830600@stuttgarti-katolikusok.de
SUMMARY:Ökumenikus istentisztelet - Együtt jónak lenni még jobb!
DESCRIPTION:December 17-én\, Advent III. vasárnapján\, Stuttgartban 11.30 órai kezdettel: Ökumenikus istentisztelet – „Együtt jónak lenni még jobb!”  \n„Jónak lenni jó – 2023” – A közmédia karitatív műsorába kapcsolódunk be itt Stuttgartban. Ennek részleteit találjátok meg az alábbi képeken. \n * \n  \n* \nMinden helyről mindenkit szeretettel vár a közösség és Tibor atya! \nBensőséges adventi napokat\, jó találkozásokat és sok örömet kívánunk minden Kedves Hívünknek! \n* \n„Az ádventi várakozás lényege szerint: várakozás arra\, Aki van; ahogy a szeretet misztériuma sem egyéb\, mint vágyakozás az után\, aki van\, aki a miénk.” (Pilinszky János – költő – 1921-1981)
URL:https://stuttgarti-katolikusok.de/index.php/esemeny/okumenikus-istentisztelet-egyutt-jonak-lenni-meg-jobb/
LOCATION:Bruder Klaus Kirche\, Albert-Schäffle-Straße 30\, Stuttgart\, Baden-Württemberg\, 70186\, Németország
CATEGORIES:Ökumenikus istentisztelet
ATTACH;FMTTYPE=image/jpeg:https://stuttgarti-katolikusok.de/wp-content/uploads/2015/12/013__2_klaus.jpg
END:VEVENT
BEGIN:VEVENT
DTSTART;TZID=Europe/Berlin:20231217T153000
DTEND;TZID=Europe/Berlin:20231217T163000
DTSTAMP:20260423T063956
CREATED:20240104T090916Z
LAST-MODIFIED:20240104T090916Z
UID:27878-1702827000-1702830600@stuttgarti-katolikusok.de
SUMMARY:Eislingen
DESCRIPTION:
URL:https://stuttgarti-katolikusok.de/index.php/esemeny/eislingen-15/
LOCATION:Baden-Württemberg
CATEGORIES:Szentmisék helye és ideje
END:VEVENT
BEGIN:VEVENT
DTSTART;TZID=Europe/Berlin:20231217T153000
DTEND;TZID=Europe/Berlin:20231217T180000
DTSTAMP:20260423T063956
CREATED:20231211T221731Z
LAST-MODIFIED:20231211T221731Z
UID:27630-1702827000-1702836000@stuttgarti-katolikusok.de
SUMMARY:Szentmise Eislingenben
DESCRIPTION:December 17-én\, Advent III. vasárnapján\, Eislingenben 15.30 órakor szentmise\, keretében a 3. adventi gyertya meggyújtása\, utána agapé. \n * \n  \n* \nMindenkit szeretettel vár a közösség és Tibor atya! \nBensőséges adventi napokat\, jó találkozásokat és sok örömet kívánunk minden Kedves Hívünknek! \n* \n„Az ádventi várakozás lényege szerint: várakozás arra\, Aki van; ahogy a szeretet misztériuma sem egyéb\, mint vágyakozás az után\, aki van\, aki a miénk.” (Pilinszky János – költő – 1921-1981)
URL:https://stuttgarti-katolikusok.de/index.php/esemeny/szentmise-eislingenben-7/
LOCATION:Liebfrauen-Kirche\, Eberhardt Str. 30\, Eislingen/Fils\, Baden-Württemberg\, 73054\, Németország
CATEGORIES:Szentmise
ATTACH;FMTTYPE=image/jpeg:https://stuttgarti-katolikusok.de/wp-content/uploads/2015/12/Eislingen.jpg
END:VEVENT
END:VCALENDAR