BEGIN:VCALENDAR
VERSION:2.0
PRODID:-//Stuttgarti Katolikusok - ECPv6.15.20//NONSGML v1.0//EN
CALSCALE:GREGORIAN
METHOD:PUBLISH
X-WR-CALNAME:Stuttgarti Katolikusok
X-ORIGINAL-URL:https://stuttgarti-katolikusok.de
X-WR-CALDESC:Események Stuttgarti Katolikusok
REFRESH-INTERVAL;VALUE=DURATION:PT1H
X-Robots-Tag:noindex
X-PUBLISHED-TTL:PT1H
BEGIN:VTIMEZONE
TZID:Europe/Berlin
BEGIN:DAYLIGHT
TZOFFSETFROM:+0100
TZOFFSETTO:+0200
TZNAME:CEST
DTSTART:20220327T010000
END:DAYLIGHT
BEGIN:STANDARD
TZOFFSETFROM:+0200
TZOFFSETTO:+0100
TZNAME:CET
DTSTART:20221030T010000
END:STANDARD
BEGIN:DAYLIGHT
TZOFFSETFROM:+0100
TZOFFSETTO:+0200
TZNAME:CEST
DTSTART:20230326T010000
END:DAYLIGHT
BEGIN:STANDARD
TZOFFSETFROM:+0200
TZOFFSETTO:+0100
TZNAME:CET
DTSTART:20231029T010000
END:STANDARD
BEGIN:DAYLIGHT
TZOFFSETFROM:+0100
TZOFFSETTO:+0200
TZNAME:CEST
DTSTART:20240331T010000
END:DAYLIGHT
BEGIN:STANDARD
TZOFFSETFROM:+0200
TZOFFSETTO:+0100
TZNAME:CET
DTSTART:20241027T010000
END:STANDARD
END:VTIMEZONE
BEGIN:VEVENT
DTSTART;TZID=Europe/Berlin:20231210T090000
DTEND;TZID=Europe/Berlin:20231210T100000
DTSTAMP:20260423T064027
CREATED:20240104T090918Z
LAST-MODIFIED:20240104T090918Z
UID:27894-1702198800-1702202400@stuttgarti-katolikusok.de
SUMMARY:Weingarten
DESCRIPTION:
URL:https://stuttgarti-katolikusok.de/index.php/esemeny/weingarten-18/
LOCATION:Baden-Württemberg
CATEGORIES:Szentmisék helye és ideje
END:VEVENT
BEGIN:VEVENT
DTSTART;TZID=Europe/Berlin:20231210T100000
DTEND;TZID=Europe/Berlin:20231210T123000
DTSTAMP:20260423T064027
CREATED:20231204T003323Z
LAST-MODIFIED:20231204T092418Z
UID:27584-1702202400-1702211400@stuttgarti-katolikusok.de
SUMMARY:Szentmise Weingartenben
DESCRIPTION:December 10-én\, Advent II. vasárnapján\, Weingartenben 10.00 órakor a 14 Nothelfer Kapelle-ben szentmise\, keretében a 2. adventi gyertya meggyújtása\, megemlékezés Szent Miklós püspökről\, utána agapé. \nMindenkit szeretettel vár a közösség és Tibor atya! \n* \n \n  \n* \nBensőséges adventi napokat\, jó találkozásokat és sok örömet kívánunk minden Kedves Hívünknek! \n* \n„Örömre kell berendezkedni. Nem szabad félni a teljes örömtől. Ahogy Nietzsche mondja: »Mély a fájdalom\, de az öröm még mélyebb. Az öröm öröklétet kíván\, mély\, mély örökkévalóságot!«” – (Pilinszky János – katolikus költő – 1921 – 1981)
URL:https://stuttgarti-katolikusok.de/index.php/esemeny/szentmise-weingartenben-8/
LOCATION:14 Nothelfer  Kapelle\, Ravensburger Str. 39\, Weingarten\, Baden-Württemberg\, 88250\, Németország
CATEGORIES:Szentmise
ATTACH;FMTTYPE=image/jpeg:https://stuttgarti-katolikusok.de/wp-content/uploads/2015/12/Weingarten_Kapelle_14_Nothelfer.jpg
END:VEVENT
BEGIN:VEVENT
DTSTART;TZID=Europe/Berlin:20231210T150000
DTEND;TZID=Europe/Berlin:20231210T160000
DTSTAMP:20260423T064027
CREATED:20240104T090915Z
LAST-MODIFIED:20240104T090915Z
UID:27875-1702220400-1702224000@stuttgarti-katolikusok.de
SUMMARY:Ulm
DESCRIPTION:
URL:https://stuttgarti-katolikusok.de/index.php/esemeny/ulm-29/
LOCATION:Baden-Württemberg
CATEGORIES:Szentmisék helye és ideje
END:VEVENT
BEGIN:VEVENT
DTSTART;TZID=Europe/Berlin:20231210T150000
DTEND;TZID=Europe/Berlin:20231210T170000
DTSTAMP:20260423T064027
CREATED:20231204T003837Z
LAST-MODIFIED:20231204T003904Z
UID:27586-1702220400-1702227600@stuttgarti-katolikusok.de
SUMMARY:Szentmise Ulmban
DESCRIPTION:December 10-én\, Advent II. vasárnapján\, Ulmban 15.00 órakor szentmise\, keretében a 2. adventi gyertya meggyújtása\, egyben megemlékezünk Szent Miklós püspökről\, utána agapé. \nMindenkit szeretettel vár a közösség és Tibor atya! \n* \n \n* \nBensőséges adventi napokat\, jó találkozásokat és sok örömet kívánunk minden Kedves Hívünknek! \n* \n„Örömre kell berendezkedni. Nem szabad félni a teljes örömtől. Ahogy Nietzsche mondja: »Mély a fájdalom\, de az öröm még mélyebb. Az öröm öröklétet kíván\, mély\, mély örökkévalóságot!«” – (Pilinszky János – katolikus költő – 1921 – 1981)
URL:https://stuttgarti-katolikusok.de/index.php/esemeny/szentmise-ulmban-6/
LOCATION:St. Michael zu den Wengen\, Wengengasse 6\, Ulm\, Baden-Württemberg\, 89073\, Németország
CATEGORIES:Szentmise
ATTACH;FMTTYPE=image/jpeg:https://stuttgarti-katolikusok.de/wp-content/uploads/2015/12/Wengenkirche1-e1483916551260.jpg
END:VEVENT
END:VCALENDAR