BEGIN:VCALENDAR
VERSION:2.0
PRODID:-//Stuttgarti Katolikusok - ECPv6.15.20//NONSGML v1.0//EN
CALSCALE:GREGORIAN
METHOD:PUBLISH
X-WR-CALNAME:Stuttgarti Katolikusok
X-ORIGINAL-URL:https://stuttgarti-katolikusok.de
X-WR-CALDESC:Események Stuttgarti Katolikusok
REFRESH-INTERVAL;VALUE=DURATION:PT1H
X-Robots-Tag:noindex
X-PUBLISHED-TTL:PT1H
BEGIN:VTIMEZONE
TZID:Europe/Berlin
BEGIN:DAYLIGHT
TZOFFSETFROM:+0100
TZOFFSETTO:+0200
TZNAME:CEST
DTSTART:20220327T010000
END:DAYLIGHT
BEGIN:STANDARD
TZOFFSETFROM:+0200
TZOFFSETTO:+0100
TZNAME:CET
DTSTART:20221030T010000
END:STANDARD
BEGIN:DAYLIGHT
TZOFFSETFROM:+0100
TZOFFSETTO:+0200
TZNAME:CEST
DTSTART:20230326T010000
END:DAYLIGHT
BEGIN:STANDARD
TZOFFSETFROM:+0200
TZOFFSETTO:+0100
TZNAME:CET
DTSTART:20231029T010000
END:STANDARD
BEGIN:DAYLIGHT
TZOFFSETFROM:+0100
TZOFFSETTO:+0200
TZNAME:CEST
DTSTART:20240331T010000
END:DAYLIGHT
BEGIN:STANDARD
TZOFFSETFROM:+0200
TZOFFSETTO:+0100
TZNAME:CET
DTSTART:20241027T010000
END:STANDARD
END:VTIMEZONE
BEGIN:VEVENT
DTSTART;TZID=Europe/Berlin:20231209T080000
DTEND;TZID=Europe/Berlin:20231209T100000
DTSTAMP:20260423T064024
CREATED:20231204T002020Z
LAST-MODIFIED:20231204T002020Z
UID:27579-1702108800-1702116000@stuttgarti-katolikusok.de
SUMMARY:Roráté-szentmise Weingartenben
DESCRIPTION:December 9-én\, szombaton\, Weingartenben a 14 Nothelfer Kapelle-ben 7.00 órakor roráté–szentmise. Utána közös reggeli. \nMindenkit szeretettel vár a közösség és Tibor atya! \n* \n \n* \nBensőséges adventi napokat\, jó találkozásokat és sok örömet kívánunk minden Kedves Hívünknek! \n* \n„Örömre kell berendezkedni. Nem szabad félni a teljes örömtől. Ahogy Nietzsche mondja: »Mély a fájdalom\, de az öröm még mélyebb. Az öröm öröklétet kíván\, mély\, mély örökkévalóságot!«” – (Pilinszky János – katolikus költő – 1921 – 1981)
URL:https://stuttgarti-katolikusok.de/index.php/esemeny/rorate-szentmise-weingartenben/
LOCATION:14 Nothelfer  Kapelle\, Ravensburger Str. 39\, Weingarten\, Baden-Württemberg\, 88250\, Németország
CATEGORIES:Róráté-szentmise
ATTACH;FMTTYPE=image/jpeg:https://stuttgarti-katolikusok.de/wp-content/uploads/2015/12/Weingarten_Kapelle_14_Nothelfer.jpg
END:VEVENT
BEGIN:VEVENT
DTSTART;TZID=Europe/Berlin:20231209T164500
DTEND;TZID=Europe/Berlin:20231209T174500
DTSTAMP:20260423T064024
CREATED:20240104T090915Z
LAST-MODIFIED:20240104T090915Z
UID:27874-1702140300-1702143900@stuttgarti-katolikusok.de
SUMMARY:Biberach
DESCRIPTION:
URL:https://stuttgarti-katolikusok.de/index.php/esemeny/biberach-28/
LOCATION:Baden-Württemberg
CATEGORIES:Szentmisék helye és ideje
END:VEVENT
BEGIN:VEVENT
DTSTART;TZID=Europe/Berlin:20231209T164500
DTEND;TZID=Europe/Berlin:20231209T190000
DTSTAMP:20260423T064024
CREATED:20231204T002748Z
LAST-MODIFIED:20231204T002821Z
UID:27581-1702140300-1702148400@stuttgarti-katolikusok.de
SUMMARY:Szentmise Biberachban
DESCRIPTION:December 9-én\, szombaton\, Biberachban 16.45 órakor szentmise\, keretében a 2. adventi gyertya meggyújtása\, egyben megemlékezünk Szent Miklós püspökről\, utána agapé. \nMindenkit szeretettel vár a közösség és Tibor atya! \n* \n \n* \nBensőséges adventi napokat\, jó találkozásokat és sok örömet kívánunk minden Kedves Hívünknek! \n* \n„Örömre kell berendezkedni. Nem szabad félni a teljes örömtől. Ahogy Nietzsche mondja: »Mély a fájdalom\, de az öröm még mélyebb. Az öröm öröklétet kíván\, mély\, mély örökkévalóságot!«” – (Pilinszky János – katolikus költő – 1921 – 1981)
URL:https://stuttgarti-katolikusok.de/index.php/esemeny/szentmise-biberachban-7/
LOCATION:Dreifaltigkeitskirche Biberach\, Mittelbergstr. 29\, Biberach an der Riß\, Baden Württemberg\, 88400\, Németország
CATEGORIES:Szentmise
ATTACH;FMTTYPE=image/jpeg:https://stuttgarti-katolikusok.de/wp-content/uploads/2023/03/csm-dreifaltigkeitskirche-7285105d03.jpg
END:VEVENT
END:VCALENDAR