BEGIN:VCALENDAR
VERSION:2.0
PRODID:-//Stuttgarti Katolikusok - ECPv6.15.20//NONSGML v1.0//EN
CALSCALE:GREGORIAN
METHOD:PUBLISH
X-ORIGINAL-URL:https://stuttgarti-katolikusok.de
X-WR-CALDESC:Események Stuttgarti Katolikusok
REFRESH-INTERVAL;VALUE=DURATION:PT1H
X-Robots-Tag:noindex
X-PUBLISHED-TTL:PT1H
BEGIN:VTIMEZONE
TZID:Europe/Berlin
BEGIN:DAYLIGHT
TZOFFSETFROM:+0100
TZOFFSETTO:+0200
TZNAME:CEST
DTSTART:20220327T010000
END:DAYLIGHT
BEGIN:STANDARD
TZOFFSETFROM:+0200
TZOFFSETTO:+0100
TZNAME:CET
DTSTART:20221030T010000
END:STANDARD
BEGIN:DAYLIGHT
TZOFFSETFROM:+0100
TZOFFSETTO:+0200
TZNAME:CEST
DTSTART:20230326T010000
END:DAYLIGHT
BEGIN:STANDARD
TZOFFSETFROM:+0200
TZOFFSETTO:+0100
TZNAME:CET
DTSTART:20231029T010000
END:STANDARD
BEGIN:DAYLIGHT
TZOFFSETFROM:+0100
TZOFFSETTO:+0200
TZNAME:CEST
DTSTART:20240331T010000
END:DAYLIGHT
BEGIN:STANDARD
TZOFFSETFROM:+0200
TZOFFSETTO:+0100
TZNAME:CET
DTSTART:20241027T010000
END:STANDARD
END:VTIMEZONE
BEGIN:VEVENT
DTSTART;TZID=Europe/Berlin:20231126T093000
DTEND;TZID=Europe/Berlin:20231126T103000
DTSTAMP:20260423T023601
CREATED:20240104T090914Z
LAST-MODIFIED:20240104T090914Z
UID:27869-1700991000-1700994600@stuttgarti-katolikusok.de
SUMMARY:Böblingen
DESCRIPTION:
URL:https://stuttgarti-katolikusok.de/index.php/esemeny/boblingen-17/
LOCATION:Baden-Württemberg
CATEGORIES:Szentmisék helye és ideje
END:VEVENT
BEGIN:VEVENT
DTSTART;TZID=Europe/Berlin:20231126T093000
DTEND;TZID=Europe/Berlin:20231126T113000
DTSTAMP:20260423T023601
CREATED:20231120T124156Z
LAST-MODIFIED:20231120T124156Z
UID:27511-1700991000-1700998200@stuttgarti-katolikusok.de
SUMMARY:Szentmise Böblingenben
DESCRIPTION:November 26-án\, Krisztus Király vasárnapja\, Böblingenben 9.30 órakor\, szentmise\, utána agapé\,  \nMindenkit szeretettel vár a közösség és Tibor atya! \n* \n \n* \nBensőséges őszi napokat\, jó munkát\, tartalmas beszélgetéseket\, örömteli találkozásokat és áldott adventi készületet kívánunk minden Kedves Hívünknek! \n* \nAz örökkévalóság jelképei \n  \nMilyen ritkán lépnek át gondolataid az örökkévalóságba! \nJelölj hát ki jelképeket életedben\, amelyek az örökkévalóságra emlékeztetnek. Ilyen lehet: \nMinden tágas templom\, amelyben körülnézel. \nMinden torony\, mely az ég felé mutat. \nMinden gyászjelentés\, mely a postás kézbesít. \nMinden öreg ember\, akivel találkozol. \nMinden patak\, amely a folyóba ömlik. \nMinden pályaudvar és állomás\, ahol kiszállsz. \nGondolj a végállomásra! \n  \n(Johannes Rosche)
URL:https://stuttgarti-katolikusok.de/index.php/esemeny/szentmise-boblingenben-6/
LOCATION:St. Bonifatius Kirche\, Sindelfinger Str. 14\, Böblingen\, Baden-Württemberg\, 71032\, Németország
CATEGORIES:Szentmise
ATTACH;FMTTYPE=image/jpeg:https://stuttgarti-katolikusok.de/wp-content/uploads/2021/11/boblingen.jpeg
END:VEVENT
BEGIN:VEVENT
DTSTART;TZID=Europe/Berlin:20231126T153000
DTEND;TZID=Europe/Berlin:20231126T163000
DTSTAMP:20260423T023601
CREATED:20240104T090914Z
LAST-MODIFIED:20240104T090914Z
UID:27870-1701012600-1701016200@stuttgarti-katolikusok.de
SUMMARY:Heilbronn
DESCRIPTION:
URL:https://stuttgarti-katolikusok.de/index.php/esemeny/heilbronn-17/
LOCATION:Baden-Württemberg
CATEGORIES:Szentmisék helye és ideje
END:VEVENT
BEGIN:VEVENT
DTSTART;TZID=Europe/Berlin:20231126T153000
DTEND;TZID=Europe/Berlin:20231126T173000
DTSTAMP:20260423T023601
CREATED:20231120T125728Z
LAST-MODIFIED:20231120T125728Z
UID:27514-1701012600-1701019800@stuttgarti-katolikusok.de
SUMMARY:Szentmise Heilbronnban
DESCRIPTION:November 26-án\, Krisztus Király vasárnapja\, Heilbronnban 15.30 órakor szentmise\, utána agapé. \nA helyszín megváltozott: Maximilian Kolbe Kirche 74081 Heilbronn\, Jörg-Ratgeb-Platz 25. \nMindenkit szeretettel vár a közösség és Tibor atya! \n* \n \n* \nBensőséges őszi napokat\, jó munkát\, tartalmas beszélgetéseket\, örömteli találkozásokat és áldott adventi készületet kívánunk minden Kedves Hívünknek! \n* \nAz örökkévalóság jelképei \n  \nMilyen ritkán lépnek át gondolataid az örökkévalóságba! \nJelölj hát ki jelképeket életedben\, amelyek az örökkévalóságra emlékeztetnek. Ilyen lehet: \nMinden tágas templom\, amelyben körülnézel. \nMinden torony\, mely az ég felé mutat. \nMinden gyászjelentés\, mely a postás kézbesít. \nMinden öreg ember\, akivel találkozol. \nMinden patak\, amely a folyóba ömlik. \nMinden pályaudvar és állomás\, ahol kiszállsz. \nGondolj a végállomásra! \n  \n(Johannes Rosche)
URL:https://stuttgarti-katolikusok.de/index.php/esemeny/szentmise-heilbronnban-6/
LOCATION:Maximilian Kolbe Kirche\, Jörg-Ratgeb-Platz 25.\, Heilbronn\, Baden-Württemberg\, 74081
CATEGORIES:Szentmise
ATTACH;FMTTYPE=image/jpeg:https://stuttgarti-katolikusok.de/wp-content/uploads/2023/11/maximilian-kolbe-heilbronn.jpg
END:VEVENT
END:VCALENDAR