BEGIN:VCALENDAR
VERSION:2.0
PRODID:-//Stuttgarti Katolikusok - ECPv6.15.20//NONSGML v1.0//EN
CALSCALE:GREGORIAN
METHOD:PUBLISH
X-WR-CALNAME:Stuttgarti Katolikusok
X-ORIGINAL-URL:https://stuttgarti-katolikusok.de
X-WR-CALDESC:Események Stuttgarti Katolikusok
REFRESH-INTERVAL;VALUE=DURATION:PT1H
X-Robots-Tag:noindex
X-PUBLISHED-TTL:PT1H
BEGIN:VTIMEZONE
TZID:Europe/Berlin
BEGIN:DAYLIGHT
TZOFFSETFROM:+0100
TZOFFSETTO:+0200
TZNAME:CEST
DTSTART:20220327T010000
END:DAYLIGHT
BEGIN:STANDARD
TZOFFSETFROM:+0200
TZOFFSETTO:+0100
TZNAME:CET
DTSTART:20221030T010000
END:STANDARD
BEGIN:DAYLIGHT
TZOFFSETFROM:+0100
TZOFFSETTO:+0200
TZNAME:CEST
DTSTART:20230326T010000
END:DAYLIGHT
BEGIN:STANDARD
TZOFFSETFROM:+0200
TZOFFSETTO:+0100
TZNAME:CET
DTSTART:20231029T010000
END:STANDARD
BEGIN:DAYLIGHT
TZOFFSETFROM:+0100
TZOFFSETTO:+0200
TZNAME:CEST
DTSTART:20240331T010000
END:DAYLIGHT
BEGIN:STANDARD
TZOFFSETFROM:+0200
TZOFFSETTO:+0100
TZNAME:CET
DTSTART:20241027T010000
END:STANDARD
END:VTIMEZONE
BEGIN:VEVENT
DTSTART;TZID=Europe/Berlin:20231125T163000
DTEND;TZID=Europe/Berlin:20231125T173000
DTSTAMP:20260423T035538
CREATED:20240104T090914Z
LAST-MODIFIED:20240104T090914Z
UID:27868-1700929800-1700933400@stuttgarti-katolikusok.de
SUMMARY:Reutlingen - búcsú!!!
DESCRIPTION:
URL:https://stuttgarti-katolikusok.de/index.php/esemeny/reutlingen-bucsu-2/
LOCATION:Baden-Württemberg
CATEGORIES:Szentmisék helye és ideje
END:VEVENT
BEGIN:VEVENT
DTSTART;TZID=Europe/Berlin:20231125T163000
DTEND;TZID=Europe/Berlin:20231125T190000
DTSTAMP:20260423T035538
CREATED:20231120T122137Z
LAST-MODIFIED:20231120T123219Z
UID:27505-1700929800-1700938800@stuttgarti-katolikusok.de
SUMMARY:Szent Erzsébet búcsú Reutlingenben
DESCRIPTION:November 25-én\, szombaton\, Reutlingenben 16.30 órakor búcsús szentmise\, keretében Árpád-házi Szent Erzsébetet köszöntjük\, ezt követően agapé. \nA helyszín megváltozott: Bruder Klaus Kirche – Villastraße 75\, 72770 Reutlingen-Betzingen. \n \n* \nMindenkit szeretettel vár a közösség és Tibor atya! \n* \nBensőséges őszi napokat\, jó munkát\, tartalmas beszélgetéseket\, örömteli találkozásokat és áldott adventi készületet kívánunk minden Kedves Hívünknek! \n* \nAz örökkévalóság jelképei \n  \nMilyen ritkán lépnek át gondolataid az örökkévalóságba! \nJelölj hát ki jelképeket életedben\, amelyek az örökkévalóságra emlékeztetnek. Ilyen lehet: \nMinden tágas templom\, amelyben körülnézel. \nMinden torony\, mely az ég felé mutat. \nMinden gyászjelentés\, mely a postás kézbesít. \nMinden öreg ember\, akivel találkozol. \nMinden patak\, amely a folyóba ömlik. \nMinden pályaudvar és állomás\, ahol kiszállsz. \nGondolj a végállomásra! \n  \n(Johannes Rosche)
URL:https://stuttgarti-katolikusok.de/index.php/esemeny/szent-erzsebet-bucsu-reutlingenben/
LOCATION:Br. Klaus Kirche Reutlingen\, Villastraße 75\, Reutlingen\, Baden Württemberg\, 72770\, Németország
CATEGORIES:Szentmise
ATTACH;FMTTYPE=image/jpeg:https://stuttgarti-katolikusok.de/wp-content/uploads/2023/11/reutlingen-bruder-klaus-kirche.jpg
END:VEVENT
END:VCALENDAR