BEGIN:VCALENDAR
VERSION:2.0
PRODID:-//Stuttgarti Katolikusok - ECPv6.15.20//NONSGML v1.0//EN
CALSCALE:GREGORIAN
METHOD:PUBLISH
X-WR-CALNAME:Stuttgarti Katolikusok
X-ORIGINAL-URL:https://stuttgarti-katolikusok.de
X-WR-CALDESC:Események Stuttgarti Katolikusok
REFRESH-INTERVAL;VALUE=DURATION:PT1H
X-Robots-Tag:noindex
X-PUBLISHED-TTL:PT1H
BEGIN:VTIMEZONE
TZID:Europe/Berlin
BEGIN:DAYLIGHT
TZOFFSETFROM:+0100
TZOFFSETTO:+0200
TZNAME:CEST
DTSTART:20220327T010000
END:DAYLIGHT
BEGIN:STANDARD
TZOFFSETFROM:+0200
TZOFFSETTO:+0100
TZNAME:CET
DTSTART:20221030T010000
END:STANDARD
BEGIN:DAYLIGHT
TZOFFSETFROM:+0100
TZOFFSETTO:+0200
TZNAME:CEST
DTSTART:20230326T010000
END:DAYLIGHT
BEGIN:STANDARD
TZOFFSETFROM:+0200
TZOFFSETTO:+0100
TZNAME:CET
DTSTART:20231029T010000
END:STANDARD
BEGIN:DAYLIGHT
TZOFFSETFROM:+0100
TZOFFSETTO:+0200
TZNAME:CEST
DTSTART:20240331T010000
END:DAYLIGHT
BEGIN:STANDARD
TZOFFSETFROM:+0200
TZOFFSETTO:+0100
TZNAME:CET
DTSTART:20241027T010000
END:STANDARD
END:VTIMEZONE
BEGIN:VEVENT
DTSTART;TZID=Europe/Berlin:20231118T153000
DTEND;TZID=Europe/Berlin:20231118T163000
DTSTAMP:20260423T035539
CREATED:20240104T090914Z
LAST-MODIFIED:20240104T090914Z
UID:27865-1700321400-1700325000@stuttgarti-katolikusok.de
SUMMARY:Heidenheim
DESCRIPTION:
URL:https://stuttgarti-katolikusok.de/index.php/esemeny/heidenheim-17/
LOCATION:Baden-Württemberg
CATEGORIES:Szentmisék helye és ideje
END:VEVENT
BEGIN:VEVENT
DTSTART;TZID=Europe/Berlin:20231118T153000
DTEND;TZID=Europe/Berlin:20231118T173000
DTSTAMP:20260423T035539
CREATED:20231113T200933Z
LAST-MODIFIED:20231113T200933Z
UID:27468-1700321400-1700328600@stuttgarti-katolikusok.de
SUMMARY:Igeistentisztelet Heidenheimban
DESCRIPTION:November 18-án\, szombaton\, Heidenheimban 15.30 órakor igeistentisztelet\, ezt követően agapét tartunk. \n\nMindenkit szeretettel vár a közösség és Tibor atya! \n* \nBensőséges őszi napokat\, jó munkát\, tartalmas beszélgetéseket és örömteli találkozásokat kívánunk minden Kedves Hívünknek! \n* \n„ATYÁM\, \nRád hagyatkozom\, tedd velem azt\, ami neked tetszik. \nBármit teszel is velem\, megköszönöm. \nKész vagyok mindenre\, elfogadok mindent\, \ncsak akaratod teljesedjék\, bennem és minden teremtményedben. \nSemmi mást nem óhajtok\, Istenem! \nKezedbe ajánlom lelkemet\, neked adom\, Istenem\, \nszívem egész szeretetével\, \nmert szeretlek téged\, és a szeretet sürget\, \nhogy egészen neked adjam magam\, \nhogy fenntartás nélkül kezedbe helyezzem életemet \nhatártalan bizalommal\, \nmert te vagy az én Atyám!” \n(Boldog Charles de Foucauld – 1858-1916 – trappista szerzetes\, katolikus pap)
URL:https://stuttgarti-katolikusok.de/index.php/esemeny/igeistentisztelet-heidenheimban/
LOCATION:Dreifaltigkeitskirche\, Verdi Str. 13\, Heidenheim an der Brenz\, Baden-Würtenberg\, 89518\, Németország
CATEGORIES:Igeistentisztelet
ATTACH;FMTTYPE=image/jpeg:https://stuttgarti-katolikusok.de/wp-content/uploads/2020/11/heidenheim1.jpg
END:VEVENT
BEGIN:VEVENT
DTSTART;TZID=Europe/Berlin:20231118T160000
DTEND;TZID=Europe/Berlin:20231119T000000
DTSTAMP:20260423T035539
CREATED:20231113T201421Z
LAST-MODIFIED:20231116T205116Z
UID:27470-1700323200-1700352000@stuttgarti-katolikusok.de
SUMMARY:Szent Imre búcsús szentmise Weingartenben
DESCRIPTION:November 18-án\, szombaton\, Weingartenben 16.00 órakor búcsús-szentmise a Heilig Geist Kirche-ben\, Szent Imre herceget köszöntjük. Ezt követően 18.00 órakor agapé\, azaz közös vacsora a St. Martinus Gemeindehaus-ban. \n \n*** \n \n* \nMindenkit szeretettel vár a közösség és Tibor atya! \nBensőséges őszi napokat\, jó munkát\, tartalmas beszélgetéseket és örömteli találkozásokat kívánunk minden Kedves Hívünknek! \n* \n„ATYÁM\, \nRád hagyatkozom\, tedd velem azt\, ami neked tetszik. \nBármit teszel is velem\, megköszönöm. \nKész vagyok mindenre\, elfogadok mindent\, \ncsak akaratod teljesedjék\, bennem és minden teremtményedben. \nSemmi mást nem óhajtok\, Istenem! \nKezedbe ajánlom lelkemet\, neked adom\, Istenem\, \nszívem egész szeretetével\, \nmert szeretlek téged\, és a szeretet sürget\, \nhogy egészen neked adjam magam\, \nhogy fenntartás nélkül kezedbe helyezzem életemet \nhatártalan bizalommal\, \nmert te vagy az én Atyám!” \n(Boldog Charles de Foucauld – 1858-1916 – trappista szerzetes\, katolikus pap)
URL:https://stuttgarti-katolikusok.de/index.php/esemeny/szent-imre-bucsus-szentmise-weingartenben/
LOCATION:Hl. Geist Weingarten\, Keplerstrasse 2\, Weingarten\, Baden-Württemberg\, 88250\, Németország
CATEGORIES:Szentmise
ATTACH;FMTTYPE=image/jpeg:https://stuttgarti-katolikusok.de/wp-content/uploads/2023/02/hlgeist-20221102-27-kiechle-1024x683-1.jpg
END:VEVENT
END:VCALENDAR