BEGIN:VCALENDAR
VERSION:2.0
PRODID:-//Stuttgarti Katolikusok - ECPv6.15.20//NONSGML v1.0//EN
CALSCALE:GREGORIAN
METHOD:PUBLISH
X-ORIGINAL-URL:https://stuttgarti-katolikusok.de
X-WR-CALDESC:Események Stuttgarti Katolikusok
REFRESH-INTERVAL;VALUE=DURATION:PT1H
X-Robots-Tag:noindex
X-PUBLISHED-TTL:PT1H
BEGIN:VTIMEZONE
TZID:Europe/Berlin
BEGIN:DAYLIGHT
TZOFFSETFROM:+0100
TZOFFSETTO:+0200
TZNAME:CEST
DTSTART:20220327T010000
END:DAYLIGHT
BEGIN:STANDARD
TZOFFSETFROM:+0200
TZOFFSETTO:+0100
TZNAME:CET
DTSTART:20221030T010000
END:STANDARD
BEGIN:DAYLIGHT
TZOFFSETFROM:+0100
TZOFFSETTO:+0200
TZNAME:CEST
DTSTART:20230326T010000
END:DAYLIGHT
BEGIN:STANDARD
TZOFFSETFROM:+0200
TZOFFSETTO:+0100
TZNAME:CET
DTSTART:20231029T010000
END:STANDARD
BEGIN:DAYLIGHT
TZOFFSETFROM:+0100
TZOFFSETTO:+0200
TZNAME:CEST
DTSTART:20240331T010000
END:DAYLIGHT
BEGIN:STANDARD
TZOFFSETFROM:+0200
TZOFFSETTO:+0100
TZNAME:CET
DTSTART:20241027T010000
END:STANDARD
END:VTIMEZONE
BEGIN:VEVENT
DTSTART;TZID=Europe/Berlin:20231117T180000
DTEND;TZID=Europe/Berlin:20231117T210000
DTSTAMP:20260423T051248
CREATED:20231113T200538Z
LAST-MODIFIED:20231113T200538Z
UID:27466-1700244000-1700254800@stuttgarti-katolikusok.de
SUMMARY:Stuttgarti délután
DESCRIPTION:November 17-én\, pénteken\, Stuttgarti délután\, \n18.00 órakor szentmise\, \n19.00 órakor Erasmus-Akadémia keretében előadás: \n \n* \n  \nMindenkit szeretettel vár a közösség és Tibor atya! \nBensőséges őszi napokat\, jó munkát\, tartalmas beszélgetéseket és örömteli találkozásokat kívánunk minden Kedves Hívünknek! \n* \n„ATYÁM\, \nRád hagyatkozom\, tedd velem azt\, ami neked tetszik. \nBármit teszel is velem\, megköszönöm. \nKész vagyok mindenre\, elfogadok mindent\, \ncsak akaratod teljesedjék\, bennem és minden teremtményedben. \nSemmi mást nem óhajtok\, Istenem! \nKezedbe ajánlom lelkemet\, neked adom\, Istenem\, \nszívem egész szeretetével\, \nmert szeretlek téged\, és a szeretet sürget\, \nhogy egészen neked adjam magam\, \nhogy fenntartás nélkül kezedbe helyezzem életemet \nhatártalan bizalommal\, \nmert te vagy az én Atyám!” \n(Boldog Charles de Foucauld – 1858-1916 – trappista szerzetes\, katolikus pap)
URL:https://stuttgarti-katolikusok.de/index.php/esemeny/stuttgarti-delutan-27/
LOCATION:Bruder Klaus Kirche\, Albert-Schäffle-Straße 30\, Stuttgart\, Baden-Württemberg\, 70186\, Németország
CATEGORIES:Erasmus Akadémia,Stuttgarti délután
ATTACH;FMTTYPE=image/jpeg:https://stuttgarti-katolikusok.de/wp-content/uploads/2015/12/013__2_klaus.jpg
END:VEVENT
END:VCALENDAR