BEGIN:VCALENDAR
VERSION:2.0
PRODID:-//Stuttgarti Katolikusok - ECPv6.15.20//NONSGML v1.0//EN
CALSCALE:GREGORIAN
METHOD:PUBLISH
X-ORIGINAL-URL:https://stuttgarti-katolikusok.de
X-WR-CALDESC:Események Stuttgarti Katolikusok
REFRESH-INTERVAL;VALUE=DURATION:PT1H
X-Robots-Tag:noindex
X-PUBLISHED-TTL:PT1H
BEGIN:VTIMEZONE
TZID:Europe/Berlin
BEGIN:DAYLIGHT
TZOFFSETFROM:+0100
TZOFFSETTO:+0200
TZNAME:CEST
DTSTART:20220327T010000
END:DAYLIGHT
BEGIN:STANDARD
TZOFFSETFROM:+0200
TZOFFSETTO:+0100
TZNAME:CET
DTSTART:20221030T010000
END:STANDARD
BEGIN:DAYLIGHT
TZOFFSETFROM:+0100
TZOFFSETTO:+0200
TZNAME:CEST
DTSTART:20230326T010000
END:DAYLIGHT
BEGIN:STANDARD
TZOFFSETFROM:+0200
TZOFFSETTO:+0100
TZNAME:CET
DTSTART:20231029T010000
END:STANDARD
BEGIN:DAYLIGHT
TZOFFSETFROM:+0100
TZOFFSETTO:+0200
TZNAME:CEST
DTSTART:20240331T010000
END:DAYLIGHT
BEGIN:STANDARD
TZOFFSETFROM:+0200
TZOFFSETTO:+0100
TZNAME:CET
DTSTART:20241027T010000
END:STANDARD
END:VTIMEZONE
BEGIN:VEVENT
DTSTART;TZID=Europe/Berlin:20231020T173000
DTEND;TZID=Europe/Berlin:20231020T200000
DTSTAMP:20260423T010031
CREATED:20231016T234222Z
LAST-MODIFIED:20231016T234306Z
UID:27341-1697823000-1697832000@stuttgarti-katolikusok.de
SUMMARY:Stuttgarti délután
DESCRIPTION:Október 20-án\, pénteken\, Stuttgartban 17.30 órakor szentmise és októberi ájtatosság. Ezt követően Erasmus-Akadémia találkozójára kerül sor. \n \n * \nMindenkit szeretettel vár a közösség és Tibor atya! \n* \n \n* \nBensőséges őszi napokat\, jó munkát\, tartalmas beszélgetéseket és örömteli találkozásokat kívánunk minden Kedves Hívünknek! \n* \n„Csak az képes a mások életéért önmagát mélyen és állandóan odaadni\, aki a saját életakaratáért való odaadásban az eseményektől való belső szabadságot megtapasztalta.” (Albert Schweitzer – 1875-1965)
URL:https://stuttgarti-katolikusok.de/index.php/esemeny/stuttgarti-delutan-25/
LOCATION:Bruder Klaus Kirche\, Albert-Schäffle-Straße 30\, Stuttgart\, Baden-Württemberg\, 70186\, Németország
CATEGORIES:Erasmus Akadémia
ATTACH;FMTTYPE=image/jpeg:https://stuttgarti-katolikusok.de/wp-content/uploads/2015/12/013__2_klaus.jpg
END:VEVENT
END:VCALENDAR