BEGIN:VCALENDAR
VERSION:2.0
PRODID:-//Stuttgarti Katolikusok - ECPv6.15.20//NONSGML v1.0//EN
CALSCALE:GREGORIAN
METHOD:PUBLISH
X-ORIGINAL-URL:https://stuttgarti-katolikusok.de
X-WR-CALDESC:Események Stuttgarti Katolikusok
REFRESH-INTERVAL;VALUE=DURATION:PT1H
X-Robots-Tag:noindex
X-PUBLISHED-TTL:PT1H
BEGIN:VTIMEZONE
TZID:Europe/Berlin
BEGIN:DAYLIGHT
TZOFFSETFROM:+0100
TZOFFSETTO:+0200
TZNAME:CEST
DTSTART:20220327T010000
END:DAYLIGHT
BEGIN:STANDARD
TZOFFSETFROM:+0200
TZOFFSETTO:+0100
TZNAME:CET
DTSTART:20221030T010000
END:STANDARD
BEGIN:DAYLIGHT
TZOFFSETFROM:+0100
TZOFFSETTO:+0200
TZNAME:CEST
DTSTART:20230326T010000
END:DAYLIGHT
BEGIN:STANDARD
TZOFFSETFROM:+0200
TZOFFSETTO:+0100
TZNAME:CET
DTSTART:20231029T010000
END:STANDARD
BEGIN:DAYLIGHT
TZOFFSETFROM:+0100
TZOFFSETTO:+0200
TZNAME:CEST
DTSTART:20240331T010000
END:DAYLIGHT
BEGIN:STANDARD
TZOFFSETFROM:+0200
TZOFFSETTO:+0100
TZNAME:CET
DTSTART:20241027T010000
END:STANDARD
END:VTIMEZONE
BEGIN:VEVENT
DTSTART;TZID=Europe/Berlin:20231008T090000
DTEND;TZID=Europe/Berlin:20231008T100000
DTSTAMP:20260423T010047
CREATED:20240104T090918Z
LAST-MODIFIED:20240104T090918Z
UID:27895-1696755600-1696759200@stuttgarti-katolikusok.de
SUMMARY:Weingarten
DESCRIPTION:
URL:https://stuttgarti-katolikusok.de/index.php/esemeny/weingarten-19/
LOCATION:Baden-Württemberg
CATEGORIES:Szentmisék helye és ideje
END:VEVENT
BEGIN:VEVENT
DTSTART;TZID=Europe/Berlin:20231008T090000
DTEND;TZID=Europe/Berlin:20231008T113000
DTSTAMP:20260423T010047
CREATED:20231002T132725Z
LAST-MODIFIED:20231002T132725Z
UID:27285-1696755600-1696764600@stuttgarti-katolikusok.de
SUMMARY:Szentmise Weingartenben
DESCRIPTION:Október 8-án\, Évközi 27. vasárnap\, Weingartenben 9.00 órakor szentmise a 14 Nothelfer Kapelle-ben\, utána agapé a St. Martin közösségi házban. \nMindenkit szeretettel vár a közösség és Tibor atya! \n \n* \n„Az ember földi életét szabadon rendezheti be\, de boldogulása teremtmény mivoltából következőleg a Teremtő akaratának teljesítéséhez van kötve.” (Márton Áron püspök – 1896 – 1980) \n* \nBensőséges őszi napokat\, jó munkát\, tartalmas beszélgetéseket és örömteli találkozásokat kívánunk minden Kedves Hívünknek!
URL:https://stuttgarti-katolikusok.de/index.php/esemeny/szentmise-weingartenben-6/
LOCATION:14 Nothelfer  Kapelle\, Ravensburger Str. 39\, Weingarten\, Baden-Württemberg\, 88250\, Németország
CATEGORIES:Szentmise
ATTACH;FMTTYPE=image/jpeg:https://stuttgarti-katolikusok.de/wp-content/uploads/2015/12/Weingarten_Kapelle_14_Nothelfer.jpg
END:VEVENT
BEGIN:VEVENT
DTSTART;TZID=Europe/Berlin:20231008T150000
DTEND;TZID=Europe/Berlin:20231008T160000
DTSTAMP:20260423T010047
CREATED:20240104T090911Z
LAST-MODIFIED:20240104T090911Z
UID:27850-1696777200-1696780800@stuttgarti-katolikusok.de
SUMMARY:Ulm - búcsú
DESCRIPTION:
URL:https://stuttgarti-katolikusok.de/index.php/esemeny/ulm-bucsu-4/
LOCATION:Baden-Württemberg
CATEGORIES:Szentmisék helye és ideje
END:VEVENT
BEGIN:VEVENT
DTSTART;TZID=Europe/Berlin:20231008T150000
DTEND;TZID=Europe/Berlin:20231008T180000
DTSTAMP:20260423T010047
CREATED:20231002T133222Z
LAST-MODIFIED:20231002T133222Z
UID:27287-1696777200-1696788000@stuttgarti-katolikusok.de
SUMMARY:Magyarok Nagyasszonya búcsús szentmise Ulmban
DESCRIPTION:Október 8-án\, Évközi 27. vasárnap\, Ulmban 15.00 órakor egyházközségi búcsús szentmise\, melyben Magyarok Nagyasszonyát köszöntjük\, utána agapé.   \nMindenkit szeretettel vár a közösség és Tibor atya! \n * \n  \n * \n \n* \n„Az ember földi életét szabadon rendezheti be\, de boldogulása teremtmény mivoltából következőleg a Teremtő akaratának teljesítéséhez van kötve.” (Márton Áron püspök – 1896 – 1980) \n* \nBensőséges őszi napokat\, jó munkát\, tartalmas beszélgetéseket és örömteli találkozásokat kívánunk minden Kedves Hívünknek!
URL:https://stuttgarti-katolikusok.de/index.php/esemeny/magyarok-nagyasszonya-bucsus-szentmise-ulmban/
LOCATION:St. Michael zu den Wengen\, Wengengasse 6\, Ulm\, Baden-Württemberg\, 89073\, Németország
CATEGORIES:Szentmise
ATTACH;FMTTYPE=image/jpeg:https://stuttgarti-katolikusok.de/wp-content/uploads/2015/12/Wengenkirche1-e1483916551260.jpg
END:VEVENT
END:VCALENDAR