BEGIN:VCALENDAR
VERSION:2.0
PRODID:-//Stuttgarti Katolikusok - ECPv6.15.20//NONSGML v1.0//EN
CALSCALE:GREGORIAN
METHOD:PUBLISH
X-WR-CALNAME:Stuttgarti Katolikusok
X-ORIGINAL-URL:https://stuttgarti-katolikusok.de
X-WR-CALDESC:Események Stuttgarti Katolikusok
REFRESH-INTERVAL;VALUE=DURATION:PT1H
X-Robots-Tag:noindex
X-PUBLISHED-TTL:PT1H
BEGIN:VTIMEZONE
TZID:Europe/Berlin
BEGIN:DAYLIGHT
TZOFFSETFROM:+0100
TZOFFSETTO:+0200
TZNAME:CEST
DTSTART:20220327T010000
END:DAYLIGHT
BEGIN:STANDARD
TZOFFSETFROM:+0200
TZOFFSETTO:+0100
TZNAME:CET
DTSTART:20221030T010000
END:STANDARD
BEGIN:DAYLIGHT
TZOFFSETFROM:+0100
TZOFFSETTO:+0200
TZNAME:CEST
DTSTART:20230326T010000
END:DAYLIGHT
BEGIN:STANDARD
TZOFFSETFROM:+0200
TZOFFSETTO:+0100
TZNAME:CET
DTSTART:20231029T010000
END:STANDARD
BEGIN:DAYLIGHT
TZOFFSETFROM:+0100
TZOFFSETTO:+0200
TZNAME:CEST
DTSTART:20240331T010000
END:DAYLIGHT
BEGIN:STANDARD
TZOFFSETFROM:+0200
TZOFFSETTO:+0100
TZNAME:CET
DTSTART:20241027T010000
END:STANDARD
END:VTIMEZONE
BEGIN:VEVENT
DTSTART;TZID=Europe/Berlin:20230917T113000
DTEND;TZID=Europe/Berlin:20230917T130000
DTSTAMP:20260422T232648
CREATED:20240104T090910Z
LAST-MODIFIED:20240104T090910Z
UID:27843-1694950200-1694955600@stuttgarti-katolikusok.de
SUMMARY:Stuttgart - búcsú
DESCRIPTION:
URL:https://stuttgarti-katolikusok.de/index.php/esemeny/stuttgart-bucsu-4/
LOCATION:Baden-Württemberg
CATEGORIES:Szentmisék helye és ideje
END:VEVENT
BEGIN:VEVENT
DTSTART;TZID=Europe/Berlin:20230917T113000
DTEND;TZID=Europe/Berlin:20230917T143000
DTSTAMP:20260422T232648
CREATED:20230911T090715Z
LAST-MODIFIED:20230911T090715Z
UID:27181-1694950200-1694961000@stuttgarti-katolikusok.de
SUMMARY:Szent Gellért búcsús-szentmise Stuttgartban
DESCRIPTION:Szeptember 17-én\, Évközi 24. vasárnap\, Stuttgartban \n– 11.30 órakor búcsús-szentmise\, Szent Gellért egyházközségi búcsú\, amelynek főcelebránsa Nm. és Ft. Mohos Gábor\, a diaszpórában élő magyarok püspöke. A szentmise keretében a bérmálás szentségének kiszolgáltatására is sor kerül. \n– 13.00 órakor közös ebéd \n– 14.00 órakor pódium beszélgetés püspök atyával \n*  \n \n (Oltárkép részlet – Paulovics László festőművész alkotása) \n* \nMindenkit szeretettel vár a közösség és Tibor atya! \n* \nSzép Velence\, ősi város\, \nzengj az Úrnak éneket. \nErényekben kiváltságos\, \nGondviselés van veled\, \nmert Gellértet a jóságos \nIsten adta teneked. \n  \nS ő\, az Isten választottja\, \nnéki adja önmagát. \nLelke üdve lesz a gondja\, \nvállalván a Regulát\, \nföldi pálya nem marasztja\, \nKrisztus útján megy tovább. \n  \nŐt e honban tiszteletben \nrészesítik\, mint atyát. \nHitet plántál\, és a mennyben \nsokszorozza jók hadát\, \ntemplomot rak\, s mindenekben \ncsodálják alázatát. \n  \nLegyen áldás és imádat \nHáromság-egy Istennek\, \naz Atyának és Fiúnak \ns velük a Szentléleknek\, \nki a küzdőknek erőt ad\, \nhogy győzelmet nyerjenek. Ámen. \n(Himnusz Szent Gellért ünnepére) \n* \nBensőséges őszi napokat\, jó munkát\, tartalmas beszélgetéseket és örömteli találkozásokat kívánunk minden Kedves Hívünknek!
URL:https://stuttgarti-katolikusok.de/index.php/esemeny/szent-gellert-bucsus-szentmise-stuttgartban/
LOCATION:Bruder Klaus Kirche\, Albert-Schäffle-Straße 30\, Stuttgart\, Baden-Württemberg\, 70186\, Németország
CATEGORIES:Szentmise
ATTACH;FMTTYPE=image/jpeg:https://stuttgarti-katolikusok.de/wp-content/uploads/2015/12/013__2_klaus.jpg
END:VEVENT
BEGIN:VEVENT
DTSTART;TZID=Europe/Berlin:20230917T153000
DTEND;TZID=Europe/Berlin:20230917T163000
DTSTAMP:20260422T232648
CREATED:20240104T090910Z
LAST-MODIFIED:20240104T090910Z
UID:27842-1694964600-1694968200@stuttgarti-katolikusok.de
SUMMARY:Eislingen
DESCRIPTION:
URL:https://stuttgarti-katolikusok.de/index.php/esemeny/eislingen-14/
LOCATION:Baden-Württemberg
CATEGORIES:Szentmisék helye és ideje
END:VEVENT
BEGIN:VEVENT
DTSTART;TZID=Europe/Berlin:20230917T153000
DTEND;TZID=Europe/Berlin:20230917T173000
DTSTAMP:20260422T232648
CREATED:20230911T091045Z
LAST-MODIFIED:20230911T091045Z
UID:27183-1694964600-1694971800@stuttgarti-katolikusok.de
SUMMARY:Szentmise Eislingenben
DESCRIPTION:Szeptember 17-én\, Évközi 24. vasárnap\, Eislingenben 15.30 órakor szentmise\, utána agapé.   \nMindenkit szeretettel vár a közösség és Tibor atya! \n* \nSzép Velence\, ősi város\, \nzengj az Úrnak éneket. \nErényekben kiváltságos\, \nGondviselés van veled\, \nmert Gellértet a jóságos \nIsten adta teneked. \n  \nS ő\, az Isten választottja\, \nnéki adja önmagát. \nLelke üdve lesz a gondja\, \nvállalván a Regulát\, \nföldi pálya nem marasztja\, \nKrisztus útján megy tovább. \n  \nŐt e honban tiszteletben \nrészesítik\, mint atyát. \nHitet plántál\, és a mennyben \nsokszorozza jók hadát\, \ntemplomot rak\, s mindenekben \ncsodálják alázatát. \n  \nLegyen áldás és imádat \nHáromság-egy Istennek\, \naz Atyának és Fiúnak \ns velük a Szentléleknek\, \nki a küzdőknek erőt ad\, \nhogy győzelmet nyerjenek. Ámen. \n(Himnusz Szent Gellért ünnepére) \n* \nBensőséges őszi napokat\, jó munkát\, tartalmas beszélgetéseket és örömteli találkozásokat kívánunk minden Kedves Hívünknek!
URL:https://stuttgarti-katolikusok.de/index.php/esemeny/szentmise-eislingenben-6/
LOCATION:Liebfrauen-Kirche\, Eberhardt Str. 30\, Eislingen/Fils\, Baden-Württemberg\, 73054\, Németország
CATEGORIES:Szentmise
ATTACH;FMTTYPE=image/jpeg:https://stuttgarti-katolikusok.de/wp-content/uploads/2015/12/Eislingen.jpg
END:VEVENT
END:VCALENDAR