BEGIN:VCALENDAR
VERSION:2.0
PRODID:-//Stuttgarti Katolikusok - ECPv6.15.20//NONSGML v1.0//EN
CALSCALE:GREGORIAN
METHOD:PUBLISH
X-ORIGINAL-URL:https://stuttgarti-katolikusok.de
X-WR-CALDESC:Események Stuttgarti Katolikusok
REFRESH-INTERVAL;VALUE=DURATION:PT1H
X-Robots-Tag:noindex
X-PUBLISHED-TTL:PT1H
BEGIN:VTIMEZONE
TZID:Europe/Berlin
BEGIN:DAYLIGHT
TZOFFSETFROM:+0100
TZOFFSETTO:+0200
TZNAME:CEST
DTSTART:20220327T010000
END:DAYLIGHT
BEGIN:STANDARD
TZOFFSETFROM:+0200
TZOFFSETTO:+0100
TZNAME:CET
DTSTART:20221030T010000
END:STANDARD
BEGIN:DAYLIGHT
TZOFFSETFROM:+0100
TZOFFSETTO:+0200
TZNAME:CEST
DTSTART:20230326T010000
END:DAYLIGHT
BEGIN:STANDARD
TZOFFSETFROM:+0200
TZOFFSETTO:+0100
TZNAME:CET
DTSTART:20231029T010000
END:STANDARD
BEGIN:DAYLIGHT
TZOFFSETFROM:+0100
TZOFFSETTO:+0200
TZNAME:CEST
DTSTART:20240331T010000
END:DAYLIGHT
BEGIN:STANDARD
TZOFFSETFROM:+0200
TZOFFSETTO:+0100
TZNAME:CET
DTSTART:20241027T010000
END:STANDARD
END:VTIMEZONE
BEGIN:VEVENT
DTSTART;TZID=Europe/Berlin:20230916T153000
DTEND;TZID=Europe/Berlin:20230916T163000
DTSTAMP:20260422T232720
CREATED:20240104T090910Z
LAST-MODIFIED:20240104T090910Z
UID:27841-1694878200-1694881800@stuttgarti-katolikusok.de
SUMMARY:Heidenheim - búcsú
DESCRIPTION:
URL:https://stuttgarti-katolikusok.de/index.php/esemeny/heidenheim-bucsu-2/
LOCATION:Baden-Württemberg
CATEGORIES:Szentmisék helye és ideje
END:VEVENT
BEGIN:VEVENT
DTSTART;TZID=Europe/Berlin:20230916T153000
DTEND;TZID=Europe/Berlin:20230916T173000
DTSTAMP:20260422T232720
CREATED:20230911T090222Z
LAST-MODIFIED:20230911T090222Z
UID:27179-1694878200-1694885400@stuttgarti-katolikusok.de
SUMMARY:Búcsús-szentmise Heidenheimban
DESCRIPTION:Szeptember 16-án\, szombaton\, Heidenheimban 15.30 órakor búcsús-szentmise\, Szent István királyra emlékezünk. \nA szentmise helyszíne: Ökumenisches Gemeindezentrum Mittelrein (Hans-Thoma-Straße 50)!!! \nSzentmisét követően agapé. \n  \n* \nMindenkit szeretettel vár a közösség és Tibor atya! \n* \nSzép Velence\, ősi város\, \nzengj az Úrnak éneket. \nErényekben kiváltságos\, \nGondviselés van veled\, \nmert Gellértet a jóságos \nIsten adta teneked. \n  \nS ő\, az Isten választottja\, \nnéki adja önmagát. \nLelke üdve lesz a gondja\, \nvállalván a Regulát\, \nföldi pálya nem marasztja\, \nKrisztus útján megy tovább. \n  \nŐt e honban tiszteletben \nrészesítik\, mint atyát. \nHitet plántál\, és a mennyben \nsokszorozza jók hadát\, \ntemplomot rak\, s mindenekben \ncsodálják alázatát. \n  \nLegyen áldás és imádat \nHáromság-egy Istennek\, \naz Atyának és Fiúnak \ns velük a Szentléleknek\, \nki a küzdőknek erőt ad\, \nhogy győzelmet nyerjenek. Ámen. \n(Himnusz Szent Gellért ünnepére) \n* \nBensőséges őszi napokat\, jó munkát\, tartalmas beszélgetéseket és örömteli találkozásokat kívánunk minden Kedves Hívünknek!
URL:https://stuttgarti-katolikusok.de/index.php/esemeny/bucsus-szentmise-heidenheimban/
LOCATION:Ökumenisches Gemeindezentrum Mittelrain\, Hans-Thoma-Straße 50\, Heidenheim an der Brenz\, Baden Württemberg\, 89520\, Németország
CATEGORIES:Szentmise
ATTACH;FMTTYPE=image/jpeg:https://stuttgarti-katolikusok.de/wp-content/uploads/2021/10/okgemeindezentrum-heidenheim.jpg
END:VEVENT
END:VCALENDAR