BEGIN:VCALENDAR
VERSION:2.0
PRODID:-//Stuttgarti Katolikusok - ECPv6.15.20//NONSGML v1.0//EN
CALSCALE:GREGORIAN
METHOD:PUBLISH
X-ORIGINAL-URL:https://stuttgarti-katolikusok.de
X-WR-CALDESC:Események Stuttgarti Katolikusok
REFRESH-INTERVAL;VALUE=DURATION:PT1H
X-Robots-Tag:noindex
X-PUBLISHED-TTL:PT1H
BEGIN:VTIMEZONE
TZID:Europe/Berlin
BEGIN:DAYLIGHT
TZOFFSETFROM:+0100
TZOFFSETTO:+0200
TZNAME:CEST
DTSTART:20220327T010000
END:DAYLIGHT
BEGIN:STANDARD
TZOFFSETFROM:+0200
TZOFFSETTO:+0100
TZNAME:CET
DTSTART:20221030T010000
END:STANDARD
BEGIN:DAYLIGHT
TZOFFSETFROM:+0100
TZOFFSETTO:+0200
TZNAME:CEST
DTSTART:20230326T010000
END:DAYLIGHT
BEGIN:STANDARD
TZOFFSETFROM:+0200
TZOFFSETTO:+0100
TZNAME:CET
DTSTART:20231029T010000
END:STANDARD
BEGIN:DAYLIGHT
TZOFFSETFROM:+0100
TZOFFSETTO:+0200
TZNAME:CEST
DTSTART:20240331T010000
END:DAYLIGHT
BEGIN:STANDARD
TZOFFSETFROM:+0200
TZOFFSETTO:+0100
TZNAME:CET
DTSTART:20241027T010000
END:STANDARD
END:VTIMEZONE
BEGIN:VEVENT
DTSTART;TZID=Europe/Berlin:20230624T090000
DTEND;TZID=Europe/Berlin:20230624T140000
DTSTAMP:20260422T184354
CREATED:20230619T101456Z
LAST-MODIFIED:20230619T101537Z
UID:27005-1687597200-1687615200@stuttgarti-katolikusok.de
SUMMARY:Egyháztanácsosok és Legátusok találkozója
DESCRIPTION:Június 24-én\, szombaton\, Stuttgartban  Egyháztanácsosok és Legátusok találkozója. \n * \nProgram: \n09.00 órától                           Gyülekező és reggeli \n10:00 – 10:15                         Beköszöntő és ismerkedés \n10:15 – 11:00                          Előadás\, témája:  Synodaler Weg – Zsinati út (Tibor atya) \n11:00 – 11:30                          Egyházközségünk a statisztikák tükrében \n11:30 – 13:00                          Beszámolók a részegyházak helyzetéről \n13:00 – 14:00                         Ebéd majd hazautazás \n*   \nMindenkit szeretettel vár a közösség és Tibor atya! \n* \n \n* \nKegyelemteljes napokat\, tartalmas beszélgetéseket és örömteli találkozásokat kívánunk minden Kedves Hívünknek! \n* \n„Nagy vagy te\, Uram\, Istenem\, \nminden dicséret téged illet! \nDicsőítenek mind az emberek\, \nteremtésed parányi művei. \nTe magad rendelted\, hogy így legyen: \nte teremtettél magad számára minket\, \nés nyugtalan mindvégig a szívünk\, \nmíg meg nem nyugszik benned\, Istenem.” \n(Szent Ágoston – hippói püspök\, egyházatya\, filozófus – 354 – 430)
URL:https://stuttgarti-katolikusok.de/index.php/esemeny/egyhaztanacsosok-es-legatusok-talalkozoja/
LOCATION:Bruder Klaus Kirche\, Albert-Schäffle-Straße 30\, Stuttgart\, Baden-Württemberg\, 70186\, Németország
CATEGORIES:ET és Legátusok találkozója
ATTACH;FMTTYPE=image/jpeg:https://stuttgarti-katolikusok.de/wp-content/uploads/2015/12/013__2_klaus.jpg
END:VEVENT
BEGIN:VEVENT
DTSTART;TZID=Europe/Berlin:20230624T100000
DTEND;TZID=Europe/Berlin:20230624T130000
DTSTAMP:20260422T184354
CREATED:20240104T090919Z
LAST-MODIFIED:20240104T090919Z
UID:27898-1687600800-1687611600@stuttgarti-katolikusok.de
SUMMARY:Egyháztanácsosok és Legátusok Napja
DESCRIPTION:
URL:https://stuttgarti-katolikusok.de/index.php/esemeny/egyhaztanacsosok-es-legatusok-napja-2/
LOCATION:Baden-Württemberg
CATEGORIES:Szentmisék helye és ideje
END:VEVENT
BEGIN:VEVENT
DTSTART;TZID=Europe/Berlin:20230624T160000
DTEND;TZID=Europe/Berlin:20230624T170000
DTSTAMP:20260422T184354
CREATED:20230208T072101Z
LAST-MODIFIED:20230210T112505Z
UID:25832-1687622400-1687626000@stuttgarti-katolikusok.de
SUMMARY:Tuttlingen
DESCRIPTION:
URL:https://stuttgarti-katolikusok.de/index.php/esemeny/tuttlingen-16/
LOCATION:Baden-Württemberg
CATEGORIES:Szentmisék helye és ideje
END:VEVENT
BEGIN:VEVENT
DTSTART;TZID=Europe/Berlin:20230624T160000
DTEND;TZID=Europe/Berlin:20230624T180000
DTSTAMP:20260422T184354
CREATED:20230619T102057Z
LAST-MODIFIED:20230619T102057Z
UID:27008-1687622400-1687629600@stuttgarti-katolikusok.de
SUMMARY:Szentmise Tuttlingenben
DESCRIPTION:Június 24-én\, szombaton\, Tuttlingenben\, 16.00 órakor szentmise\, utána agapé. A szentmise  keretében keresztelő is lesz. \n * \nMindenkit szeretettel vár a közösség és Tibor atya! \n* \n \n* \nKegyelemteljes napokat\, tartalmas beszélgetéseket és örömteli találkozásokat kívánunk minden Kedves Hívünknek! \n* \n„Nagy vagy te\, Uram\, Istenem\, \nminden dicséret téged illet! \nDicsőítenek mind az emberek\, \nteremtésed parányi művei. \nTe magad rendelted\, hogy így legyen: \nte teremtettél magad számára minket\, \nés nyugtalan mindvégig a szívünk\, \nmíg meg nem nyugszik benned\, Istenem.” \n(Szent Ágoston – hippói püspök\, egyházatya\, filozófus – 354 – 430)                                          
URL:https://stuttgarti-katolikusok.de/index.php/esemeny/szentmise-tuttlingenben-5/
LOCATION:St. Gallus Kirche\, Guttenbergstrasse 9\, Tuttlingen\, Baden-Württemberg\, 78532\, Németország
CATEGORIES:Szentmise
ATTACH;FMTTYPE=image/jpeg:https://stuttgarti-katolikusok.de/wp-content/uploads/2021/05/sankt-gallus-tuttlingen-1.jpg
END:VEVENT
END:VCALENDAR