BEGIN:VCALENDAR
VERSION:2.0
PRODID:-//Stuttgarti Katolikusok - ECPv6.15.20//NONSGML v1.0//EN
CALSCALE:GREGORIAN
METHOD:PUBLISH
X-ORIGINAL-URL:https://stuttgarti-katolikusok.de
X-WR-CALDESC:Események Stuttgarti Katolikusok
REFRESH-INTERVAL;VALUE=DURATION:PT1H
X-Robots-Tag:noindex
X-PUBLISHED-TTL:PT1H
BEGIN:VTIMEZONE
TZID:Europe/Berlin
BEGIN:DAYLIGHT
TZOFFSETFROM:+0100
TZOFFSETTO:+0200
TZNAME:CEST
DTSTART:20220327T010000
END:DAYLIGHT
BEGIN:STANDARD
TZOFFSETFROM:+0200
TZOFFSETTO:+0100
TZNAME:CET
DTSTART:20221030T010000
END:STANDARD
BEGIN:DAYLIGHT
TZOFFSETFROM:+0100
TZOFFSETTO:+0200
TZNAME:CEST
DTSTART:20230326T010000
END:DAYLIGHT
BEGIN:STANDARD
TZOFFSETFROM:+0200
TZOFFSETTO:+0100
TZNAME:CET
DTSTART:20231029T010000
END:STANDARD
BEGIN:DAYLIGHT
TZOFFSETFROM:+0100
TZOFFSETTO:+0200
TZNAME:CEST
DTSTART:20240331T010000
END:DAYLIGHT
BEGIN:STANDARD
TZOFFSETFROM:+0200
TZOFFSETTO:+0100
TZNAME:CET
DTSTART:20241027T010000
END:STANDARD
END:VTIMEZONE
BEGIN:VEVENT
DTSTART;TZID=Europe/Berlin:20230611T090000
DTEND;TZID=Europe/Berlin:20230611T100000
DTSTAMP:20260422T184353
CREATED:20240104T090918Z
LAST-MODIFIED:20240104T090918Z
UID:27893-1686474000-1686477600@stuttgarti-katolikusok.de
SUMMARY:Weingarten
DESCRIPTION:
URL:https://stuttgarti-katolikusok.de/index.php/esemeny/weingarten-17/
LOCATION:Baden-Württemberg
CATEGORIES:Szentmisék helye és ideje
END:VEVENT
BEGIN:VEVENT
DTSTART;TZID=Europe/Berlin:20230611T090000
DTEND;TZID=Europe/Berlin:20230611T113000
DTSTAMP:20260422T184353
CREATED:20230605T070722Z
LAST-MODIFIED:20230605T072246Z
UID:26935-1686474000-1686483000@stuttgarti-katolikusok.de
SUMMARY:Szentmise Weingartenben
DESCRIPTION:Június 11-én\, Évközi 10. vasárnap\, Weingartenben 9.00 órakor szentmise a 14 Nothelfer Kapelle-ben\, utána agapé. \n* \n \nMindenkit szeretettel vár a közösség és Tibor atya! \n* \nKegyelemteljes napokat\, tartalmas beszélgetéseket és örömteli találkozásokat kívánunk minden Kedves Hívünknek! \n* \n„Győzelemről énekeljen Napkelet és Napnyugat\,\nMillió szív összecsengjen\, magasztalja az Urat!\nKrisztus újra földre szállott\, vándorlásunk társa lett\,\nMert szerette a világot\, kenyérszínbe rejtezett.\nKrisztus kenyér s bor színében Úr s Király a föld felett\,\nForrassz eggyé békességben minden népet s nemzetet! \n  \nEgykor értünk testet öltött\, kisgyermekként jött közénk\,\nA keresztfán vére ömlött váltságunknak béreként.\nMost az oltár Golgotáján újra itt a drága vér\,\nÁldozat az Isten-Bárány\, Krisztus teste a kenyér.\nKrisztus kenyér s bor színében Úr s Király a föld felett\,\nForrassz eggyé békességben minden népet s nemzetet! \n  \nZúgjon hát a hálaének\, szálljon völgyön\, tengeren\,\nA szeretet Istenének dicsőség és üdv legyen.\nAz egész föld legyen oltár\, virág rajta a szívünk\,\nMinden dalunk zengő zsoltár\, tömjénillat a hitünk.\nKrisztus kenyér s bor színében Úr s Király a föld felett\,\nForrassz eggyé békességben minden népet s nemzetet! \n  \nIstván király árva népe\, te is hajtsd meg homlokod\,\nBorulj térdre\, szórd elébe minden gondod\, bánatod!\nA kereszt volt ezer éven reménységed oszlopa\,\nMost is Krisztus jele légyen jobb jövődnek záloga.\nKrisztus kenyér s bor színében Úr s Király a föld felett\,\nForrassz eggyé békességben minden népet s nemzetet!” \n(A 34. és 52. Nemzetközi Eucharisztikus Kongresszus himnusza)
URL:https://stuttgarti-katolikusok.de/index.php/esemeny/szentmise-weingartenben-4/
LOCATION:14 Nothelfer  Kapelle\, Ravensburger Str. 39\, Weingarten\, Baden-Württemberg\, 88250\, Németország
CATEGORIES:Szentmise
ATTACH;FMTTYPE=image/jpeg:https://stuttgarti-katolikusok.de/wp-content/uploads/2015/12/Weingarten_Kapelle_14_Nothelfer.jpg
END:VEVENT
BEGIN:VEVENT
DTSTART;TZID=Europe/Berlin:20230611T150000
DTEND;TZID=Europe/Berlin:20230611T160000
DTSTAMP:20260422T184353
CREATED:20240104T090908Z
LAST-MODIFIED:20240104T090908Z
UID:27829-1686495600-1686499200@stuttgarti-katolikusok.de
SUMMARY:Ulm
DESCRIPTION:
URL:https://stuttgarti-katolikusok.de/index.php/esemeny/ulm-26/
LOCATION:Baden-Württemberg
CATEGORIES:Szentmisék helye és ideje
END:VEVENT
BEGIN:VEVENT
DTSTART;TZID=Europe/Berlin:20230611T150000
DTEND;TZID=Europe/Berlin:20230611T170000
DTSTAMP:20260422T184353
CREATED:20230605T071021Z
LAST-MODIFIED:20230605T071021Z
UID:26937-1686495600-1686502800@stuttgarti-katolikusok.de
SUMMARY:Szentmise Ulmban
DESCRIPTION:Június 11-én\, Évközi 10. vasárnap\, Ulmban 15.00 órakor szentmise\, utána agapé. \n* \n \nMindenkit szeretettel vár a közösség és Tibor atya! \n* \nKegyelemteljes napokat\, tartalmas beszélgetéseket és örömteli találkozásokat kívánunk minden Kedves Hívünknek! \n* \n„Győzelemről énekeljen Napkelet és Napnyugat\,\nMillió szív összecsengjen\, magasztalja az Urat!\nKrisztus újra földre szállott\, vándorlásunk társa lett\,\nMert szerette a világot\, kenyérszínbe rejtezett.\nKrisztus kenyér s bor színében Úr s Király a föld felett\,\nForrassz eggyé békességben minden népet s nemzetet! \n  \nEgykor értünk testet öltött\, kisgyermekként jött közénk\,\nA keresztfán vére ömlött váltságunknak béreként.\nMost az oltár Golgotáján újra itt a drága vér\,\nÁldozat az Isten-Bárány\, Krisztus teste a kenyér.\nKrisztus kenyér s bor színében Úr s Király a föld felett\,\nForrassz eggyé békességben minden népet s nemzetet! \n  \nZúgjon hát a hálaének\, szálljon völgyön\, tengeren\,\nA szeretet Istenének dicsőség és üdv legyen.\nAz egész föld legyen oltár\, virág rajta a szívünk\,\nMinden dalunk zengő zsoltár\, tömjénillat a hitünk.\nKrisztus kenyér s bor színében Úr s Király a föld felett\,\nForrassz eggyé békességben minden népet s nemzetet! \n  \nIstván király árva népe\, te is hajtsd meg homlokod\,\nBorulj térdre\, szórd elébe minden gondod\, bánatod!\nA kereszt volt ezer éven reménységed oszlopa\,\nMost is Krisztus jele légyen jobb jövődnek záloga.\nKrisztus kenyér s bor színében Úr s Király a föld felett\,\nForrassz eggyé békességben minden népet s nemzetet!” \n(A 34. és 52. Nemzetközi Eucharisztikus Kongresszus himnusza)
URL:https://stuttgarti-katolikusok.de/index.php/esemeny/szentmise-ulmban-3/
LOCATION:St. Michael zu den Wengen\, Wengengasse 6\, Ulm\, Baden-Württemberg\, 89073\, Németország
CATEGORIES:Szentmise
ATTACH;FMTTYPE=image/jpeg:https://stuttgarti-katolikusok.de/wp-content/uploads/2015/12/Wengenkirche1-e1483916551260.jpg
END:VEVENT
END:VCALENDAR