BEGIN:VCALENDAR
VERSION:2.0
PRODID:-//Stuttgarti Katolikusok - ECPv6.15.20//NONSGML v1.0//EN
CALSCALE:GREGORIAN
METHOD:PUBLISH
X-ORIGINAL-URL:https://stuttgarti-katolikusok.de
X-WR-CALDESC:Események Stuttgarti Katolikusok
REFRESH-INTERVAL;VALUE=DURATION:PT1H
X-Robots-Tag:noindex
X-PUBLISHED-TTL:PT1H
BEGIN:VTIMEZONE
TZID:Europe/Berlin
BEGIN:DAYLIGHT
TZOFFSETFROM:+0100
TZOFFSETTO:+0200
TZNAME:CEST
DTSTART:20220327T010000
END:DAYLIGHT
BEGIN:STANDARD
TZOFFSETFROM:+0200
TZOFFSETTO:+0100
TZNAME:CET
DTSTART:20221030T010000
END:STANDARD
BEGIN:DAYLIGHT
TZOFFSETFROM:+0100
TZOFFSETTO:+0200
TZNAME:CEST
DTSTART:20230326T010000
END:DAYLIGHT
BEGIN:STANDARD
TZOFFSETFROM:+0200
TZOFFSETTO:+0100
TZNAME:CET
DTSTART:20231029T010000
END:STANDARD
BEGIN:DAYLIGHT
TZOFFSETFROM:+0100
TZOFFSETTO:+0200
TZNAME:CEST
DTSTART:20240331T010000
END:DAYLIGHT
BEGIN:STANDARD
TZOFFSETFROM:+0200
TZOFFSETTO:+0100
TZNAME:CET
DTSTART:20241027T010000
END:STANDARD
END:VTIMEZONE
BEGIN:VEVENT
DTSTART;TZID=Europe/Berlin:20230610T164500
DTEND;TZID=Europe/Berlin:20230610T174500
DTSTAMP:20260422T184354
CREATED:20240104T090908Z
LAST-MODIFIED:20240104T090908Z
UID:27828-1686415500-1686419100@stuttgarti-katolikusok.de
SUMMARY:Biberach - búcsú
DESCRIPTION:
URL:https://stuttgarti-katolikusok.de/index.php/esemeny/biberach-bucsu-2/
LOCATION:Baden-Württemberg
CATEGORIES:Szentmisék helye és ideje
END:VEVENT
BEGIN:VEVENT
DTSTART;TZID=Europe/Berlin:20230610T164500
DTEND;TZID=Europe/Berlin:20230610T193000
DTSTAMP:20260422T184354
CREATED:20230605T070319Z
LAST-MODIFIED:20230605T072025Z
UID:26933-1686415500-1686425400@stuttgarti-katolikusok.de
SUMMARY:Árpád-házi Szent Kinga búcsúünnep Biberachban
DESCRIPTION:Június 10-én\, szombaton\, Biberachban 16.45 órakor búcsús-szentmise\, utána agapé. Árpád-házi Szent Kingát köszöntjük. Helyszín: Dreifaltigkeitskirche – 88400 Biberach an der Riss\, Mittelbergstraße 29. \n* \n \n * \n \nMindenkit szeretettel vár a közösség és Tibor atya! \n* \nKegyelemteljes napokat\, tartalmas beszélgetéseket és örömteli találkozásokat kívánunk minden Kedves Hívünknek! \n* \n„Győzelemről énekeljen Napkelet és Napnyugat\,\nMillió szív összecsengjen\, magasztalja az Urat!\nKrisztus újra földre szállott\, vándorlásunk társa lett\,\nMert szerette a világot\, kenyérszínbe rejtezett.\nKrisztus kenyér s bor színében Úr s Király a föld felett\,\nForrassz eggyé békességben minden népet s nemzetet! \n  \nEgykor értünk testet öltött\, kisgyermekként jött közénk\,\nA keresztfán vére ömlött váltságunknak béreként.\nMost az oltár Golgotáján újra itt a drága vér\,\nÁldozat az Isten-Bárány\, Krisztus teste a kenyér.\nKrisztus kenyér s bor színében Úr s Király a föld felett\,\nForrassz eggyé békességben minden népet s nemzetet! \n  \nZúgjon hát a hálaének\, szálljon völgyön\, tengeren\,\nA szeretet Istenének dicsőség és üdv legyen.\nAz egész föld legyen oltár\, virág rajta a szívünk\,\nMinden dalunk zengő zsoltár\, tömjénillat a hitünk.\nKrisztus kenyér s bor színében Úr s Király a föld felett\,\nForrassz eggyé békességben minden népet s nemzetet! \n  \nIstván király árva népe\, te is hajtsd meg homlokod\,\nBorulj térdre\, szórd elébe minden gondod\, bánatod!\nA kereszt volt ezer éven reménységed oszlopa\,\nMost is Krisztus jele légyen jobb jövődnek záloga.\nKrisztus kenyér s bor színében Úr s Király a föld felett\,\nForrassz eggyé békességben minden népet s nemzetet!” \n(A 34. és 52. Nemzetközi Eucharisztikus Kongresszus himnusza)
URL:https://stuttgarti-katolikusok.de/index.php/esemeny/arpad-hazi-szent-kinga-bucsuunnep-biberachban/
LOCATION:Dreifaltigkeitskirche Biberach\, Mittelbergstr. 29\, Biberach an der Riß\, Baden Württemberg\, 88400\, Németország
CATEGORIES:Szentmise
ATTACH;FMTTYPE=image/jpeg:https://stuttgarti-katolikusok.de/wp-content/uploads/2023/03/csm-dreifaltigkeitskirche-7285105d03.jpg
END:VEVENT
END:VCALENDAR