BEGIN:VCALENDAR
VERSION:2.0
PRODID:-//Stuttgarti Katolikusok - ECPv6.15.20//NONSGML v1.0//EN
CALSCALE:GREGORIAN
METHOD:PUBLISH
X-WR-CALNAME:Stuttgarti Katolikusok
X-ORIGINAL-URL:https://stuttgarti-katolikusok.de
X-WR-CALDESC:Események Stuttgarti Katolikusok
REFRESH-INTERVAL;VALUE=DURATION:PT1H
X-Robots-Tag:noindex
X-PUBLISHED-TTL:PT1H
BEGIN:VTIMEZONE
TZID:Europe/Berlin
BEGIN:DAYLIGHT
TZOFFSETFROM:+0100
TZOFFSETTO:+0200
TZNAME:CEST
DTSTART:20220327T010000
END:DAYLIGHT
BEGIN:STANDARD
TZOFFSETFROM:+0200
TZOFFSETTO:+0100
TZNAME:CET
DTSTART:20221030T010000
END:STANDARD
BEGIN:DAYLIGHT
TZOFFSETFROM:+0100
TZOFFSETTO:+0200
TZNAME:CEST
DTSTART:20230326T010000
END:DAYLIGHT
BEGIN:STANDARD
TZOFFSETFROM:+0200
TZOFFSETTO:+0100
TZNAME:CET
DTSTART:20231029T010000
END:STANDARD
BEGIN:DAYLIGHT
TZOFFSETFROM:+0100
TZOFFSETTO:+0200
TZNAME:CEST
DTSTART:20240331T010000
END:DAYLIGHT
BEGIN:STANDARD
TZOFFSETFROM:+0200
TZOFFSETTO:+0100
TZNAME:CET
DTSTART:20241027T010000
END:STANDARD
END:VTIMEZONE
BEGIN:VEVENT
DTSTART;TZID=Europe/Berlin:20230604T093000
DTEND;TZID=Europe/Berlin:20230604T103000
DTSTAMP:20260422T165117
CREATED:20240104T090906Z
LAST-MODIFIED:20240104T090906Z
UID:27823-1685871000-1685874600@stuttgarti-katolikusok.de
SUMMARY:Schwäbisch-Gmünd
DESCRIPTION:
URL:https://stuttgarti-katolikusok.de/index.php/esemeny/schwabisch-gmund-34/
LOCATION:Baden-Württemberg
CATEGORIES:Szentmisék helye és ideje
END:VEVENT
BEGIN:VEVENT
DTSTART;TZID=Europe/Berlin:20230604T093000
DTEND;TZID=Europe/Berlin:20230604T113000
DTSTAMP:20260422T165117
CREATED:20230530T094024Z
LAST-MODIFIED:20230530T094054Z
UID:26900-1685871000-1685878200@stuttgarti-katolikusok.de
SUMMARY:Szentmise Schwäbisch-Gmündben
DESCRIPTION:Június 4-én\, Szentháromság vasárnapja\, Schwäbisch-Gmündben 9.30 órakor szentmise\, utána agapé. \nMindenkit szeretettel vár a közösség és Tibor atya! \n* \n \n* \nKegyelemteljes napokat\, tartalmas beszélgetéseket és örömteli találkozásokat kívánunk minden Kedves Hívünknek! \n* \n„A hamisság mindenképp önzésből fakad\, sorsa is szükségszerűen véges. Vele szemben az igazság csak ideiglenesen veszíthet\, sorsa viszont szükségszerűen torkollik a végtelenbe. Az igazság ezért sose lehet türelmetlen vagy támadó\, és sose irányulhat senki ellen. Tartalmára hogyan is cáfolhatna rá természete? Győzelme a szelídekre vár\, és a türelmesekre.” (Pilinszky János\, költő – 1921 – 1981) \n(Képek forrása: pixabay.com)
URL:https://stuttgarti-katolikusok.de/index.php/esemeny/szentmise-schwabisch-gmundben-4/
LOCATION:Sankt Franziskus Kirche\, Franziskaner Str. 3\, Schwäbisch-Gmünd\, Baden-Württemberg\, 73525\, Németország
CATEGORIES:Szentmise
ATTACH;FMTTYPE=image/jpeg:https://stuttgarti-katolikusok.de/wp-content/uploads/2018/03/st-franziskus-schw-gmund.jpg
END:VEVENT
BEGIN:VEVENT
DTSTART;TZID=Europe/Berlin:20230604T150000
DTEND;TZID=Europe/Berlin:20230604T160000
DTSTAMP:20260422T165117
CREATED:20240104T090906Z
LAST-MODIFIED:20240104T090906Z
UID:27824-1685890800-1685894400@stuttgarti-katolikusok.de
SUMMARY:Stuttgart
DESCRIPTION:
URL:https://stuttgarti-katolikusok.de/index.php/esemeny/stuttgart-51/
LOCATION:Baden-Württemberg
CATEGORIES:Szentmisék helye és ideje
END:VEVENT
BEGIN:VEVENT
DTSTART;TZID=Europe/Berlin:20230604T150000
DTEND;TZID=Europe/Berlin:20230604T180000
DTSTAMP:20260422T165117
CREATED:20230530T094549Z
LAST-MODIFIED:20230530T094718Z
UID:26903-1685890800-1685901600@stuttgarti-katolikusok.de
SUMMARY:Szentháromság vasárnapja Stuttgartban - Nemzeti Összetartozás Napja
DESCRIPTION:Június 4-én\, Szentháromság vasárnapja Stuttgartban – Nemzeti Összetartozás Napja \n15.00 órakor szentmise – 16.00 órakor megemlékezés \n* \n \n * \nMindenkit szeretettel vár a közösség és Tibor atya! \n* \n \n* \nKegyelemteljes napokat\, tartalmas beszélgetéseket és örömteli találkozásokat kívánunk minden Kedves Hívünknek! \n* \n„A hamisság mindenképp önzésből fakad\, sorsa is szükségszerűen véges. Vele szemben az igazság csak ideiglenesen veszíthet\, sorsa viszont szükségszerűen torkollik a végtelenbe. Az igazság ezért sose lehet türelmetlen vagy támadó\, és sose irányulhat senki ellen. Tartalmára hogyan is cáfolhatna rá természete? Győzelme a szelídekre vár\, és a türelmesekre.” (Pilinszky János\, költő – 1921 – 1981) \n(Képek forrása: pixabay.com)
URL:https://stuttgarti-katolikusok.de/index.php/esemeny/szentharomsag-vasarnapja-stuttgartban-nemzeti-osszetartozas-napja/
LOCATION:Bruder Klaus Kirche\, Albert-Schäffle-Straße 30\, Stuttgart\, Baden-Württemberg\, 70186\, Németország
CATEGORIES:Szentmise
ATTACH;FMTTYPE=image/jpeg:https://stuttgarti-katolikusok.de/wp-content/uploads/2015/12/013__2_klaus.jpg
END:VEVENT
END:VCALENDAR