BEGIN:VCALENDAR
VERSION:2.0
PRODID:-//Stuttgarti Katolikusok - ECPv6.15.20//NONSGML v1.0//EN
CALSCALE:GREGORIAN
METHOD:PUBLISH
X-ORIGINAL-URL:https://stuttgarti-katolikusok.de
X-WR-CALDESC:Események Stuttgarti Katolikusok
REFRESH-INTERVAL;VALUE=DURATION:PT1H
X-Robots-Tag:noindex
X-PUBLISHED-TTL:PT1H
BEGIN:VTIMEZONE
TZID:Europe/Berlin
BEGIN:DAYLIGHT
TZOFFSETFROM:+0100
TZOFFSETTO:+0200
TZNAME:CEST
DTSTART:20220327T010000
END:DAYLIGHT
BEGIN:STANDARD
TZOFFSETFROM:+0200
TZOFFSETTO:+0100
TZNAME:CET
DTSTART:20221030T010000
END:STANDARD
BEGIN:DAYLIGHT
TZOFFSETFROM:+0100
TZOFFSETTO:+0200
TZNAME:CEST
DTSTART:20230326T010000
END:DAYLIGHT
BEGIN:STANDARD
TZOFFSETFROM:+0200
TZOFFSETTO:+0100
TZNAME:CET
DTSTART:20231029T010000
END:STANDARD
BEGIN:DAYLIGHT
TZOFFSETFROM:+0100
TZOFFSETTO:+0200
TZNAME:CEST
DTSTART:20240331T010000
END:DAYLIGHT
BEGIN:STANDARD
TZOFFSETFROM:+0200
TZOFFSETTO:+0100
TZNAME:CET
DTSTART:20241027T010000
END:STANDARD
END:VTIMEZONE
BEGIN:VEVENT
DTSTART;TZID=Europe/Berlin:20230602T173000
DTEND;TZID=Europe/Berlin:20230602T190000
DTSTAMP:20260422T165227
CREATED:20230530T092858Z
LAST-MODIFIED:20230530T092952Z
UID:26894-1685727000-1685732400@stuttgarti-katolikusok.de
SUMMARY:Stuttgarti délután
DESCRIPTION:Június 2-án\, pénteken\, Stuttgarti délután\, 18.00 órakor szentmise\, előtte rózsafüzért imádkozunk. Szentmise végeztével elsőpénteki ájtatosságot tartunk. \nMindenkit szeretettel vár a közösség és Tibor atya! \n* \n \n* \nKegyelemteljes napokat\, tartalmas beszélgetéseket és örömteli találkozásokat kívánunk minden Kedves Hívünknek! \n* \n„A hamisság mindenképp önzésből fakad\, sorsa is szükségszerűen véges. Vele szemben az igazság csak ideiglenesen veszíthet\, sorsa viszont szükségszerűen torkollik a végtelenbe. Az igazság ezért sose lehet türelmetlen vagy támadó\, és sose irányulhat senki ellen. Tartalmára hogyan is cáfolhatna rá természete? Győzelme a szelídekre vár\, és a türelmesekre.” (Pilinszky János\, költő – 1921 – 1981) \n(Képek forrása: pixabay.com)
URL:https://stuttgarti-katolikusok.de/index.php/esemeny/stuttgarti-delutan-15/
LOCATION:Bruder Klaus Kirche\, Albert-Schäffle-Straße 30\, Stuttgart\, Baden-Württemberg\, 70186\, Németország
CATEGORIES:Stuttgarti délután
ATTACH;FMTTYPE=image/jpeg:https://stuttgarti-katolikusok.de/wp-content/uploads/2015/12/013__2_klaus.jpg
END:VEVENT
END:VCALENDAR