BEGIN:VCALENDAR
VERSION:2.0
PRODID:-//Stuttgarti Katolikusok - ECPv6.15.20//NONSGML v1.0//EN
CALSCALE:GREGORIAN
METHOD:PUBLISH
X-WR-CALNAME:Stuttgarti Katolikusok
X-ORIGINAL-URL:https://stuttgarti-katolikusok.de
X-WR-CALDESC:Események Stuttgarti Katolikusok
REFRESH-INTERVAL;VALUE=DURATION:PT1H
X-Robots-Tag:noindex
X-PUBLISHED-TTL:PT1H
BEGIN:VTIMEZONE
TZID:Europe/Berlin
BEGIN:DAYLIGHT
TZOFFSETFROM:+0100
TZOFFSETTO:+0200
TZNAME:CEST
DTSTART:20220327T010000
END:DAYLIGHT
BEGIN:STANDARD
TZOFFSETFROM:+0200
TZOFFSETTO:+0100
TZNAME:CET
DTSTART:20221030T010000
END:STANDARD
BEGIN:DAYLIGHT
TZOFFSETFROM:+0100
TZOFFSETTO:+0200
TZNAME:CEST
DTSTART:20230326T010000
END:DAYLIGHT
BEGIN:STANDARD
TZOFFSETFROM:+0200
TZOFFSETTO:+0100
TZNAME:CET
DTSTART:20231029T010000
END:STANDARD
BEGIN:DAYLIGHT
TZOFFSETFROM:+0100
TZOFFSETTO:+0200
TZNAME:CEST
DTSTART:20240331T010000
END:DAYLIGHT
BEGIN:STANDARD
TZOFFSETFROM:+0200
TZOFFSETTO:+0100
TZNAME:CET
DTSTART:20241027T010000
END:STANDARD
END:VTIMEZONE
BEGIN:VEVENT
DTSTART;TZID=Europe/Berlin:20230529T090000
DTEND;TZID=Europe/Berlin:20230529T100000
DTSTAMP:20260422T165116
CREATED:20230522T094806Z
LAST-MODIFIED:20230522T094806Z
UID:26879-1685350800-1685354400@stuttgarti-katolikusok.de
SUMMARY:Pünkösd ünnepe Weingartenben
DESCRIPTION:Május 29-én\, Pünkösdhétfő\, Weingartenben 9.00 órakor szentmise a Heilig Geist Kirche-ben. \n* \nMindenkit szeretettel vár a közösség és Tibor atya! \n* \n \n* \nKegyelemteljes húsvéti napokat\, tartalmas beszélgetéseket és örömteli találkozásokat kívánunk minden Kedves Hívünknek! \n* \nHrabanus Maurus: PÜNKÖSD HIMNUSZA \n(Babits Mihály fordítása)  \nTeremtő Lélek\, légy velünk!\nLátogasd híveid szivét!\nTöltsd malaszttal a kebleket\,\nmelyeknek alkotója vagy. \nTe kit Védőnknek mondanak\,\ns mellénk a magas Ég adott!\nTűz\, élő forrás\, szeretet!\nTe lelkek lelki olaja! \nAjándékoddal hétszeres!\nTe ujj az Isten jobbkezén!\nTe\, ki az Atya megigért\nszavával áldod torkaink! \nGyújts fényt érzékeinkbe! Öntsd\nszivünkbe szent szerelmedet!\nS mi bennünk testi gyöngeség\,\nörök erőddel izmosítsd! \nEllenségünket űzzed el!\nS a Békét tüstént hozd közel\,\nelőttünk járva\, mint vezér!\nS kerüljünk mindent\, ami árt. \nÁltalad tudjuk az Atyát\,\ns ismerjük\, adjad\, a Fiút!\nTebenned higyjük Szellemét\nmindakettőnek végtelen. \nEzt teljesítse az Atya\,\ns vele egylényü Egyfia\,\naki veled uralkodik\,\nóh Lélek\, minden századig! \n(Kép forrása: Szentlélek templom – Szatmárnémeti – Paulovics László grafikus\, festőművész alkotása)
URL:https://stuttgarti-katolikusok.de/index.php/esemeny/punkosd-unnepe-weingartenben/
LOCATION:Hl. Geist Weingarten\, Keplerstrasse 2\, Weingarten\, Baden-Württemberg\, 88250\, Németország
CATEGORIES:Szentmise
ATTACH;FMTTYPE=image/jpeg:https://stuttgarti-katolikusok.de/wp-content/uploads/2023/02/hlgeist-20221102-27-kiechle-1024x683-1.jpg
END:VEVENT
BEGIN:VEVENT
DTSTART;TZID=Europe/Berlin:20230529T110000
DTEND;TZID=Europe/Berlin:20230529T120000
DTSTAMP:20260422T165116
CREATED:20240104T090905Z
LAST-MODIFIED:20240104T090905Z
UID:27820-1685358000-1685361600@stuttgarti-katolikusok.de
SUMMARY:Weingarten - Pünkösdhétfő
DESCRIPTION:
URL:https://stuttgarti-katolikusok.de/index.php/esemeny/weingarten-punkosdhetfo-2/
LOCATION:Baden-Württemberg
CATEGORIES:Szentmisék helye és ideje
END:VEVENT
BEGIN:VEVENT
DTSTART;TZID=Europe/Berlin:20230529T150000
DTEND;TZID=Europe/Berlin:20230529T160000
DTSTAMP:20260422T165116
CREATED:20230522T095043Z
LAST-MODIFIED:20230522T095043Z
UID:26881-1685372400-1685376000@stuttgarti-katolikusok.de
SUMMARY:Pünkösd ünnepe Ulmban
DESCRIPTION:Május 29-én\, Pünkösdhétfő\, Ulmban 15.00 órakor szentmise. \n* \nMindenkit szeretettel vár a közösség és Tibor atya! \n* \n \n* \nKegyelemteljes húsvéti napokat\, tartalmas beszélgetéseket és örömteli találkozásokat kívánunk minden Kedves Hívünknek! \n* \nHrabanus Maurus: PÜNKÖSD HIMNUSZA \n(Babits Mihály fordítása)  \nTeremtő Lélek\, légy velünk!\nLátogasd híveid szivét!\nTöltsd malaszttal a kebleket\,\nmelyeknek alkotója vagy. \nTe kit Védőnknek mondanak\,\ns mellénk a magas Ég adott!\nTűz\, élő forrás\, szeretet!\nTe lelkek lelki olaja! \nAjándékoddal hétszeres!\nTe ujj az Isten jobbkezén!\nTe\, ki az Atya megigért\nszavával áldod torkaink! \nGyújts fényt érzékeinkbe! Öntsd\nszivünkbe szent szerelmedet!\nS mi bennünk testi gyöngeség\,\nörök erőddel izmosítsd! \nEllenségünket űzzed el!\nS a Békét tüstént hozd közel\,\nelőttünk járva\, mint vezér!\nS kerüljünk mindent\, ami árt. \nÁltalad tudjuk az Atyát\,\ns ismerjük\, adjad\, a Fiút!\nTebenned higyjük Szellemét\nmindakettőnek végtelen. \nEzt teljesítse az Atya\,\ns vele egylényü Egyfia\,\naki veled uralkodik\,\nóh Lélek\, minden századig! \n(Kép forrása: Szentlélek templom – Szatmárnémeti – Paulovics László grafikus\, festőművész alkotása)
URL:https://stuttgarti-katolikusok.de/index.php/esemeny/punkosd-unnepe-ulmban/
LOCATION:St. Michael zu den Wengen\, Wengengasse 6\, Ulm\, Baden-Württemberg\, 89073\, Németország
CATEGORIES:Szentmise
ATTACH;FMTTYPE=image/jpeg:https://stuttgarti-katolikusok.de/wp-content/uploads/2015/12/Wengenkirche1-e1483916551260.jpg
END:VEVENT
BEGIN:VEVENT
DTSTART;TZID=Europe/Berlin:20230529T150000
DTEND;TZID=Europe/Berlin:20230529T160000
DTSTAMP:20260422T165116
CREATED:20240104T090906Z
LAST-MODIFIED:20240104T090906Z
UID:27821-1685372400-1685376000@stuttgarti-katolikusok.de
SUMMARY:Ulm - Pünkösdhétfő
DESCRIPTION:
URL:https://stuttgarti-katolikusok.de/index.php/esemeny/ulm-punkosdhetfo-2/
LOCATION:Baden-Württemberg
CATEGORIES:Szentmisék helye és ideje
END:VEVENT
END:VCALENDAR