BEGIN:VCALENDAR
VERSION:2.0
PRODID:-//Stuttgarti Katolikusok - ECPv6.15.20//NONSGML v1.0//EN
CALSCALE:GREGORIAN
METHOD:PUBLISH
X-ORIGINAL-URL:https://stuttgarti-katolikusok.de
X-WR-CALDESC:Események Stuttgarti Katolikusok
REFRESH-INTERVAL;VALUE=DURATION:PT1H
X-Robots-Tag:noindex
X-PUBLISHED-TTL:PT1H
BEGIN:VTIMEZONE
TZID:Europe/Berlin
BEGIN:DAYLIGHT
TZOFFSETFROM:+0100
TZOFFSETTO:+0200
TZNAME:CEST
DTSTART:20220327T010000
END:DAYLIGHT
BEGIN:STANDARD
TZOFFSETFROM:+0200
TZOFFSETTO:+0100
TZNAME:CET
DTSTART:20221030T010000
END:STANDARD
BEGIN:DAYLIGHT
TZOFFSETFROM:+0100
TZOFFSETTO:+0200
TZNAME:CEST
DTSTART:20230326T010000
END:DAYLIGHT
BEGIN:STANDARD
TZOFFSETFROM:+0200
TZOFFSETTO:+0100
TZNAME:CET
DTSTART:20231029T010000
END:STANDARD
BEGIN:DAYLIGHT
TZOFFSETFROM:+0100
TZOFFSETTO:+0200
TZNAME:CEST
DTSTART:20240331T010000
END:DAYLIGHT
BEGIN:STANDARD
TZOFFSETFROM:+0200
TZOFFSETTO:+0100
TZNAME:CET
DTSTART:20241027T010000
END:STANDARD
END:VTIMEZONE
BEGIN:VEVENT
DTSTART;TZID=Europe/Berlin:20230528T093000
DTEND;TZID=Europe/Berlin:20230528T103000
DTSTAMP:20260422T165140
CREATED:20230522T093840Z
LAST-MODIFIED:20230522T093840Z
UID:26873-1685266200-1685269800@stuttgarti-katolikusok.de
SUMMARY:Pünkösd ünnepe Böblingenben
DESCRIPTION:Május 28-án\, Pünkösd vasárnapja\, Böblingenben 9.30 órakor szentmise. \n* \nMindenkit szeretettel vár a közösség és Tibor atya! \n* \n \n* \nKegyelemteljes húsvéti napokat\, tartalmas beszélgetéseket és örömteli találkozásokat kívánunk minden Kedves Hívünknek! \n* \nHrabanus Maurus: PÜNKÖSD HIMNUSZA \n(Babits Mihály fordítása)  \nTeremtő Lélek\, légy velünk!\nLátogasd híveid szivét!\nTöltsd malaszttal a kebleket\,\nmelyeknek alkotója vagy. \nTe kit Védőnknek mondanak\,\ns mellénk a magas Ég adott!\nTűz\, élő forrás\, szeretet!\nTe lelkek lelki olaja! \nAjándékoddal hétszeres!\nTe ujj az Isten jobbkezén!\nTe\, ki az Atya megigért\nszavával áldod torkaink! \nGyújts fényt érzékeinkbe! Öntsd\nszivünkbe szent szerelmedet!\nS mi bennünk testi gyöngeség\,\nörök erőddel izmosítsd! \nEllenségünket űzzed el!\nS a Békét tüstént hozd közel\,\nelőttünk járva\, mint vezér!\nS kerüljünk mindent\, ami árt. \nÁltalad tudjuk az Atyát\,\ns ismerjük\, adjad\, a Fiút!\nTebenned higyjük Szellemét\nmindakettőnek végtelen. \nEzt teljesítse az Atya\,\ns vele egylényü Egyfia\,\naki veled uralkodik\,\nóh Lélek\, minden századig! \n(Kép forrása: Szentlélek templom – Szatmárnémeti – Paulovics László grafikus\, festőművész alkotása)
URL:https://stuttgarti-katolikusok.de/index.php/esemeny/punkosd-unnepe-boblingenben/
LOCATION:St. Bonifatius Kirche\, Sindelfinger Str. 14\, Böblingen\, Baden-Württemberg\, 71032\, Németország
CATEGORIES:Szentmise
ATTACH;FMTTYPE=image/jpeg:https://stuttgarti-katolikusok.de/wp-content/uploads/2021/11/boblingen.jpeg
END:VEVENT
BEGIN:VEVENT
DTSTART;TZID=Europe/Berlin:20230528T093000
DTEND;TZID=Europe/Berlin:20230528T103000
DTSTAMP:20260422T165140
CREATED:20240104T090905Z
LAST-MODIFIED:20240104T090905Z
UID:27818-1685266200-1685269800@stuttgarti-katolikusok.de
SUMMARY:Böblingen - Pünkösd
DESCRIPTION:
URL:https://stuttgarti-katolikusok.de/index.php/esemeny/boblingen-punkosd-2/
LOCATION:Baden-Württemberg
CATEGORIES:Szentmisék helye és ideje
END:VEVENT
BEGIN:VEVENT
DTSTART;TZID=Europe/Berlin:20230528T113000
DTEND;TZID=Europe/Berlin:20230528T123000
DTSTAMP:20260422T165140
CREATED:20230522T094051Z
LAST-MODIFIED:20230522T094051Z
UID:26875-1685273400-1685277000@stuttgarti-katolikusok.de
SUMMARY:Pünkösd ünnepe Stuttgartban
DESCRIPTION:Május 28-án\, Pünkösd vasárnapja\, Stuttgartban 11.30 órakor szentmise. \n * \nMindenkit szeretettel vár a közösség és Tibor atya! \n* \n \n* \nKegyelemteljes húsvéti napokat\, tartalmas beszélgetéseket és örömteli találkozásokat kívánunk minden Kedves Hívünknek! \n* \nHrabanus Maurus: PÜNKÖSD HIMNUSZA \n(Babits Mihály fordítása)  \nTeremtő Lélek\, légy velünk!\nLátogasd híveid szivét!\nTöltsd malaszttal a kebleket\,\nmelyeknek alkotója vagy. \nTe kit Védőnknek mondanak\,\ns mellénk a magas Ég adott!\nTűz\, élő forrás\, szeretet!\nTe lelkek lelki olaja! \nAjándékoddal hétszeres!\nTe ujj az Isten jobbkezén!\nTe\, ki az Atya megigért\nszavával áldod torkaink! \nGyújts fényt érzékeinkbe! Öntsd\nszivünkbe szent szerelmedet!\nS mi bennünk testi gyöngeség\,\nörök erőddel izmosítsd! \nEllenségünket űzzed el!\nS a Békét tüstént hozd közel\,\nelőttünk járva\, mint vezér!\nS kerüljünk mindent\, ami árt. \nÁltalad tudjuk az Atyát\,\ns ismerjük\, adjad\, a Fiút!\nTebenned higyjük Szellemét\nmindakettőnek végtelen. \nEzt teljesítse az Atya\,\ns vele egylényü Egyfia\,\naki veled uralkodik\,\nóh Lélek\, minden századig! \n(Kép forrása: Szentlélek templom – Szatmárnémeti – Paulovics László grafikus\, festőművész alkotása)
URL:https://stuttgarti-katolikusok.de/index.php/esemeny/punkosd-unnepe-stuttgartban/
LOCATION:Bruder Klaus Kirche\, Albert-Schäffle-Straße 30\, Stuttgart\, Baden-Württemberg\, 70186\, Németország
CATEGORIES:Szentmise
ATTACH;FMTTYPE=image/jpeg:https://stuttgarti-katolikusok.de/wp-content/uploads/2015/12/013__2_klaus.jpg
END:VEVENT
BEGIN:VEVENT
DTSTART;TZID=Europe/Berlin:20230528T113000
DTEND;TZID=Europe/Berlin:20230528T123000
DTSTAMP:20260422T165140
CREATED:20240104T090905Z
LAST-MODIFIED:20240104T090905Z
UID:27819-1685273400-1685277000@stuttgarti-katolikusok.de
SUMMARY:Stuttgart - Pünkösd ünnepe
DESCRIPTION:
URL:https://stuttgarti-katolikusok.de/index.php/esemeny/stuttgart-punkosd-unnepe-2/
LOCATION:Baden-Württemberg
CATEGORIES:Szentmisék helye és ideje
END:VEVENT
BEGIN:VEVENT
DTSTART;TZID=Europe/Berlin:20230528T153000
DTEND;TZID=Europe/Berlin:20230528T163000
DTSTAMP:20260422T165140
CREATED:20240104T090918Z
LAST-MODIFIED:20240104T090918Z
UID:27889-1685287800-1685291400@stuttgarti-katolikusok.de
SUMMARY:Heilbronn - Pünkösd
DESCRIPTION:
URL:https://stuttgarti-katolikusok.de/index.php/esemeny/heilbronn-punkosd-2/
LOCATION:Baden-Württemberg
CATEGORIES:Szentmisék helye és ideje
END:VEVENT
BEGIN:VEVENT
DTSTART;TZID=Europe/Berlin:20230528T153000
DTEND;TZID=Europe/Berlin:20230528T173000
DTSTAMP:20260422T165140
CREATED:20230522T094436Z
LAST-MODIFIED:20230522T094436Z
UID:26877-1685287800-1685295000@stuttgarti-katolikusok.de
SUMMARY:Pünkösd ünnepe Heilbronnban
DESCRIPTION:Május 28-án\, Pünkösd vasárnapja\, Heilbronnban 15.30 órakor szentmise\, utána agapé. \n * \nMindenkit szeretettel vár a közösség és Tibor atya! \n* \n \n* \nKegyelemteljes húsvéti napokat\, tartalmas beszélgetéseket és örömteli találkozásokat kívánunk minden Kedves Hívünknek! \n* \nHrabanus Maurus: PÜNKÖSD HIMNUSZA \n(Babits Mihály fordítása)  \nTeremtő Lélek\, légy velünk!\nLátogasd híveid szivét!\nTöltsd malaszttal a kebleket\,\nmelyeknek alkotója vagy. \nTe kit Védőnknek mondanak\,\ns mellénk a magas Ég adott!\nTűz\, élő forrás\, szeretet!\nTe lelkek lelki olaja! \nAjándékoddal hétszeres!\nTe ujj az Isten jobbkezén!\nTe\, ki az Atya megigért\nszavával áldod torkaink! \nGyújts fényt érzékeinkbe! Öntsd\nszivünkbe szent szerelmedet!\nS mi bennünk testi gyöngeség\,\nörök erőddel izmosítsd! \nEllenségünket űzzed el!\nS a Békét tüstént hozd közel\,\nelőttünk járva\, mint vezér!\nS kerüljünk mindent\, ami árt. \nÁltalad tudjuk az Atyát\,\ns ismerjük\, adjad\, a Fiút!\nTebenned higyjük Szellemét\nmindakettőnek végtelen. \nEzt teljesítse az Atya\,\ns vele egylényü Egyfia\,\naki veled uralkodik\,\nóh Lélek\, minden századig! \n(Kép forrása: Szentlélek templom – Szatmárnémeti – Paulovics László grafikus\, festőművész alkotása)
URL:https://stuttgarti-katolikusok.de/index.php/esemeny/punkosd-unnepe-heilbronnban/
LOCATION:Heilig Geist Kirche\, Heilbronner-Weg 17\, Heilbronn-Horkheim\, Baden-Württemberg\, 74081\, Németország
CATEGORIES:Szentmise
ATTACH;FMTTYPE=image/jpeg:https://stuttgarti-katolikusok.de/wp-content/uploads/2021/05/heiliggeist-aussenansicht.jpg
END:VEVENT
END:VCALENDAR